BEGIN:VCALENDAR
VERSION:2.0
PRODID:-//jEvents 2.0 for Joomla//EN
CALSCALE:GREGORIAN
METHOD:PUBLISH
BEGIN:VEVENT
UID:68e250c77b68fcdfb1818d2332062987
CATEGORIES:Polar Conferences, Meetings and Events
CREATED:20180321T115330
SUMMARY:International Tundra Experiment 19th Open Science Meeting
LOCATION:Stirling\, Scotland\, UK
DESCRIPTION:Organizers invite registration for the International Tundra Experiment's (I
 TEX) 19th Open Science Meeting. This meeting will convene 25-27 April 2018 
 in Stirling, Scotland, United Kingdom.\nThe main scientific themes of the m
 eeting will include:\n\n - Rates of change and whole‐ecosystem processes,\n
  - Plant functional traits/"functional diversity change",\n - Tundra data s
 ynthesis (e.g. including up‐scaling),\n - Microbial ecology (including plan
 t‐soil interactions);\n - ITEX protocol development, and\n - Other (to refl
 ect submitted abstracts).Poster submissions are welcome until the registrat
 ion deadline.\nRegistration is limited to 80 participants.\nRegistration de
 adline: Friday, 23 March 2018\nFor more information, including the conferen
 ce program and registration, go to:\n\nFor questions, contact:\nPhilip Wook
 ey\nEmail: This email address is being protected from spambots. You need Ja
 vaScript enabled to view it.
				document.getElementById('cloakfdb35abc0f2a
 23a3160bb5f7d98032a7').innerHTML = '';
				var prefix = '&#109;a' + 'i&#108
 ;' + '&#116;o';
				var path = 'hr' + 'ef' + '=';
				var addyfdb35abc0f2a2
 3a3160bb5f7d98032a7 = 'ph&#105;l&#105;p.w&#111;&#111;k&#101;y1' + '&#64;';

 				addyfdb35abc0f2a23a3160bb5f7d98032a7 = addyfdb35abc0f2a23a3160bb5f7d980
 32a7 + 'st&#105;r' + '&#46;' + '&#97;c' + '&#46;' + '&#117;k';
				var addy
 _textfdb35abc0f2a23a3160bb5f7d98032a7 = 'ph&#105;l&#105;p.w&#111;&#111;k&#1
 01;y1' + '&#64;' + 'st&#105;r' + '&#46;' + '&#97;c' + '&#46;' + '&#117;k';d
 ocument.getElementById('cloakfdb35abc0f2a23a3160bb5f7d98032a7').innerHTML +
 = '<a ' + path + '\'' + prefix + ':' + addyfdb35abc0f2a23a3160bb5f7d98032a7
  + '\'>'+addy_textfdb35abc0f2a23a3160bb5f7d98032a7+'';
		 \nPhone: +44 (0) 
 1786 466967\nRobert D. Hollister\nEmail: This email address is being protec
 ted from spambots. You need JavaScript enabled to view it.
				document.get
 ElementById('cloak15b4f454a5eda2d7e8396423705b4fea').innerHTML = '';
				va
 r prefix = '&#109;a' + 'i&#108;' + '&#116;o';
				var path = 'hr' + 'ef' + 
 '=';
				var addy15b4f454a5eda2d7e8396423705b4fea = 'h&#111;ll&#105;str' + 
 '&#64;';
				addy15b4f454a5eda2d7e8396423705b4fea = addy15b4f454a5eda2d7e83
 96423705b4fea + 'gvs&#117;' + '&#46;' + '&#101;d&#117;';
				var addy_text1
 5b4f454a5eda2d7e8396423705b4fea = 'h&#111;ll&#105;str' + '&#64;' + 'gvs&#11
 7;' + '&#46;' + '&#101;d&#117;';document.getElementById('cloak15b4f454a5eda
 2d7e8396423705b4fea').innerHTML += '<a ' + path + '\'' + prefix + ':' + add
 y15b4f454a5eda2d7e8396423705b4fea + '\'>'+addy_text15b4f454a5eda2d7e8396423
 705b4fea+'';
		 \nPhone: 616-331-8582\n
X-ALT-DESC;FMTTYPE=text/html:<p>Organizers invite registration for the International Tundra Experiment's
  (ITEX) 19th Open Science Meeting. This meeting will convene <strong>25-27 
 April 2018 in Stirling, Scotland, United Kingdom</strong>.</p><p>The main s
 cientific themes of the meeting will include:</p><ul><li>Rates of change an
 d whole‐ecosystem processes,</li><li>Plant functional traits/"functional di
 versity change",</li><li>Tundra data synthesis (e.g. including up‐scaling),
 </li><li>Microbial ecology (including plant‐soil interactions);</li><li>ITE
 X protocol development, and</li><li>Other (to reflect submitted abstracts).
 </li></ul><p>Poster submissions are welcome until the registration deadline
 .</p><p>Registration is limited to 80 participants.</p><p><strong>Registrat
 ion deadline: Friday, 23 March 2018</strong></p><p>For more information, in
 cluding the conference program and registration, go to:<br /><a href="https
 ://www.arcus.org/sites/all/modules/civicrm/extern/url.php?u=8130&amp;qid=10
 96230" target="_blank" rel="noopener">Meeting homepage</a></p><p>For questi
 ons, contact:<br />Philip Wookey<br />Email: <span id="cloakfdb35abc0f2a23a
 3160bb5f7d98032a7">This email address is being protected from spambots. You
  need JavaScript enabled to view it.</span><script type='text/javascript'>

 				document.getElementById('cloakfdb35abc0f2a23a3160bb5f7d98032a7').innerH
 TML = '';
				var prefix = '&#109;a' + 'i&#108;' + '&#116;o';
				var path 
 = 'hr' + 'ef' + '=';
				var addyfdb35abc0f2a23a3160bb5f7d98032a7 = 'ph&#10
 5;l&#105;p.w&#111;&#111;k&#101;y1' + '&#64;';
				addyfdb35abc0f2a23a3160bb
 5f7d98032a7 = addyfdb35abc0f2a23a3160bb5f7d98032a7 + 'st&#105;r' + '&#46;' 
 + '&#97;c' + '&#46;' + '&#117;k';
				var addy_textfdb35abc0f2a23a3160bb5f7
 d98032a7 = 'ph&#105;l&#105;p.w&#111;&#111;k&#101;y1' + '&#64;' + 'st&#105;r
 ' + '&#46;' + '&#97;c' + '&#46;' + '&#117;k';document.getElementById('cloak
 fdb35abc0f2a23a3160bb5f7d98032a7').innerHTML += '<a ' + path + '\'' + prefi
 x + ':' + addyfdb35abc0f2a23a3160bb5f7d98032a7 + '\'>'+addy_textfdb35abc0f2
 a23a3160bb5f7d98032a7+'<\/a>';
		</script> <br />Phone: +44 (0) 1786 466967
 </p><p>Robert D. Hollister<br />Email: <span id="cloak15b4f454a5eda2d7e8396
 423705b4fea">This email address is being protected from spambots. You need 
 JavaScript enabled to view it.</span><script type='text/javascript'>
				do
 cument.getElementById('cloak15b4f454a5eda2d7e8396423705b4fea').innerHTML = 
 '';
				var prefix = '&#109;a' + 'i&#108;' + '&#116;o';
				var path = 'hr'
  + 'ef' + '=';
				var addy15b4f454a5eda2d7e8396423705b4fea = 'h&#111;ll&#1
 05;str' + '&#64;';
				addy15b4f454a5eda2d7e8396423705b4fea = addy15b4f454a
 5eda2d7e8396423705b4fea + 'gvs&#117;' + '&#46;' + '&#101;d&#117;';
				var 
 addy_text15b4f454a5eda2d7e8396423705b4fea = 'h&#111;ll&#105;str' + '&#64;' 
 + 'gvs&#117;' + '&#46;' + '&#101;d&#117;';document.getElementById('cloak15b
 4f454a5eda2d7e8396423705b4fea').innerHTML += '<a ' + path + '\'' + prefix +
  ':' + addy15b4f454a5eda2d7e8396423705b4fea + '\'>'+addy_text15b4f454a5eda2
 d7e8396423705b4fea+'<\/a>';
		</script> <br />Phone: 616-331-8582</p>
DTSTAMP:20260420T012814Z
DTSTART;TZID=UTC;VALUE=DATE:20180425
DTEND;TZID=UTC;VALUE=DATE:20180428
SEQUENCE:0
TRANSP:OPAQUE
END:VEVENT
END:VCALENDAR