BEGIN:VCALENDAR
VERSION:2.0
PRODID:-//jEvents 2.0 for Joomla//EN
CALSCALE:GREGORIAN
METHOD:PUBLISH
BEGIN:VEVENT
UID:2638fe8515752e4cbc58a374b8c53dab
CATEGORIES:Polar Conferences, Meetings and Events
CREATED:20180406T090136
SUMMARY:IASC "Cutting barriers in snow knowledge" Workshop
LOCATION:Vienna\, Austria
DESCRIPTION:<p><strong>IASC "Cutting barriers in snow knowledge" Workshop, 8th of April
  2018 in Vienna, 13:00-17:30</strong></p><p><strong>Venue:</strong> Departm
 ent of Social and Cultural Anthropology, Neues Institutsgebäude (NIG), 4th 
 floor, Universitätsstraße 7, 1010 Vienna.</p><p>Snow is a key element of th
 e arctic regions. Most projects of all IASC working groups are directly or 
 indirectly affected by snow. The overarching goal of this cross-cutting IAS
 C initiative ("task force") is to establish an improved common knowledge on
  snow related processes by linking snow-interested specialists in the diffe
 rent fields by different means. A second goal is to establish a snow measur
 ing network at INTERACT-stations, especially for non-standard snow properti
 es (stratigraphy).</p><p><strong>Topics to discuss:</strong> <br />- How to
  improve methods and standardized protocols to measure snowpack physical an
 d chemical properties <br />- Implementation of a comprehensive program of 
 measurement of key snowpack properties ( physical and chemical) at INTERACT
  stations, as well as to super sites (CryoNet) and IASOA-stations. <br />- 
 coordination with T-MOSAIC</p><p>Please register at: <a href="https://goo.g
 l/SBa4SUÂ&nbsp;">https://goo.gl/SBa4SU&nbsp;</a> <br />Please register by 3
 1st of March!</p><p>Limited travel support is available.</p>
CONTACT:Martin Schneebeli, Program Chair: This email address is being protected from spambots. You need JavaScript enabled to view it.
				document.getElementById('cloak1dba836078b1108d6f92267fdf7c91c4').innerHTML = '';
				var prefix = '&#109;a' + 'i&#108;' + '&#116;o';
				var path = 'hr' + 'ef' + '=';
				var addy1dba836078b1108d6f92267fdf7c91c4 = 'schn&#101;&#101;b&#101;l&#105;' + '&#64;';
				addy1dba836078b1108d6f92267fdf7c91c4 = addy1dba836078b1108d6f92267fdf7c91c4 + 'slf' + '&#46;' + 'ch';
				var addy_text1dba836078b1108d6f92267fdf7c91c4 = 'schn&#101;&#101;b&#101;l&#105;' + '&#64;' + 'slf' + '&#46;' + 'ch';document.getElementById('cloak1dba836078b1108d6f92267fdf7c91c4').innerHTML += '<a ' + path + '\'' + prefix + ':' + addy1dba836078b1108d6f92267fdf7c91c4 + '\'>'+addy_text1dba836078b1108d6f92267fdf7c91c4+'';
		 or Annett Bartsch, Local Organizer: This email address is being protected from spambots. You need JavaScript enabled to view it.
				document.getElementById('cloak10cad5617f0e7c65de496b182acd2002').innerHTML = '';
				var prefix = '&#109;a' + 'i&#108;' + '&#116;o';
				var path = 'hr' + 'ef' + '=';
				var addy10cad5617f0e7c65de496b182acd2002 = '&#97;nn&#101;tt.b&#97;rtsch' + '&#64;';
				addy10cad5617f0e7c65de496b182acd2002 = addy10cad5617f0e7c65de496b182acd2002 + 'p&#111;l&#97;rr&#101;s&#101;&#97;rch' + '&#46;' + '&#97;t';
				var addy_text10cad5617f0e7c65de496b182acd2002 = '&#97;nn&#101;tt.b&#97;rtsch' + '&#64;' + 'p&#111;l&#97;rr&#101;s&#101;&#97;rch' + '&#46;' + '&#97;t';document.getElementById('cloak10cad5617f0e7c65de496b182acd2002').innerHTML += '<a ' + path + '\'' + prefix + ':' + addy10cad5617f0e7c65de496b182acd2002 + '\'>'+addy_text10cad5617f0e7c65de496b182acd2002+'';
		
DTSTAMP:20260419T182512Z
DTSTART;TZID=UTC:20180408T130000
DTEND;TZID=UTC:20180408T173000
SEQUENCE:0
TRANSP:OPAQUE
END:VEVENT
END:VCALENDAR