BEGIN:VCALENDAR
VERSION:2.0
PRODID:-//jEvents 2.0 for Joomla//EN
CALSCALE:GREGORIAN
METHOD:PUBLISH
BEGIN:VEVENT
UID:bc27597ff0e372b1da8d518d8b775b4b
CATEGORIES:Polar Conferences, Meetings and Events
CREATED:20180406T091842
SUMMARY:UAS4Enviro Conference
LOCATION:Split\, Croatia
DESCRIPTION:UAS for Environmental Applications Conference 2018, 27-29 June, Split (Croa
 tia)\nThe UAS4ENVIRO 2018 conference will be held in Split, Croatia from 27
 -29 June 2018. This event follows previously successful meetings in Portuga
 l (2017), Worcester (2016), Liverpool (2015), Exeter (2014) and Worcester (
 2013). This meeting forms the annual conference of the RSPSoc's UAV special
  interest group and we would love to see you there!\n \nAbstract due date i
 s 01 April 2018. Please submit online: http://uas4enviro2018.fesb.unist.hr/
  \n\nTwo keynote speakers:\nDr. Robert J. Moorhead II, Professor, Mississip
 pi State University, USA\nDr. Hermann Hellwagner, Professor, Institute of I
 nformation Technology, Klagenfurt University, Austria\n \nAuthors will have
  an option to submit full versions of their papers to a special issue of th
 e International Journal of Remote Sensing (IJRS) - Drones section. \n \nPle
 ase contact Anita Simic for further information: This email address is bein
 g protected from spambots. You need JavaScript enabled to view it.
				docu
 ment.getElementById('cloaka65eca4f38f6c3c2dd06ae8106eb73fa').innerHTML = ''
 ;
				var prefix = '&#109;a' + 'i&#108;' + '&#116;o';
				var path = 'hr' +
  'ef' + '=';
				var addya65eca4f38f6c3c2dd06ae8106eb73fa = '&#97;s&#105;m&
 #105;c.c&#97;n&#97;d&#97;' + '&#64;';
				addya65eca4f38f6c3c2dd06ae8106eb7
 3fa = addya65eca4f38f6c3c2dd06ae8106eb73fa + 'gm&#97;&#105;l' + '&#46;' + '
 c&#111;m';
				var addy_texta65eca4f38f6c3c2dd06ae8106eb73fa = '&#97;s&#105
 ;m&#105;c.c&#97;n&#97;d&#97;' + '&#64;' + 'gm&#97;&#105;l' + '&#46;' + 'c&#
 111;m';document.getElementById('cloaka65eca4f38f6c3c2dd06ae8106eb73fa').inn
 erHTML += '<a ' + path + '\'' + prefix + ':' + addya65eca4f38f6c3c2dd06ae81
 06eb73fa + '\'>'+addy_texta65eca4f38f6c3c2dd06ae8106eb73fa+'';
		 \nWebsite
  at: <a href="http://uas4enviro2018.fesb.unist.hr/">http://uas4enviro2018.f
 esb.unist.hr/</a> \n
X-ALT-DESC;FMTTYPE=text/html:<p><strong>UAS for Environmental Applications Conference 2018, 27-29 June, 
 Split (Croatia)</strong></p><p>The UAS4ENVIRO 2018 conference will be held 
 in <strong>Split, Croatia from 27-29 June 2018</strong>. This event follows
  previously successful meetings in Portugal (2017), Worcester (2016), Liver
 pool (2015), Exeter (2014) and Worcester (2013). This meeting forms the ann
 ual conference of the RSPSoc's UAV special interest group and we would love
  to see you there!<br /> <br />Abstract due date is <strong>01 April 2018</
 strong>. Please submit online: <a href="http://uas4enviro2018.fesb.unist.hr
 /">http://uas4enviro2018.fesb.unist.hr/</a> <br /><br /><strong>Two keynote
  speakers:</strong><br />Dr. Robert J. Moorhead II, Professor, Mississippi 
 State University, USA<br />Dr. Hermann Hellwagner, Professor, Institute of 
 Information Technology, Klagenfurt University, Austria<br /> <br />Authors 
 will have an option to submit full versions of their papers to a special is
 sue of the International Journal of Remote Sensing (IJRS) - Drones section.
  <br /> <br />Please contact Anita Simic for further information: <span id=
 "cloaka65eca4f38f6c3c2dd06ae8106eb73fa">This email address is being protect
 ed from spambots. You need JavaScript enabled to view it.</span><script typ
 e='text/javascript'>
				document.getElementById('cloaka65eca4f38f6c3c2dd06
 ae8106eb73fa').innerHTML = '';
				var prefix = '&#109;a' + 'i&#108;' + '&#
 116;o';
				var path = 'hr' + 'ef' + '=';
				var addya65eca4f38f6c3c2dd06a
 e8106eb73fa = '&#97;s&#105;m&#105;c.c&#97;n&#97;d&#97;' + '&#64;';
				addy
 a65eca4f38f6c3c2dd06ae8106eb73fa = addya65eca4f38f6c3c2dd06ae8106eb73fa + '
 gm&#97;&#105;l' + '&#46;' + 'c&#111;m';
				var addy_texta65eca4f38f6c3c2dd
 06ae8106eb73fa = '&#97;s&#105;m&#105;c.c&#97;n&#97;d&#97;' + '&#64;' + 'gm&
 #97;&#105;l' + '&#46;' + 'c&#111;m';document.getElementById('cloaka65eca4f3
 8f6c3c2dd06ae8106eb73fa').innerHTML += '<a ' + path + '\'' + prefix + ':' +
  addya65eca4f38f6c3c2dd06ae8106eb73fa + '\'>'+addy_texta65eca4f38f6c3c2dd06
 ae8106eb73fa+'<\/a>';
		</script> <br />Website at: <a href="http://uas4env
 iro2018.fesb.unist.hr/">http://uas4enviro2018.fesb.unist.hr/</a> </p>
DTSTAMP:20260419T150739Z
DTSTART;TZID=UTC;VALUE=DATE:20180627
DTEND;TZID=UTC;VALUE=DATE:20180630
SEQUENCE:0
TRANSP:OPAQUE
END:VEVENT
END:VCALENDAR