BEGIN:VCALENDAR
VERSION:2.0
PRODID:-//jEvents 2.0 for Joomla//EN
CALSCALE:GREGORIAN
METHOD:PUBLISH
BEGIN:VEVENT
UID:301493e69931737a4b3bfbb0b31d9c00
CATEGORIES:Polar Conferences, Meetings and Events
CREATED:20180406T092425
SUMMARY:NET project (North Exploring Treviso)
LOCATION:Treviso (Italy)\, Svalbard (Norway)
DESCRIPTION:NET is a school project in which ten students from the Istituto Tecnico Ind
 ustriale Statale “Max Planck” high school in Treviso (Italy) become involve
 d in scientific research about climate change in the Arctic environment. Th
 e purpose of the project is to expose students to the various issues and te
 chniques involved in climate change research at the poles, and how knowledg
 e gained from polar research on climate change can inform climate change de
 cisions back home in Italy.\nFollowing the field portion of the work, the s
 tudents will gain experience in science communication and outreach by prepa
 ring presentations of their experience that will be shared with the public.
  In order to secure the last funding needed to support this project, NET is
  sponsoring a crowdfunding campaign, more information about which can be fo
 und at the following website (in Italian) https://schoolraising.it/progetti
 /net/.\nThe start / end dates are not necessarily relevant here, as this is
  an ongoing project. The field portion is scheduled for July 2018, and the 
 science communication portion will take place in late 2018 / 2019, but upda
 tes will be provided accordingly.\nNews article about the NET project: <a h
 ref="http://tribunatreviso.gelocal.it/treviso/cronaca/2018/03/10/news/dieci
 -studenti-di-treviso-sull-artico-per-analizzare-i-ghiacci-1.16574595">http:
 //tribunatreviso.gelocal.it/treviso/cronaca/2018/03/10/news/dieci-studenti-
 di-treviso-sull-artico-per-analizzare-i-ghiacci-1.16574595</a> \nFacebook p
 age: https://www.facebook.com/NETNorthExploringTreviso/ Instagram: https://
 www.instagram.com/progettonet_2k18/ \n
X-ALT-DESC;FMTTYPE=text/html:<p>NET is a school project in which ten students from the Istituto Tecnico 
 Industriale Statale “Max Planck” high school in Treviso (Italy) become invo
 lved in scientific research about climate change in the Arctic environment.
  The purpose of the project is to expose students to the various issues and
  techniques involved in climate change research at the poles, and how knowl
 edge gained from polar research on climate change can inform climate change
  decisions back home in Italy.</p><p>Following the field portion of the wor
 k, the students will gain experience in science communication and outreach 
 by preparing presentations of their experience that will be shared with the
  public. In order to secure the last funding needed to support this project
 , NET is sponsoring a crowdfunding campaign, more information about which c
 an be found at the following website (in Italian) <a href="https://schoolra
 ising.it/progetti/net/">https://schoolraising.it/progetti/net/</a>.</p><p><
 em>The start / end dates are not necessarily relevant here, as this is an o
 ngoing project. The field portion is scheduled for July 2018, and the scien
 ce communication portion will take place in late 2018 / 2019, but updates w
 ill be provided accordingly.</em></p><p>News article about the NET project:
  <a href="http://tribunatreviso.gelocal.it/treviso/cronaca/2018/03/10/news/
 dieci-studenti-di-treviso-sull-artico-per-analizzare-i-ghiacci-1.16574595">
 http://tribunatreviso.gelocal.it/treviso/cronaca/2018/03/10/news/dieci-stud
 enti-di-treviso-sull-artico-per-analizzare-i-ghiacci-1.16574595</a> </p><p>
 Facebook page: https://www.facebook.com/NETNorthExploringTreviso/ Instagram
 : <a href="https://www.instagram.com/progettonet_2k18/">https://www.instagr
 am.com/progettonet_2k18/</a> </p>
CONTACT:Andrea Spolaor, This email address is being protected from spambots. You need JavaScript enabled to view it.
				document.getElementById('cloak69954c2257adcffcffcc758c0d5e71f2').innerHTML = '';
				var prefix = '&#109;a' + 'i&#108;' + '&#116;o';
				var path = 'hr' + 'ef' + '=';
				var addy69954c2257adcffcffcc758c0d5e71f2 = '&#97;ndr&#101;&#97;.sp&#111;l&#97;&#111;r' + '&#64;';
				addy69954c2257adcffcffcc758c0d5e71f2 = addy69954c2257adcffcffcc758c0d5e71f2 + '&#117;n&#105;v&#101;' + '&#46;' + '&#105;t';
				var addy_text69954c2257adcffcffcc758c0d5e71f2 = '&#97;ndr&#101;&#97;.sp&#111;l&#97;&#111;r' + '&#64;' + '&#117;n&#105;v&#101;' + '&#46;' + '&#105;t';document.getElementById('cloak69954c2257adcffcffcc758c0d5e71f2').innerHTML += '<a ' + path + '\'' + prefix + ':' + addy69954c2257adcffcffcc758c0d5e71f2 + '\'>'+addy_text69954c2257adcffcffcc758c0d5e71f2+'';
		
DTSTAMP:20260421T180636Z
DTSTART;TZID=UTC:20180701T120000
SEQUENCE:0
TRANSP:OPAQUE
END:VEVENT
END:VCALENDAR