BEGIN:VCALENDAR
VERSION:2.0
PRODID:-//jEvents 2.0 for Joomla//EN
CALSCALE:GREGORIAN
METHOD:PUBLISH
BEGIN:VEVENT
UID:9fe6983cb8a936281899d51543b7a878
CATEGORIES:APECS Events
CREATED:20180504T171235
SUMMARY:APECS Webinar: Research ethics: boundaries of the “field” and limits of responsibility
LOCATION:Online
DESCRIPTION:For more information see https://www.apecs.is/news/apecs-news/2477-two-upco
 ming-webinars-on-research-ethics.html (news/apecs-news/2477-two-upcoming-we
 binars-on-research-ethics.html)\nWebinar 2: Lidia Rakhmanova, PhD in Sociol
 ogy, Sociologist of the Center of Sociological Research, the State Hermitag
 e Museum, associated member of the Sociological Institute of FCTAS RAS\nWhe
 n: Thursday 10 May, 13:00 GMT (16:00 Moscow) Register here! \nPlease note t
 his webinar will be held in Russian.\n
X-ALT-DESC;FMTTYPE=text/html:<p>For more information see&nbsp;<a href="news/apecs-news/2477-two-upcoming
 -webinars-on-research-ethics.html">https://www.apecs.is/news/apecs-news/247
 7-two-upcoming-webinars-on-research-ethics.html</a></p><p>Webinar 2: Lidia 
 Rakhmanova, PhD in Sociology, Sociologist of the Center of Sociological Res
 earch, the State Hermitage Museum, associated member of the Sociological In
 stitute of FCTAS RAS<br />When: Thursday 10 May, 13:00 GMT (16:00 Moscow) R
 egister here! <br />Please note this webinar will be held in Russian.</p>
CONTACT:This email address is being protected from spambots. You need JavaScript enabled to view it.
				document.getElementById('cloakfa973943e1f36c6f10a4e5ba3a5de04d').innerHTML = '';
				var prefix = '&#109;a' + 'i&#108;' + '&#116;o';
				var path = 'hr' + 'ef' + '=';
				var addyfa973943e1f36c6f10a4e5ba3a5de04d = '&#105;nf&#111;' + '&#64;';
				addyfa973943e1f36c6f10a4e5ba3a5de04d = addyfa973943e1f36c6f10a4e5ba3a5de04d + '&#97;p&#101;cs' + '&#46;' + '&#105;s';
				var addy_textfa973943e1f36c6f10a4e5ba3a5de04d = '&#105;nf&#111;' + '&#64;' + '&#97;p&#101;cs' + '&#46;' + '&#105;s';document.getElementById('cloakfa973943e1f36c6f10a4e5ba3a5de04d').innerHTML += '<a ' + path + '\'' + prefix + ':' + addyfa973943e1f36c6f10a4e5ba3a5de04d + '\'>'+addy_textfa973943e1f36c6f10a4e5ba3a5de04d+'';
		
DTSTAMP:20260420T112553Z
DTSTART;TZID=UTC;VALUE=DATE:20180510
DTEND;TZID=UTC;VALUE=DATE:20180511
SEQUENCE:0
TRANSP:OPAQUE
END:VEVENT
END:VCALENDAR