BEGIN:VCALENDAR
VERSION:2.0
PRODID:-//jEvents 2.0 for Joomla//EN
CALSCALE:GREGORIAN
METHOD:PUBLISH
BEGIN:VEVENT
UID:b9186336c64b8f1f10f1176c38c0988e
CATEGORIES:Polar Conferences, Meetings and Events
CREATED:20180517T133003
SUMMARY:Alaska National Lab Day
LOCATION:Fairbanks\, Alaska\, USA
DESCRIPTION:<p>Organizers at the University of Alaska Fairbanks (UAF) invite registrati
 on for Alaska National Lab Day. This two-day event will convene <strong>30-
 31 May 2018 in Fairbanks, Alaska</strong>.</p><p>During this event, researc
 h scientists and lab directors from the 17 U.S. Department of Energy nation
 al laboratories will co-lead conversations about cutting-edge research impo
 rtant to Alaska and the world. Discussions will focus on the following them
 es:</p><ul><li>Addressing the energy field of the future,</li><li>Defense e
 nergy systems in the North,</li><li>Natural hazards and aerospace/defense,<
 /li><li>Empowering Alaska's entrepreneurs,</li><li>Navigating the changing 
 Arctic, and</li><li>Developing local and global energy solutions.</li></ul>
 <p>Participants that arrive early may participant in events occurring on Tu
 esday, 29 May, including touring UAF’s Arctic research facilities, an eveni
 ng of TED-style talks, and learning how Alaska is leading the way in microg
 rid technology that can provide global energy solutions.</p><p><a href="htt
 ps://www.arcus.org/sites/all/modules/civicrm/extern/url.php?u=9103&amp;qid=
 1327251" target="_blank" rel="noopener">More Information, Event Agenda, and
  List of SpeakersMore Information, Event Agenda, and List of Speakers</a></
 p><p><a href="https://www.arcus.org/sites/all/modules/civicrm/extern/url.ph
 p?u=9104&amp;qid=1327251" target="_blank" rel="noopener">Register OnlineReg
 ister Online</a></p><p>For more information, contact:<br />Email: <span id=
 "cloakb354e07d17a1308691cde84251102bb1">This email address is being protect
 ed from spambots. You need JavaScript enabled to view it.</span><script typ
 e='text/javascript'>
				document.getElementById('cloakb354e07d17a1308691cd
 e84251102bb1').innerHTML = '';
				var prefix = '&#109;a' + 'i&#108;' + '&#
 116;o';
				var path = 'hr' + 'ef' + '=';
				var addyb354e07d17a1308691cde
 84251102bb1 = '&#117;&#97;f-&#101;v&#101;nts' + '&#64;';
				addyb354e07d17
 a1308691cde84251102bb1 = addyb354e07d17a1308691cde84251102bb1 + '&#97;l&#97
 ;sk&#97;' + '&#46;' + '&#101;d&#117;';
				var addy_textb354e07d17a1308691c
 de84251102bb1 = '&#117;&#97;f-&#101;v&#101;nts' + '&#64;' + '&#97;l&#97;sk&
 #97;' + '&#46;' + '&#101;d&#117;';document.getElementById('cloakb354e07d17a
 1308691cde84251102bb1').innerHTML += '<a ' + path + '\'' + prefix + ':' + a
 ddyb354e07d17a1308691cde84251102bb1 + '\'>'+addy_textb354e07d17a1308691cde8
 4251102bb1+'<\/a>';
		</script> </p>
DTSTAMP:20260419T225056Z
DTSTART;TZID=UTC;VALUE=DATE:20180530
DTEND;TZID=UTC;VALUE=DATE:20180601
SEQUENCE:0
TRANSP:OPAQUE
END:VEVENT
END:VCALENDAR