BEGIN:VCALENDAR
VERSION:2.0
PRODID:-//jEvents 2.0 for Joomla//EN
CALSCALE:GREGORIAN
METHOD:PUBLISH
BEGIN:VEVENT
UID:0e739f2452a3751c4a09a36b73f0f0fd
CATEGORIES:Field and Summer Schools
CREATED:20180711T145932
SUMMARY:3rd edition of the postgraduate course "Glaciology of the Southern Andes"
LOCATION:Mendoza\, Argentina
DESCRIPTION:<p>We are glad to announce the <strong>3rd edition of the postgraduate cour
 se Glaciology of the Southern Andes</strong>, by Instituto Argentino de Niv
 ología, Glaciología y Ciencias Ambientales (IANIGLA- CONICET), which will b
 e held in <strong>Mendoza, Argentina, from 6 to 10 of August 2018</strong>.
 </p><p><strong>APPLICATION DEADLINE: 18 July 2018</strong></p><p>The course
  is intended to provide a comprehensive overview of the physics of glaciers
  with examples from the Southern Andes. Due to his extent, the Southern And
 es (22°S-54°S) span a broad range of both latitude and altitude. Which dict
 ates an extensive variety of temperature and precipitation conditions, resu
 lting in a significant climatic diversity that hosts numerous and different
  types of glaciers. We will exploit these differences to get a better under
 standing of the importance of glaciers and glacier changes in local to regi
 onal human activities.</p><p><strong>Key topics include:</strong></p><ul><l
 i>Climatology of the Southern Andes</li><li>The history of glaciology and g
 laciological discoveries along the Southern Andes</li><li>Glacier mass bala
 nce and hydrology in the Southern Andes</li><li>Glacier dynamics, surging a
 nd tidewater glaciers in the Southern Andes</li><li>Remote Sensing in glaci
 ology</li><li>Glacier geology along the Southern Andes</li></ul><p>During t
 he course, lectures will be given each morning, and the concepts will we co
 nsolidate with computational exercises each afternoon, based on examples fr
 om the different climatic regions of the Southern Andes. Also, a field excu
 rsion of two days to the Parque Provincial Aconcagua will be organized in w
 hich all the student could get a closer look of the field techniques to nee
 d to retrieve glacier mass balance and dynamic data.</p><p>The course is ta
 ught in Spanish by glaciologists and climatologists from IANIGLA and is int
 ended for postgraduate students with research's subject related with glacio
 logy. Also, graduate students or technicians from public or private agencie
 s related to the management of mountain hydrology or natural resource manag
 ement of the Southern Andes are welcome to apply.</p><p>To apply, please fi
 ll the application form and send it with a copy of your CV in pdf (3 pages 
 maximum) to <span id="cloak336fb47d72725b55c353da79999f426e"><span id="cloa
 kb9f7c461d73e30e88087d2c339992814">This email address is being protected fr
 om spambots. You need JavaScript enabled to view it.</span><script type='te
 xt/javascript'>
				document.getElementById('cloakb9f7c461d73e30e88087d2c33
 9992814').innerHTML = '';
				var prefix = '&#109;a' + 'i&#108;' + '&#116;o
 ';
				var path = 'hr' + 'ef' + '=';
				var addyb9f7c461d73e30e88087d2c339
 992814 = 'c&#117;rs&#111;s' + '&#64;';
				addyb9f7c461d73e30e88087d2c33999
 2814 = addyb9f7c461d73e30e88087d2c339992814 + 'm&#101;nd&#111;z&#97;-c&#111
 ;n&#105;c&#101;t' + '&#46;' + 'g&#111;b' + '&#46;' + '&#97;r';
				var addy
 _textb9f7c461d73e30e88087d2c339992814 = 'c&#117;rs&#111;s' + '&#64;' + 'm&#
 101;nd&#111;z&#97;-c&#111;n&#105;c&#101;t' + '&#46;' + 'g&#111;b' + '&#46;'
  + '&#97;r';document.getElementById('cloakb9f7c461d73e30e88087d2c339992814'
 ).innerHTML += '<a ' + path + '\'' + prefix + ':' + addyb9f7c461d73e30e8808
 7d2c339992814 + '\'>'+addy_textb9f7c461d73e30e88087d2c339992814+'<\/a>';
		
 </script></span></p><p>Further information and application form at: <a href
 ="https://www.mendoza-conicet.gob.ar/portal/paginas/index/glaciologia-de-lo
 s-andes-del-sur">https://www.mendoza-conicet.gob.ar/portal/paginas/index/gl
 aciologia-de-los-andes-del-sur</a></p>
DTSTAMP:20260419T194119Z
DTSTART;TZID=UTC;VALUE=DATE:20180806
DTEND;TZID=UTC;VALUE=DATE:20180811
SEQUENCE:0
TRANSP:OPAQUE
END:VEVENT
END:VCALENDAR