BEGIN:VCALENDAR
VERSION:2.0
PRODID:-//jEvents 2.0 for Joomla//EN
CALSCALE:GREGORIAN
METHOD:PUBLISH
BEGIN:VEVENT
UID:8bd146cbfc445a263f24b6954380afe3
CATEGORIES:Polar Conferences, Meetings and Events
CREATED:20180814T083619
SUMMARY:Circumpolar Agriculture Conference
LOCATION:Rovaniemi\, Finland
DESCRIPTION:Abstract submission deadline: 17 September 2018 Extended abstract submissio
 n deadline: 29 October 2018\nEarly-bird registration deadline: 30 November 
 2018\nRegistration deadline: 15 February 2019\nFor more information, go to:
 \n\nOrganizers invite abstract submissions and registration for the 10th Ci
 rcumpolar Agriculture Conference. This conference will convene 13-15 March 
 2019 in Rovaniemi, Finland.\nThe theme of this year’s conference is New Thi
 nking about Local Agriculture in the Circumpolar Arctic - Best Practices, I
 nnovations, and Perspectives. This conference will address agriculture, foo
 d production, and rural development in the northern areas, as well as the q
 uality of Arctic foods, local profitability, and business opportunities. Th
 e conference will include discussions on the versatile meanings of circumpo
 lar agriculture and the related challenges and opportunities. The importanc
 e of food security and sustainability in differing regions and countries wi
 ll also be discussed.\nSessions will examine best practices and solutions i
 n the utilization of animal and plant resources, local breeds, reindeer her
 ding, small-scale farming, and non-timber forest products.\nFor information
  about abstract submission, including a list of topics, go to:\n<a href="ht
 tps://www.arcus.org/sites/all/modules/civicrm/extern/url.php?u=10692&amp;qi
 d=1646350">Call for Abstracts</a>\nFor registration information, go to:\n\n
X-ALT-DESC;FMTTYPE=text/html:<p><em></em><span style="font-size: 14pt;"></span><span style="font-size: 1
 2pt;"><strong>Abstract submission deadline:</strong> 17 September 2018 <str
 ong>Extended abstract submission deadline: 29 October 2018</strong></span><
 br /><span style="font-size: 12pt;"><strong>Early-bird registration deadlin
 e:</strong> 30 November 2018</span><br /><span style="font-size: 12pt;"><st
 rong>Registration deadline:</strong> 15 February 2019</span></p><p>For more
  information, go to:<br /><a href="https://www.arcus.org/sites/all/modules/
 civicrm/extern/url.php?u=10691&amp;qid=1646350">Conference homepage</a></p>
 <p>Organizers invite abstract submissions and registration for the 10th Cir
 cumpolar Agriculture Conference. This conference will convene 13-15 March 2
 019 in Rovaniemi, Finland.</p><p>The theme of this year’s conference is <em
 >New Thinking about Local Agriculture in the Circumpolar Arctic - Best Prac
 tices, Innovations, and Perspectives</em>. This conference will address agr
 iculture, food production, and rural development in the northern areas, as 
 well as the quality of Arctic foods, local profitability, and business oppo
 rtunities. The conference will include discussions on the versatile meaning
 s of circumpolar agriculture and the related challenges and opportunities. 
 The importance of food security and sustainability in differing regions and
  countries will also be discussed.</p><p>Sessions will examine best practic
 es and solutions in the utilization of animal and plant resources, local br
 eeds, reindeer herding, small-scale farming, and non-timber forest products
 .</p><p>For information about abstract submission, including a list of topi
 cs, go to:<br /><a href="https://www.arcus.org/sites/all/modules/civicrm/ex
 tern/url.php?u=10692&amp;qid=1646350">Call for Abstracts</a></p><p>For regi
 stration information, go to:<br /><a href="https://www.arcus.org/sites/all/
 modules/civicrm/extern/url.php?u=10693&amp;qid=1646350">Conference registra
 tion webpage</a></p>
X-EXTRAINFO:https://www.arcus.org/sites/all/modules/civicrm/extern/url.php?u=10691&amp;
 qid=1646350
DTSTAMP:20260419T213047Z
DTSTART;TZID=UTC;VALUE=DATE:20190313
DTEND;TZID=UTC;VALUE=DATE:20190316
SEQUENCE:0
TRANSP:OPAQUE
END:VEVENT
END:VCALENDAR