BEGIN:VCALENDAR
VERSION:2.0
PRODID:-//jEvents 2.0 for Joomla//EN
CALSCALE:GREGORIAN
METHOD:PUBLISH
BEGIN:VEVENT
UID:67a986ff2a565225e8cb61ae68d41d95
CATEGORIES:Polar Conferences, Meetings and Events
CREATED:20181016T091500
SUMMARY:New Zealand branch of the IGS annual workshop 
LOCATION:Kurow\, New Zealand
DESCRIPTION:<p>The SIRG organising team is delighted to invite international participan
 ts to the 2019 Workshop for New Zealand’s Snow and Ice Research Group (SIRG
 ). Registration is now open at:</p><p><a href="https://www.otago.ac.nz/conf
 erences/sirg-2019/">https://www.otago.ac.nz/conferences/sirg-2019/</a></p><
 p>SIRG is the New Zealand branch of the International Glaciology Society an
 d will hold their annual workshop in Kurow, New Zealand 20-22 Feb 2019. The
  workshop will include presentations from all fields of snow and ice-relate
 d research and submissions from academic, public and industry research inst
 itutions are welcome. All details are at: <a href="https://sirg.org.nz">htt
 ps://sirg.org.nz</a></p><p>Hope to see you there!</p><p>Kind regards<br />T
 he SIRG 2019 organising team</p>
DTSTAMP:20260420T142839Z
DTSTART;TZID=UTC;VALUE=DATE:20190220
DTEND;TZID=UTC;VALUE=DATE:20190223
SEQUENCE:0
TRANSP:OPAQUE
END:VEVENT
END:VCALENDAR