BEGIN:VCALENDAR
VERSION:2.0
PRODID:-//jEvents 2.0 for Joomla//EN
CALSCALE:GREGORIAN
METHOD:PUBLISH
BEGIN:VEVENT
UID:fd19930347981b6256353aab90b5a53f
CATEGORIES:Polar Conferences, Meetings and Events
CREATED:20181022T071637
SUMMARY:ESA Living Planet Symposium
LOCATION:Milan\, Italy
DESCRIPTION:<p>Attracting thousands of scientists and data users, ESA’s Living Planet S
 ymposia are amongst the biggest Earth observation conferences in the world.
  For decades now Earth observation has played a fundamental role in advanci
 ng our understanding of how our planet works and how it is being affected b
 y climate change. While the need to continue to advance our knowledge and m
 onitor global change remains paramount, Earth observation has entered a new
  era where it is playing a key role in a myriad of everyday applications to
  improve daily lives and is also becoming increasingly relevant for the com
 petitive business sector.</p><p>The Living Planet Symposium 2019 promises t
 o be bigger and wider ranging than ever before. The event will not only see
  scientists present their latest findings on Earth’s environment and climat
 e derived from satellite data, but will also focus on Earth observation’s r
 ole in building a sustainable future and a resilient society. Participants 
 will also be able to explore how emerging technologies are revolutionising 
 the use of Earth observation and how business and the economy can benefit f
 rom this new epoch.</p><p><strong>Registration Deadline: 30 April</strong><
 /p><p>For further information, click:&nbsp;<a href="https://lps19.esa.int/N
 ikalWebsitePortal/living-planet-symposium-2019/lps19">https://lps19.esa.int
 /NikalWebsitePortal/living-planet-symposium-2019/lps19</a></p><p>&nbsp;</p>
 <p>Sea Ice Sessions coming up here:</p><p>A2.09 Retrievals of sea ice prope
 rties and processes<br />Sea ice is an important component of the polar sys
 tems and it is changing rapidly. Accurate and systematic observations are r
 equired to better understand and predict sea ice changes. We invite abstrac
 ts about retrievals of sea ice properties and processes from any kind of sa
 tellite remote sensing, or from combinations of satellite and airborne or i
 n-situ observations that can advance our capability to better observe sea i
 ce from space, and to comprise components of near-future polar regions obse
 rving systems.</p>
DTSTAMP:20260419T205015Z
DTSTART;TZID=UTC;VALUE=DATE:20190513
DTEND;TZID=UTC;VALUE=DATE:20190518
SEQUENCE:0
TRANSP:OPAQUE
END:VEVENT
END:VCALENDAR