BEGIN:VCALENDAR
VERSION:2.0
PRODID:-//jEvents 2.0 for Joomla//EN
CALSCALE:GREGORIAN
METHOD:PUBLISH
BEGIN:VEVENT
UID:a9886010f325c03a3fc8fe1d25e58382
CATEGORIES:Field and Summer Schools
CREATED:20181119T161150
SUMMARY:Lautaret pass field work week
LOCATION:Col du Lautaret\, French Alps
DESCRIPTION:<h2 class="entry-title">&nbsp;</h2><p>Every winter, the University Grenoble
  Alpes organizes a training on snow and atmosphere in the field at Col du L
 autaret in the French Alps for the master students of University Grenoble A
 lpes (UGA). This year, the training is open to ~6 international students (m
 aster or first year PhD).</p><p>The program comprises field work by group o
 f 3 persons (6-7h/day) and complementary lectures (1h/day) on the following
  topics:</p><p>- snow stratigraphy in snowpits, snow metamorphism (2x 0.5 d
 ay)</p><p>- snow thermal regime (0.5 day).</p><p>- snow albedo and surface 
 energy budget, micro-meteorology (0.5 day).</p><p>- atmospheric ozone (0.5 
 day).</p><p>- snow optics (0.5 day).</p><p>- data processing and interpreta
 tion (0.5 day)</p><p>This winter the training will be 4 - 9 March 2019 (Mon
 day to Saturday), during the peak of the snow season. 13 students from UGA 
 will attend. The fees are 450€, and include the courses, basic accommodatio
 n in chalets on the site (Jardin alpin du Lautaret) and food (each group is
  responsible for cooking for one day).</p><p>Col du Lautaret is at the alti
 tude of 2100m.a.s.l and climate conditions in March can be harsh (with sust
 ained -15°C and windy as in 2018) or clement (0°C and sunshine as in 2017).
  While all the field activities take place within 100 m around the chalets,
  good health conditions, adequate clothing and some initial experience with
  mountain environment are a prerequisite. Road access to the pass (and the 
 training site) is occasionally closed for a few hours to a full day during 
 snowfall and storm.</p><p>To apply, please send us an email with CV, detail
 s of your master curriculum and motivations not later than&nbsp;<strong>1 D
 ecember 2018</strong>. We will give a response within 3 weeks.</p><p>Jardin
  alpin du Lautaret:&nbsp;<a href="https://www.jardinalpindulautaret.fr/?lan
 guage=en">https://www.jardinalpindulautaret.fr/?language=en</a></p><p>Unive
 rsity Grenoble Alpes:&nbsp;<a href="https://www.univ-grenoble-alpes.fr/">ht
 tps://www.univ-grenoble-alpes.fr/</a></p><p>Training flyer:&nbsp;<a href="h
 ttp://pp.ige-grenoble.fr/pageperso/picardgh/enseignement/lautaret/poster.pd
 f">http://pp.ige-grenoble.fr/pageperso/picardgh/enseignement/lautaret/poste
 r.pdf</a></p><p>Pictures:&nbsp;<a href="https://www.google.com/search?q=col
 +du+lautaret+winter&amp;tbm=isch">https://www.google.com/search?q=col+du+la
 utaret+winter&amp;tbm=isch</a></p><p>For PhD students experienced in snow s
 cience, we recommend to apply to the Snow Science Winter School rather than
  this training:&nbsp;<a href="https://www.slf.ch/en/about-the-slf/events-an
 d-courses/snow-science-winter-school.html">https://www.slf.ch/en/about-the-
 slf/events-and-courses/snow-science-winter-school.html</a></p>
CONTACT:Ghislain Picard: This email address is being protected from spambots. You need JavaScript enabled to view it.
				document.getElementById('cloakef3735560d03044c2d2fccd46d13d9f7').innerHTML = '';
				var prefix = '&#109;a' + 'i&#108;' + '&#116;o';
				var path = 'hr' + 'ef' + '=';
				var addyef3735560d03044c2d2fccd46d13d9f7 = 'gh&#105;sl&#97;&#105;n.p&#105;c&#97;rd' + '&#64;';
				addyef3735560d03044c2d2fccd46d13d9f7 = addyef3735560d03044c2d2fccd46d13d9f7 + '&#117;n&#105;v-gr&#101;n&#111;bl&#101;-&#97;lp&#101;s' + '&#46;' + 'fr';
				var addy_textef3735560d03044c2d2fccd46d13d9f7 = 'gh&#105;sl&#97;&#105;n.p&#105;c&#97;rd' + '&#64;' + '&#117;n&#105;v-gr&#101;n&#111;bl&#101;-&#97;lp&#101;s' + '&#46;' + 'fr';document.getElementById('cloakef3735560d03044c2d2fccd46d13d9f7').innerHTML += '<a ' + path + '\'' + prefix + ':' + addyef3735560d03044c2d2fccd46d13d9f7 + '\'>'+addy_textef3735560d03044c2d2fccd46d13d9f7+'';
		
DTSTAMP:20260419T201930Z
DTSTART;TZID=UTC;VALUE=DATE:20190304
DTEND;TZID=UTC;VALUE=DATE:20190310
SEQUENCE:0
TRANSP:OPAQUE
END:VEVENT
END:VCALENDAR