BEGIN:VCALENDAR
VERSION:2.0
PRODID:-//jEvents 2.0 for Joomla//EN
CALSCALE:GREGORIAN
METHOD:PUBLISH
BEGIN:VEVENT
UID:e4cacda700e7f3fcea25e7bad93ea21e
CATEGORIES:Field and Summer Schools
CREATED:20181203T110805
SUMMARY:DurhamARCTIC Summer School
LOCATION:Durham\, UK
DESCRIPTION:<p>The time of the summer school is not really ’summer’ in England (and it’
 s certainly not summer in the Arctic), but it is held&nbsp;then so as to co
 incide with the final conference of the Durham-based ICE LAW Project (see e
 vent <a href="events/eventdetail/512/-/final-conference-of-the-ice-law-proj
 ect.html">here</a>). The ICE LAW Project is fairly social-science-oriented,
  but the Summer School is intended to cover the breadth of disciplines. Ind
 eed, it could provide a particularly good opportunity for Early Career Rese
 archers in the physical sciences to practice (and learn about) engagement w
 ith the social sciences, as the attendees will include world leaders in Arc
 tic social sciences.</p><p>Information on the 2019 summer school, including
  details for applying for a student bursary, can be found at <a href="https
 ://www.dur.ac.uk/arctic/conference/.">https://www.dur.ac.uk/arctic/conferen
 ce/.</a></p>
CONTACT:Philip Steinberg: This email address is being protected from spambots. You need JavaScript enabled to view it.
				document.getElementById('cloak0700957266848578b034cdfac32731bb').innerHTML = '';
				var prefix = '&#109;a' + 'i&#108;' + '&#116;o';
				var path = 'hr' + 'ef' + '=';
				var addy0700957266848578b034cdfac32731bb = 'ph&#105;l&#105;p.st&#101;&#105;nb&#101;rg' + '&#64;';
				addy0700957266848578b034cdfac32731bb = addy0700957266848578b034cdfac32731bb + 'd&#117;rh&#97;m' + '&#46;' + '&#97;c' + '&#46;' + '&#117;k';
				var addy_text0700957266848578b034cdfac32731bb = 'ph&#105;l&#105;p.st&#101;&#105;nb&#101;rg' + '&#64;' + 'd&#117;rh&#97;m' + '&#46;' + '&#97;c' + '&#46;' + '&#117;k';document.getElementById('cloak0700957266848578b034cdfac32731bb').innerHTML += '<a ' + path + '\'' + prefix + ':' + addy0700957266848578b034cdfac32731bb + '\'>'+addy_text0700957266848578b034cdfac32731bb+'';
		
DTSTAMP:20260419T185426Z
DTSTART;TZID=UTC;VALUE=DATE:20190425
DTEND;TZID=UTC;VALUE=DATE:20190429
SEQUENCE:0
TRANSP:OPAQUE
END:VEVENT
END:VCALENDAR