BEGIN:VCALENDAR
VERSION:2.0
PRODID:-//jEvents 2.0 for Joomla//EN
CALSCALE:GREGORIAN
METHOD:PUBLISH
BEGIN:VEVENT
UID:18c76cf75a7ac73e684fd37aa17af6ac
CATEGORIES:Polar Conferences, Meetings and Events
CREATED:20181203T110939
SUMMARY:Final conference of the ICE LAW Project 
LOCATION:Durham\, UK
DESCRIPTION:Concurrent with the Summer School, the final conference of the ICE LAW Proj
 ect will be held. For the past three years, the Project, and its various wo
 rking groups, have been holding small workshops and community meetings to i
 nvestigate the potential for a legal framework that acknowledges the comple
 x geophysical environment in the world’s frozen regions and to explore the 
 impact that an ice-sensitive legal system would have on topics ranging from
  the everyday activities of Arctic residents to the territorial foundations
  of the modern state. Although part of the conference will include reflecti
 ons from subproject leaders. Input (including paper presentations) is welco
 me from individuals who have not been involved to date with the project. A 
 poster session from Summer School participants will be integrated into the 
 conference.\nMore information on the conference is available at https://ice
 lawproject.org/2018/10/15/call-for-papers-conference-announcement-ice-law-f
 inal-conference-april-2019/.\n
X-ALT-DESC;FMTTYPE=text/html:<p>Concurrent with the Summer School, the final conference of the ICE LAW P
 roject will be held. For the past three years, the Project, and its various
  working groups, have been holding small workshops and community meetings t
 o investigate the potential for a legal framework that acknowledges the com
 plex geophysical environment in the world’s frozen regions and to explore t
 he impact that an ice-sensitive legal system would have on topics ranging f
 rom the everyday activities of Arctic residents to the territorial foundati
 ons of the modern state. Although part of the conference will include refle
 ctions from subproject leaders.&nbsp;Input (including paper presentations) 
 is welcome from individuals who have not been involved to date with the pro
 ject. A poster session from Summer School participants will be integrated i
 nto the conference.</p><p>More information on the conference is available a
 t&nbsp;<a href="https://icelawproject.org/2018/10/15/call-for-papers-confer
 ence-announcement-ice-law-final-conference-april-2019/.">https://icelawproj
 ect.org/2018/10/15/call-for-papers-conference-announcement-ice-law-final-co
 nference-april-2019/.</a></p>
CONTACT:Philip Steinberg: This email address is being protected from spambots. You need JavaScript enabled to view it.
				document.getElementById('cloak7f734abd7a1bf16131406624a0b1cc72').innerHTML = '';
				var prefix = '&#109;a' + 'i&#108;' + '&#116;o';
				var path = 'hr' + 'ef' + '=';
				var addy7f734abd7a1bf16131406624a0b1cc72 = 'ph&#105;l&#105;p.st&#101;&#105;nb&#101;rg' + '&#64;';
				addy7f734abd7a1bf16131406624a0b1cc72 = addy7f734abd7a1bf16131406624a0b1cc72 + 'd&#117;rh&#97;m' + '&#46;' + '&#97;c' + '&#46;' + '&#117;k';
				var addy_text7f734abd7a1bf16131406624a0b1cc72 = 'ph&#105;l&#105;p.st&#101;&#105;nb&#101;rg' + '&#64;' + 'd&#117;rh&#97;m' + '&#46;' + '&#97;c' + '&#46;' + '&#117;k';document.getElementById('cloak7f734abd7a1bf16131406624a0b1cc72').innerHTML += '<a ' + path + '\'' + prefix + ':' + addy7f734abd7a1bf16131406624a0b1cc72 + '\'>'+addy_text7f734abd7a1bf16131406624a0b1cc72+'';
		
DTSTAMP:20260419T160013Z
DTSTART;TZID=UTC;VALUE=DATE:20190425
DTEND;TZID=UTC;VALUE=DATE:20190428
SEQUENCE:0
TRANSP:OPAQUE
END:VEVENT
END:VCALENDAR