BEGIN:VCALENDAR
VERSION:2.0
PRODID:-//jEvents 2.0 for Joomla//EN
CALSCALE:GREGORIAN
METHOD:PUBLISH
BEGIN:VEVENT
UID:69a924ea83c2c0ea43e1325be99ef23c
CATEGORIES:Field and Summer Schools
CREATED:20181218T114818
SUMMARY:Glacial Isostatic Adjustment Training School
LOCATION:Gävle\, Sweden
DESCRIPTION:The program of the training school on glacial isostatic adjustment (GIA) mo
 delling will include lectures and practical exercises aimed at investigatin
 g the interactions between solid Earth deformation, ice mass change, and as
 sociated sea-level and geoid variations.\nStudents will complete homework e
 xercises utilizing freely available modelling software and will have the op
 portunity to spend one-to-one time with leading researchers in the GIA comm
 unity while working throiugh examples in class. A field trip to examine rec
 ords of land uplift and sea level change will be included. \nThe course is 
 targeted at individuals who are working on (or will soon start working on) 
 GIA modelling, or topics directly related to GIA modelling. It is aimed at 
 graduate students and early career scientists, but all interested parties a
 re encouraged to apply regardless of age or experience level. An introducti
 on to the fundamentals and applications of GIA modelling will be provided, 
 no previous modelling experience is required.\nThe preliminary list of inst
 ructors is: Mike Bentley, Martin Ekman, Erik Ivins, Matt King, Glenn Milne,
  Frank Pattyn, Riccardo Riva, Giorgio Spada, Rebekka Steffen, Wouter van de
 r Wal, Julia Wellner, Pippa Whitehouse, Doug Wiens, and Terry Wilson.\nDead
 line for applications is 31 March 2019. To apply visit www.polenet.org (htt
 p://www.polenet.org/)\nFor more information see this webpage: <a href="http
 ://polenet.org/2019-glacial-isostatic-adjustment-gia-training-school">http:
 //polenet.org/2019-glacial-isostatic-adjustment-gia-training-school</a>\n
X-ALT-DESC;FMTTYPE=text/html:<p>The program of the <span lang="en-US" style="color: inherit; font-family
 : inherit; font-size: 1rem;">training school&nbsp;</span><span lang="en-US"
  style="color: inherit; font-family: inherit; font-size: 1rem;">on glacial 
 isostatic adjustment (GIA) modelling</span>&nbsp;will include lectures and 
 practical exercises aimed at investigating the interactions between solid E
 arth deformation, ice mass change, and associated sea-level and geoid varia
 tions.</p><p>Students will complete homework exercises utilizing freely ava
 ilable modelling software and will have the opportunity to spend one-to-one
  time with leading researchers in the GIA community while working throiugh 
 examples in class. A field trip to examine records of land uplift and sea l
 evel change will be included.&nbsp;</p><p><span lang="en-US"><span lang="en
 -US">The&nbsp;course is targeted at individuals who are working on (or will
  soon start working on) GIA modelling, or topics directly related to GIA mo
 delling. It is aimed at graduate students and early career scientists, but&
 nbsp;all interested parties are encouraged to apply regardless of age or ex
 perience level. An introduction to the fundamentals and applications of GIA
  modelling will be provided, no previous modelling experience is required.<
 /span></span></p><p><span lang="en-US">The preliminary list of instructors&
 nbsp;is: Mike Bentley, Martin Ekman, Erik Ivins, Matt King, Glenn Milne, Fr
 ank Pattyn, Riccardo Riva, Giorgio Spada, Rebekka Steffen, Wouter van der W
 al, Julia Wellner,&nbsp;Pippa Whitehouse, Doug Wiens, and Terry Wilson.</sp
 an></p><p>Deadline for applications is <strong style="color: inherit; font-
 family: inherit; font-size: 1rem;">31 March 2019</strong>.&nbsp;To apply vi
 sit&nbsp;<a id="m_8982933458232196937LPlnk679608" style="font-family: inher
 it; font-size: 1rem;" href="http://www.polenet.org/" target="_blank" rel="n
 oopener noreferrer">www.polenet.org</a></p><p>For more information see this
  webpage:&nbsp;<a href="http://polenet.org/2019-glacial-isostatic-adjustmen
 t-gia-training-school">http://polenet.org/2019-glacial-isostatic-adjustment
 -gia-training-school</a></p>
CONTACT:This email address is being protected from spambots. You need JavaScript enabled to view it.
				document.getElementById('cloake86cc3fa386a1e57ce6f4eba9aecb9fd').innerHTML = '';
				var prefix = '&#109;a' + 'i&#108;' + '&#116;o';
				var path = 'hr' + 'ef' + '=';
				var addye86cc3fa386a1e57ce6f4eba9aecb9fd = 'p&#111;l&#101;n&#101;t.sch&#111;&#111;l' + '&#64;';
				addye86cc3fa386a1e57ce6f4eba9aecb9fd = addye86cc3fa386a1e57ce6f4eba9aecb9fd + 'gm&#97;&#105;l' + '&#46;' + 'c&#111;m';
				var addy_texte86cc3fa386a1e57ce6f4eba9aecb9fd = 'p&#111;l&#101;n&#101;t.sch&#111;&#111;l' + '&#64;' + 'gm&#97;&#105;l' + '&#46;' + 'c&#111;m';document.getElementById('cloake86cc3fa386a1e57ce6f4eba9aecb9fd').innerHTML += '<a ' + path + '\'' + prefix + ':' + addye86cc3fa386a1e57ce6f4eba9aecb9fd + '\'>'+addy_texte86cc3fa386a1e57ce6f4eba9aecb9fd+'';
		
DTSTAMP:20260419T185355Z
DTSTART;TZID=UTC;VALUE=DATE:20190826
DTEND;TZID=UTC;VALUE=DATE:20190831
SEQUENCE:0
TRANSP:OPAQUE
END:VEVENT
END:VCALENDAR