BEGIN:VCALENDAR
VERSION:2.0
PRODID:-//jEvents 2.0 for Joomla//EN
CALSCALE:GREGORIAN
METHOD:PUBLISH
BEGIN:VEVENT
UID:0885c0b6eff4e9544531c71dea0da8f9
CATEGORIES:Polar Conferences, Meetings and Events
CREATED:20181220T132347
SUMMARY:Next Generation Polar Research Symposium
LOCATION:Catalina Island\, United States
DESCRIPTION:<p>The next generation of polar-focused researchers will need a strong foun
 dation of interdisciplinary approaches to understand the rapid changes in p
 olar regions. The NSF-funded Next Generation Polar Research Conference (NGP
 R-3) is designed to train and network early career polar researchers for in
 terdisciplinary research careers. This week-long symposium will be held at 
 the University of Southern California's Wrigley Marine Science Center on Ca
 talina Island, CA. and will provide an important opportunity to foster comm
 unication, team-building, and leadership skills for innovative training in 
 interdisciplinary research. Participants from disciplines spanning the natu
 ral, physical and social sciences will be competitively selected to partici
 pate in dynamic networking opportunity with plenary talks, poster sessions,
  and professional development training.</p><p>For further Information visit
 :&nbsp;<a href="https://dornsife.usc.edu/polar">https://dornsife.usc.edu/po
 lar</a></p>
DTSTAMP:20260419T205001Z
DTSTART;TZID=UTC;VALUE=DATE:20190505
DTEND;TZID=UTC;VALUE=DATE:20190512
SEQUENCE:0
TRANSP:OPAQUE
END:VEVENT
END:VCALENDAR