BEGIN:VCALENDAR
VERSION:2.0
PRODID:-//jEvents 2.0 for Joomla//EN
CALSCALE:GREGORIAN
METHOD:PUBLISH
BEGIN:VEVENT
UID:eb949ee13f24425bf3e51b483740c4dd
CATEGORIES:Polar Conferences, Meetings and Events
CREATED:20190104T205146
SUMMARY:15th Conference on Polar Meteorology and Oceanography
LOCATION:Boulder\, Colorado\, USA
DESCRIPTION:The American Meteorological Society and the Committee on Polar Meteorology 
 and Oceanography organizes the 15th Conference on Polar Meteorology and Oce
 anography.\nPre-Registration Deadline: 19 April\nExtended Abstract Deadline
 : 21 June\nFor more information, go to: https://www.ametsoc.org/index.cfm/a
 ms/meetings-events/ams-meetings/15th-conference-on-polar-meteorology-and-oc
 eanography1/\n
X-ALT-DESC;FMTTYPE=text/html:<p>The American Meteorological Society and the Committee on Polar Meteorolo
 gy and Oceanography organizes the&nbsp;15th Conference on Polar Meteorology
  and Oceanography.</p><p><strong>Pre-Registration Deadline: 19 April</stron
 g></p><p><strong>Extended Abstract Deadline: 21 June</strong></p><p>For mor
 e information, go to:&nbsp;<a href="https://www.ametsoc.org/index.cfm/ams/m
 eetings-events/ams-meetings/15th-conference-on-polar-meteorology-and-oceano
 graphy1/">https://www.ametsoc.org/index.cfm/ams/meetings-events/ams-meeting
 s/15th-conference-on-polar-meteorology-and-oceanography1/</a></p>
DTSTAMP:20260419T224507Z
DTSTART;TZID=UTC:20190519T080000
DTEND;TZID=UTC:20190523T170000
SEQUENCE:0
TRANSP:OPAQUE
END:VEVENT
END:VCALENDAR