BEGIN:VCALENDAR
VERSION:2.0
PRODID:-//jEvents 2.0 for Joomla//EN
CALSCALE:GREGORIAN
METHOD:PUBLISH
BEGIN:VEVENT
UID:460b86b9107dd660a3c18f6c9f242165
CATEGORIES:Polar Conferences, Meetings and Events
CREATED:20190104T205615
SUMMARY: GeoComputation 2019
LOCATION:Queenstown\, New Zealand
DESCRIPTION:The biennial GeoComputation international research conference series (http:
 //www.geocomputation.org/) (“The Art and Science of Solving Complex Spatial
  Problems with Computers”) has been running since the inaugural 1996 confer
 ence in Leeds. The 2019 conference is jointly organised by University of Ot
 ago, University of Auckland, University of Canterbury and Victoria Universi
 ty Wellington. Relevant include: spatial analysis and statistics, geographi
 c visualization and visual analytics, virtual and augmented reality, cyber 
 GIS, open geospatial science, computational movement analysis, complex syst
 ems analysis, AI and machine learning methods for geographical research, Ag
 ent-based modelling, cellular automata and geosimulation, geospatial uncert
 ainty, spatial data mining and applied geocomputation.\nDeadline for papers
 : 30 April\nDeadline for extended abstracts: 31 May\nFor further informatio
 n, visit the conference <a href="https://www.otago.ac.nz/surveying/news/sem
 inars/GeoComputation%202019.html">website</a>.\n
X-ALT-DESC;FMTTYPE=text/html:<p>The biennial&nbsp;<a href="http://www.geocomputation.org/">GeoComputatio
 n international research conference series</a>&nbsp;(“The Art and Science o
 f Solving Complex Spatial Problems with Computers”) has been running since 
 the inaugural 1996&nbsp;conference in Leeds.&nbsp;The 2019&nbsp;conference&
 nbsp;is&nbsp;jointly organised by University of Otago, University of Auckla
 nd, University of Canterbury and Victoria University Wellington. Relevant&n
 bsp;include: spatial analysis and statistics, geographic visualization and 
 visual analytics, virtual and augmented reality, cyber GIS, open geospatial
  science, computational movement analysis, complex systems analysis, AI and
  machine learning methods for geographical research, Agent-based modelling,
  cellular automata and geosimulation, geospatial uncertainty, spatial data 
 mining and applied geocomputation.</p><p><strong>Deadline for papers: 30 Ap
 ril</strong></p><p><strong>Deadline for extended abstracts: 31 May</strong>
 </p><p>For further information, visit&nbsp;the conference&nbsp;<a href="htt
 ps://www.otago.ac.nz/surveying/news/seminars/GeoComputation%202019.html">we
 bsite</a>.</p>
DTSTAMP:20260419T160052Z
DTSTART;TZID=UTC;VALUE=DATE:20190918
DTEND;TZID=UTC;VALUE=DATE:20190922
SEQUENCE:0
TRANSP:OPAQUE
END:VEVENT
END:VCALENDAR