BEGIN:VCALENDAR
VERSION:2.0
PRODID:-//jEvents 2.0 for Joomla//EN
CALSCALE:GREGORIAN
METHOD:PUBLISH
BEGIN:VEVENT
UID:d45fe780da612a3ecad841394f012ed1
CATEGORIES:Polar Conferences, Meetings and Events
CREATED:20190123T121213
SUMMARY:Ice Drilling Program Subglacial Access Working Group Science Planning Workshop
LOCATION:Herndon\, Virginia\, USA
DESCRIPTION:The primary objective of this workshop is to provide focused feedback from 
 subglacial research community into the U.S. Ice Drilling Program (IDP) Long
  Range Science Plan. Specifically, organizers seek to stimulate discussions
  that will yield a prioritized list of science objectives and associated ta
 rgets and requirements (sampling, drilling, and support needs) for the comi
 ng decade for the 2019 update to the IDP Long Range Science Plan.\nOrganize
 rs plan to have a draft white paper at the end of the workshop and will sol
 icit feedback on the draft after the workshop, but before it is finalized, 
 for inclusion in the IDP Long Range Science Plan. White papers that were wr
 itten after the 2016 subglacial access workshop can be downloaded .\nOption
 s will be available for remote participation for the plenary aspects of the
  workshop, and organizers welcome short presentations and/or written feedba
 ck from non-attendees.\nThere is no registration fee for the workshop, howe
 ver those planning to attend are asked to <a href="https://www.arcus.org/si
 tes/all/modules/civicrm/extern/url.php?u=13147&amp;qid=2194754">pre-registe
 r</a>. Additional workshop information, including meeting logistics and the
  agenda, will be sent to pre-registered attendees.\nTo pre-register for the
  event, go to: \nFor more information, including registration instructions,
  agenda, and future updates, go to: <a href="https://www.arcus.org/sites/al
 l/modules/civicrm/extern/url.php?u=13148&amp;qid=2194754">Workshop homepage
 </a>\n
X-ALT-DESC;FMTTYPE=text/html:<p>The primary objective of this workshop is to provide focused feedback fr
 om subglacial research community into the U.S. Ice Drilling Program (IDP) L
 ong Range Science Plan. Specifically, organizers seek to stimulate discussi
 ons that will yield a prioritized list of science objectives and associated
  targets and requirements (sampling, drilling, and support needs) for the c
 oming decade for the 2019 update to the IDP Long Range Science Plan.</p><p>
 Organizers plan to have a draft white paper at the end of the workshop and 
 will solicit feedback on the draft after the workshop, but before it is fin
 alized, for inclusion in the IDP Long Range Science Plan. White papers that
  were written after the 2016 subglacial access workshop can be downloaded&n
 bsp;<a href="https://www.arcus.org/sites/all/modules/civicrm/extern/url.php
 ?u=13152&amp;qid=2194754">online</a>.</p><p>Options will be available for r
 emote participation for the plenary aspects of the workshop, and organizers
  welcome short presentations and/or written feedback from non-attendees.</p
 ><p>There is no registration fee for the workshop, however those planning t
 o attend are asked to&nbsp;<a href="https://www.arcus.org/sites/all/modules
 /civicrm/extern/url.php?u=13147&amp;qid=2194754">pre-register</a>. Addition
 al workshop information, including meeting logistics and the agenda, will b
 e sent to pre-registered attendees.</p><p>To pre-register for the event, go
  to:&nbsp;<a href="https://www.arcus.org/sites/all/modules/civicrm/extern/u
 rl.php?u=13147&amp;qid=2194754">Workshop registration webpage</a></p><p>For
  more information, including registration instructions, agenda, and future 
 updates, go to:&nbsp;<a href="https://www.arcus.org/sites/all/modules/civic
 rm/extern/url.php?u=13148&amp;qid=2194754">Workshop homepage</a></p>
CONTACT:Mary Albert: This email address is being protected from spambots. You need JavaScript enabled to view it.
				document.getElementById('cloakbcf9ef74be85c2cf7334b451a896a2f4').innerHTML = '';
				var prefix = '&#109;a' + 'i&#108;' + '&#116;o';
				var path = 'hr' + 'ef' + '=';
				var addybcf9ef74be85c2cf7334b451a896a2f4 = 'm&#97;ry.r.&#97;lb&#101;rt' + '&#64;';
				addybcf9ef74be85c2cf7334b451a896a2f4 = addybcf9ef74be85c2cf7334b451a896a2f4 + 'd&#97;rtm&#111;&#117;th' + '&#46;' + '&#101;d&#117;';
				var addy_textbcf9ef74be85c2cf7334b451a896a2f4 = 'm&#97;ry.r.&#97;lb&#101;rt' + '&#64;' + 'd&#97;rtm&#111;&#117;th' + '&#46;' + '&#101;d&#117;';document.getElementById('cloakbcf9ef74be85c2cf7334b451a896a2f4').innerHTML += '<a ' + path + '\'' + prefix + ':' + addybcf9ef74be85c2cf7334b451a896a2f4 + '\'>'+addy_textbcf9ef74be85c2cf7334b451a896a2f4+'';
		, Jill Mikucki: This email address is being protected from spambots. You need JavaScript enabled to view it.
				document.getElementById('cloak0eac9c547d829448918fbfd875d5cb68').innerHTML = '';
				var prefix = '&#109;a' + 'i&#108;' + '&#116;o';
				var path = 'hr' + 'ef' + '=';
				var addy0eac9c547d829448918fbfd875d5cb68 = 'jm&#105;k&#117;ck&#105;' + '&#64;';
				addy0eac9c547d829448918fbfd875d5cb68 = addy0eac9c547d829448918fbfd875d5cb68 + '&#117;tk' + '&#46;' + '&#101;d&#117;';
				var addy_text0eac9c547d829448918fbfd875d5cb68 = 'jm&#105;k&#117;ck&#105;' + '&#64;' + '&#117;tk' + '&#46;' + '&#101;d&#117;';document.getElementById('cloak0eac9c547d829448918fbfd875d5cb68').innerHTML += '<a ' + path + '\'' + prefix + ':' + addy0eac9c547d829448918fbfd875d5cb68 + '\'>'+addy_text0eac9c547d829448918fbfd875d5cb68+'';
		, Slawek Tulaczyk: This email address is being protected from spambots. You need JavaScript enabled to view it.
				document.getElementById('cloakb7594d2374f7e1b30ed1f285257d5fb1').innerHTML = '';
				var prefix = '&#109;a' + 'i&#108;' + '&#116;o';
				var path = 'hr' + 'ef' + '=';
				var addyb7594d2374f7e1b30ed1f285257d5fb1 = 'st&#117;l&#97;czy' + '&#64;';
				addyb7594d2374f7e1b30ed1f285257d5fb1 = addyb7594d2374f7e1b30ed1f285257d5fb1 + '&#117;csc' + '&#46;' + '&#101;d&#117;';
				var addy_textb7594d2374f7e1b30ed1f285257d5fb1 = 'st&#117;l&#97;czy' + '&#64;' + '&#117;csc' + '&#46;' + '&#101;d&#117;';document.getElementById('cloakb7594d2374f7e1b30ed1f285257d5fb1').innerHTML += '<a ' + path + '\'' + prefix + ':' + addyb7594d2374f7e1b30ed1f285257d5fb1 + '\'>'+addy_textb7594d2374f7e1b30ed1f285257d5fb1+'';
		
DTSTAMP:20260419T185231Z
DTSTART;TZID=UTC;VALUE=DATE:20190329
DTEND;TZID=UTC;VALUE=DATE:20190331
SEQUENCE:0
TRANSP:OPAQUE
END:VEVENT
END:VCALENDAR