BEGIN:VCALENDAR
VERSION:2.0
PRODID:-//jEvents 2.0 for Joomla//EN
CALSCALE:GREGORIAN
METHOD:PUBLISH
BEGIN:VEVENT
UID:801462215389222cdecdb84b87521ede
CATEGORIES:Polar Conferences, Meetings and Events
CREATED:20190205T161409
SUMMARY:Ocean Worlds 4 Meeting
LOCATION:Maryland\, Columbia\, USA
DESCRIPTION:The latest meeting in the Ocean Worlds series "Ocean Worlds 4" will focus o
 n ice-water interactions occurring within ocean worlds beyond Earth, from a
  multi-disciplinary and inter-disciplinary perspective. The primary motivat
 ion of Ocean Worlds 4 is to engender a cross-fertilization of ideas and exp
 ertise by soliciting contributions from the Cryosphere, Ocean Sciences and 
 Planetary Sciences communities.Early-Bird registration deadline: 22 April, 
 regular 10 May Here is a link to more info: https://www.hou.usra.edu/meetin
 gs/oceanworlds2019/ 
X-ALT-DESC;FMTTYPE=text/html:<div dir="ltr">The&nbsp;latest meeting in the&nbsp;Ocean Worlds<em><strong>
 &nbsp;</strong></em>series "Ocean Worlds 4" will focus on ice-water interac
 tions occurring within ocean worlds beyond Earth, from a multi-disciplinary
  and inter-disciplinary perspective.&nbsp;The primary motivation of Ocean W
 orlds 4 is to engender a cross-fertilization of ideas and expertise by soli
 citing contributions from the Cryosphere, Ocean Sciences and Planetary Scie
 nces communities.</div><div dir="ltr"><div><div></div><div><strong>Early-Bi
 rd registration deadline: 22 April, regular 10 May</strong></div><div>&nbsp
 ;</div><div>Here is a link to more info:&nbsp;<a href="https://www.hou.usra
 .edu/meetings/oceanworlds2019/">https://www.hou.usra.edu/meetings/oceanworl
 ds2019/</a></div>&nbsp;</div></div>
DTSTAMP:20260419T224653Z
DTSTART;TZID=UTC;VALUE=DATE:20190521
DTEND;TZID=UTC;VALUE=DATE:20190523
SEQUENCE:0
TRANSP:OPAQUE
END:VEVENT
END:VCALENDAR