BEGIN:VCALENDAR
VERSION:2.0
PRODID:-//jEvents 2.0 for Joomla//EN
CALSCALE:GREGORIAN
METHOD:PUBLISH
BEGIN:VEVENT
UID:c047dc1ef4a590698804a642bb1698b8
CATEGORIES:Field and Summer Schools
CREATED:20190214T101626
SUMMARY:Bergen Summer Research School 2019
LOCATION:Bergen\, Norway
DESCRIPTION:BSRS 2019 has a general focus on current global challenges and the Sustaina
 ble Development Goals, through six multi-disciplinary courses on water, cli
 mate change, migration, maternal health, cultural heritage, and poverty.  \
 nAn overarching aim of BSRS 2019 is to explore interfaces between research 
 and policymaking (“science diplomacy”).\nThe series of parallel courses wit
 h top international lecturers and plenary sessions will help you frame your
  research to make an impact on policies for a sustainable future. BSRS is c
 omposed of course lectures and group discussions, shared sessions on resear
 ch tools and presentation skills, high-profile keynotes, interactive plenar
 ies, and an excursion into the fjord- and waterscapes of Western Norway.\nF
 or more information, visit the website (https://www.uib.no/en/rs/bsrs).\n
X-ALT-DESC;FMTTYPE=text/html:<div class="article-intro"><p>BSRS 2019 has a general focus on current glob
 al challenges and the Sustainable Development Goals, through six multi-disc
 iplinary courses on water, climate change, migration, maternal health, cult
 ural heritage, and poverty. &nbsp;</p></div><div class="article-body"><p>An
  overarching aim of BSRS 2019 is to explore interfaces between research and
  policymaking (“science diplomacy”).</p><p>The series of parallel courses w
 ith top international lecturers and plenary sessions will help you frame yo
 ur research to make an impact on policies for a sustainable future. BSRS is
  composed of course lectures and group discussions, shared sessions on rese
 arch tools and presentation skills, high-profile keynotes, interactive plen
 aries, and an excursion into the fjord- and waterscapes of Western Norway.<
 /p><p>For more information, visit the&nbsp;<a href="https://www.uib.no/en/r
 s/bsrs">website</a>.</p></div>
DTSTAMP:20260419T204713Z
DTSTART;TZID=UTC;VALUE=DATE:20190617
DTEND;TZID=UTC;VALUE=DATE:20190628
SEQUENCE:0
TRANSP:OPAQUE
END:VEVENT
END:VCALENDAR