BEGIN:VCALENDAR
VERSION:2.0
PRODID:-//jEvents 2.0 for Joomla//EN
CALSCALE:GREGORIAN
METHOD:PUBLISH
BEGIN:VEVENT
UID:0c57099ae9404570f4f2ec94e664bd61
CATEGORIES:Polar Conferences, Meetings and Events
CREATED:20190219T101027
SUMMARY:SCAR-AntClim21 Workshop on CMIP6 21st century projections and predictions for Antarctica and the Southern Ocean
LOCATION:Cambridge\, UK
DESCRIPTION:<p>The aim of this workshop is to help ensure that the Antarctic and Southe
 rn Ocean climate science communities make a significant contribution to the
  IPCC 6th Assessment Report (AR6). Contributions on model-observation compa
 risons and evaluation of CMIP6 21st century predictions and projections fro
 m decadal to century timescales are encouraged. However, relevant non-CMIP6
  simulations, such as Antarctic CORDEX, are also welcomed. In addition, a s
 ession dedicated to science-policy discussion is planned.</p><p>The format 
 will be in the style of a small conference, with participants giving oral a
 nd poster presentations on their research. The exact length of the oral pre
 sentations, session topics and schedule will be decided after reviewing sub
 mitted abstracts. The latest information will be posted on our news page (<
 a href="https://secure-web.cisco.com/1YSeT3LSeBtgNvn-A9FvaQrmSu3lXTHSy5Ip6W
 F_UsDgKIRsuUQrByw4XzuT3eTXbAjQHz6Thw4Cbz8e7YqJKJBnGjATEgRTLPKE-KjDZ69CCVUuP
 GTEpfRz_pWIJLcssqlCIHK_msENqm1MUS1IxsX-mr3PZKNQG4qKmL20jq5VY21mKFqbOMputt4F
 qESkfz98KOupRMgMnHd1NI3PEz2gAbr3unkaY9jo6Cnzatl137UnvTRLcgs43HGUSX0QnjJWr-L
 wFTz2NMJhiuRaVGNHkw2FcognaY8ueMaUVlGsIf2FIX45IOp2VYl6Lj-q_Oqa75I-ymmb8q_4ZP
 F9gUZKkpHvBM-dUz5Ou2prvPRYVSF83cNBhD8jht7LqX1KyjzBh8MiVDLnxqmaZAwX1eFobBNyi
 BlAnALkXuIoZQaMZilRk0_Med1dP3NT_hVjGmYKN27_P3aJFQY3p758LMg/https%3A%2F%2Fww
 w.scar.org%2Fscience%2Fantclim21%2Fnews%2F">https://www.scar.org/science/an
 tclim21/news/</a>) and look out for announcements on this mailing list and 
 via Twitter (<a href="https://twitter.com/AntClim21">twitter.com/AntClim21<
 /a>).</p><p>Organising committee: Nancy Bertler, Tom Bracegirdle, Alia Khan
 , Gerhard Krinner, Marilyn Raphael</p><p>For further information, visit:&nb
 sp;<a href="https://www.eventbrite.co.uk/e/antclim21-workshop-26-28-june-20
 19-tickets-55269854623">https://www.eventbrite.co.uk/e/antclim21-workshop-2
 6-28-june-2019-tickets-55269854623</a></p>
CONTACT:Tom Bracegirdle (This email address is being protected from spambots. You need JavaScript enabled to view it.
				document.getElementById('cloakfc89a030fa4cd56c464c7b3cc7744bb7').innerHTML = '';
				var prefix = '&#109;a' + 'i&#108;' + '&#116;o';
				var path = 'hr' + 'ef' + '=';
				var addyfc89a030fa4cd56c464c7b3cc7744bb7 = 'tjbr&#97;' + '&#64;';
				addyfc89a030fa4cd56c464c7b3cc7744bb7 = addyfc89a030fa4cd56c464c7b3cc7744bb7 + 'b&#97;s' + '&#46;' + '&#97;c' + '&#46;' + '&#117;k';
				var addy_textfc89a030fa4cd56c464c7b3cc7744bb7 = 'tjbr&#97;' + '&#64;' + 'b&#97;s' + '&#46;' + '&#97;c' + '&#46;' + '&#117;k';document.getElementById('cloakfc89a030fa4cd56c464c7b3cc7744bb7').innerHTML += '<a ' + path + '\'' + prefix + ':' + addyfc89a030fa4cd56c464c7b3cc7744bb7 + '\'>'+addy_textfc89a030fa4cd56c464c7b3cc7744bb7+'';
		)
DTSTAMP:20260419T213633Z
DTSTART;TZID=UTC;VALUE=DATE:20190626
DTEND;TZID=UTC;VALUE=DATE:20190629
SEQUENCE:0
TRANSP:OPAQUE
END:VEVENT
END:VCALENDAR