BEGIN:VCALENDAR
VERSION:2.0
PRODID:-//jEvents 2.0 for Joomla//EN
CALSCALE:GREGORIAN
METHOD:PUBLISH
BEGIN:VEVENT
UID:170393fcf82bdf473d018fbb453b89a8
CATEGORIES:Polar Conferences, Meetings and Events
CREATED:20190221T140717
SUMMARY:"Developing an Inclusive School" Conference
LOCATION:University of Lapland\, Rovaniemi\, Finland
DESCRIPTION:UArctic Thematic Network on Teacher Education (https://www.uarctic.org/orga
 nization/thematic-networks/teacher-education-for-social-justice-and-diversi
 ty-in-education/) is organising a conference "Developing an Inclusive Schoo
 l" for researchers, teacher educators and teachers.\nThe conference is two-
 days event and the conference programme is built under two themes: Inclusiv
 e teacher education and Inclusive pedagogies. The first day includes two ke
 ynote speeches, launching an eBook "Including the North: a Comparative Stud
 y of the Policies on Inclusion and Equity in the Circumpolar North" and a s
 ymposium with three speeches and discussion. The second day consists two ke
 ynote speeches, a presentation and workshops.\nThe conference is organised 
 in collaboration with projects Supporting together! and Preconditions of tr
 ansformation of education process in different educational contexts by appl
 ying inclusive education strategies. The book "Including the North: a Compa
 rative Study of the Policies on Inclusion and Equity in the Circumpolar Nor
 th" is product of Arctic Council's Sustainable Development Working Group's 
 project Teacher Education for Diversity and Equality in the Arctic, hosted 
 by UArctic Thematic Network on Teacher Education.\nFor for information, see
  this website: <a href="https://www.ulapland.fi/EN/Webpages/UArctic-TN-Teac
 her-Education-for-Social-Justice-and-Diversity-in-Education/Conference-Deve
 loping-an-Inclusive-School-26-273">https://www.ulapland.fi/EN/Webpages/UArc
 tic-TN-Teacher-Education-for-Social-Justice-and-Diversity-in-Education/Conf
 erence-Developing-an-Inclusive-School-26-273</a>.\n
X-ALT-DESC;FMTTYPE=text/html:<div class="article-intro"><p><a title="Teacher Education for Social Justic
 e and Diversity in Education" href="https://www.uarctic.org/organization/th
 ematic-networks/teacher-education-for-social-justice-and-diversity-in-educa
 tion/" data-udi="umb://document/8818fc0c7db1428586f9af8001db2a57">UArctic T
 hematic Network on Teacher Education</a>&nbsp;is organising a conference "<
 strong>Developing an Inclusive School</strong>"&nbsp;for researchers, teach
 er educators and teachers.</p></div><div class="article-body"><p>The confer
 ence is two-days event and the conference programme is built under two them
 es:&nbsp;<strong><span class="turkoosi">Inclusive teacher education&nbsp;</
 span>and&nbsp;<span class="turkoosi">Inclusive pedagogies</span></strong>. 
 The first day includes two keynote speeches, launching an eBook "Including 
 the North: a Comparative Study of the Policies on Inclusion and Equity in t
 he Circumpolar North" and a symposium with three speeches and discussion. T
 he second day consists two keynote speeches, a presentation and workshops.<
 /p><p>The conference is organised in collaboration with projects&nbsp;<em>S
 upporting together!</em>&nbsp;and&nbsp;<em>Preconditions of transformation 
 of education process in different educational contexts by applying inclusiv
 e education strategies</em>. The book "Including the North: a Comparative S
 tudy of the Policies on Inclusion and Equity in the Circumpolar North" is p
 roduct of Arctic Council's Sustainable Development Working Group's project<
 em>&nbsp;Teacher Education for Diversity and Equality in the Arctic,&nbsp;<
 /em>hosted by UArctic Thematic Network on Teacher Education.</p><p>For for 
 information, see this website:&nbsp;<a href="https://www.ulapland.fi/EN/Web
 pages/UArctic-TN-Teacher-Education-for-Social-Justice-and-Diversity-in-Educ
 ation/Conference-Developing-an-Inclusive-School-26-273">https://www.ulaplan
 d.fi/EN/Webpages/UArctic-TN-Teacher-Education-for-Social-Justice-and-Divers
 ity-in-Education/Conference-Developing-an-Inclusive-School-26-273</a>.</p><
 /div>
DTSTAMP:20260419T194042Z
DTSTART;TZID=UTC;VALUE=DATE:20190326
DTEND;TZID=UTC;VALUE=DATE:20190328
SEQUENCE:0
TRANSP:OPAQUE
END:VEVENT
END:VCALENDAR