BEGIN:VCALENDAR
VERSION:2.0
PRODID:-//jEvents 2.0 for Joomla//EN
CALSCALE:GREGORIAN
METHOD:PUBLISH
BEGIN:VEVENT
UID:66f27b5d0df801c5287c552b704f50ae
CATEGORIES:Field and Summer Schools
CREATED:20190225T102519
SUMMARY:Training School on Unmanned Aerial Systems (Drones) Applications & Forestry (PINESTRENGTH)
LOCATION:Chania\, Crete island\, Greece
DESCRIPTION:<p>Cost Action FP1406 PINESTRENGTH<br />Training School on Unmanned Aerial 
 Systems (UAS) Applications &amp; Forestry&nbsp;</p><p>The Training School w
 ill provide the principles and essential knowledge required for safe operat
 ions of the latest cutting edge UAS for scientific environmental applicatio
 ns mainly focused in forestry. This will include meeting with pre-fight pro
 cedures and calibrations, development of basic flight skills in real flight
  conditions, use of a wide range of sensors for drone-based remote sensing 
 in a variety of scientific applications and practice of open-source state-o
 f-the-art software for flight planning and post-flight process of imagery d
 ata.&nbsp;</p><p>&nbsp;</p><p>Schedule:</p><p><strong>01/04/19 (Theory &amp
 ; Practice)</strong></p><p>&nbsp; i) UAS (General Principles)</p><p>&nbsp; 
 &nbsp; &nbsp;- Safe Operations / Legislation - Meteorology</p><p>&nbsp; &nb
 sp; &nbsp;- Aeronautics</p><p>&nbsp; &nbsp; &nbsp;- Human Factor</p><p>&nbs
 p; ii) Drone Lab</p><p>&nbsp; &nbsp; &nbsp;- Tour / Anatomy of a UAV</p><p>
 &nbsp; &nbsp; &nbsp;- UAVs / Sensors / Batteries</p><p>&nbsp; &nbsp; &nbsp;
 - Small Drone Flights for Practice</p><p><strong>02/04/19 (Theory &amp; Pra
 ctice)</strong></p><p>&nbsp; i) UAS Applications Case Studies</p><p>&nbsp; 
 ii) Flight Planning - Procedures</p><p>&nbsp; &nbsp; &nbsp;- SW</p><p>&nbsp
 ; iii) Real UAV Flight Practice</p><p><strong>03/04/19 (Field Work)</strong
 ></p><p>&nbsp; i) Field Trip Mission: UAV Operations over Forest</p><p>&nbs
 p; ii) Sightseeing excursion, Dinner</p><p><strong>04/04/19 (Theory)</stron
 g></p><p>&nbsp; i) Derivatives</p><p>&nbsp; &nbsp; &nbsp;Intro in Orthophot
 o Mapping, DSM Creation, Indices Calculation etc</p><p>&nbsp; ii) Field tri
 p's Post-Flight Process</p><p>&nbsp; &nbsp; &nbsp;- Ortho &amp; 3D DSM Prod
 uction</p><p>&nbsp; &nbsp; &nbsp;- Volumes Calculation</p><p>&nbsp; &nbsp; 
 &nbsp;- Vegetation Indices Calculation</p><p>&nbsp; &nbsp; &nbsp;- Other RS
 /GIS Applications in Forestry</p>
CONTACT:Marta Vasconcelos: This email address is being protected from spambots. You need JavaScript enabled to view it.
				document.getElementById('cloak8aac75511331b7b240dca9d651a7db93').innerHTML = '';
				var prefix = '&#109;a' + 'i&#108;' + '&#116;o';
				var path = 'hr' + 'ef' + '=';
				var addy8aac75511331b7b240dca9d651a7db93 = 'mv&#97;sc&#111;nc&#101;l&#111;s' + '&#64;';
				addy8aac75511331b7b240dca9d651a7db93 = addy8aac75511331b7b240dca9d651a7db93 + 'p&#111;rt&#111;' + '&#46;' + '&#117;cp' + '&#46;' + 'pt';
				var addy_text8aac75511331b7b240dca9d651a7db93 = 'mv&#97;sc&#111;nc&#101;l&#111;s' + '&#64;' + 'p&#111;rt&#111;' + '&#46;' + '&#117;cp' + '&#46;' + 'pt';document.getElementById('cloak8aac75511331b7b240dca9d651a7db93').innerHTML += '<a ' + path + '\'' + prefix + ':' + addy8aac75511331b7b240dca9d651a7db93 + '\'>'+addy_text8aac75511331b7b240dca9d651a7db93+'';
		
DTSTAMP:20260423T165646Z
DTSTART;TZID=UTC;VALUE=DATE:20190401
DTEND;TZID=UTC;VALUE=DATE:20190405
SEQUENCE:0
TRANSP:OPAQUE
END:VEVENT
END:VCALENDAR