BEGIN:VCALENDAR
VERSION:2.0
PRODID:-//jEvents 2.0 for Joomla//EN
CALSCALE:GREGORIAN
METHOD:PUBLISH
BEGIN:VEVENT
UID:e13ce529b94213d69f9445bc9df8f770
CATEGORIES:Polar Conferences, Meetings and Events
CREATED:20190227T152821
SUMMARY:NSGG Postgraduate Research Symposium 2019
LOCATION:Leicester\, UK
DESCRIPTION:The NSGG is a special interest group of The Geological Society, with a remi
 t of advancing, encouraging and supporting the study and practice of near-s
 urface geophysics throughout the industrial and academic sectors.  Our post
 graduate symposia offer students of near-surface geophysics the opportunity
  to present their research to their peer group, plus a network of academic 
 and industrial practitioners, in a relaxed and supportive environment.\nSub
 mission deadline: 17:00 on Friday 19th April 2019. \nAll details are access
 ible through website (http://www.nsgg.org.uk/2018/2019/02/17/nsgg-postgradu
 ate-research-symposium-2019/)\n
X-ALT-DESC;FMTTYPE=text/html:<p>The NSGG is a special interest group of The Geological Society, with a r
 emit of advancing, encouraging and supporting the study and practice of nea
 r-surface geophysics throughout the industrial and academic sectors.&nbsp; 
 Our postgraduate symposia offer students of near-surface geophysics the opp
 ortunity to present their research to their peer group, plus a network of a
 cademic and industrial practitioners, in a relaxed and supportive environme
 nt.</p><p><strong>Submission deadline: 17:00 on Friday 19<sup>th</sup>&nbsp
 ;April 2019.&nbsp;</strong></p><p>All details are accessible through&nbsp;<
 a href="http://www.nsgg.org.uk/2018/2019/02/17/nsgg-postgraduate-research-s
 ymposium-2019/">website</a></p>
CONTACT:Adam Booth (This email address is being protected from spambots. You need JavaScript enabled to view it.
				document.getElementById('cloakcb5e1fb197b48c1672aa8a756e26c1aa').innerHTML = '';
				var prefix = '&#109;a' + 'i&#108;' + '&#116;o';
				var path = 'hr' + 'ef' + '=';
				var addycb5e1fb197b48c1672aa8a756e26c1aa = '&#97;.d.b&#111;&#111;th' + '&#64;';
				addycb5e1fb197b48c1672aa8a756e26c1aa = addycb5e1fb197b48c1672aa8a756e26c1aa + 'l&#101;&#101;ds' + '&#46;' + '&#97;c' + '&#46;' + '&#117;k';
				var addy_textcb5e1fb197b48c1672aa8a756e26c1aa = '&#97;.d.b&#111;&#111;th' + '&#64;' + 'l&#101;&#101;ds' + '&#46;' + '&#97;c' + '&#46;' + '&#117;k';document.getElementById('cloakcb5e1fb197b48c1672aa8a756e26c1aa').innerHTML += '<a ' + path + '\'' + prefix + ':' + addycb5e1fb197b48c1672aa8a756e26c1aa + '\'>'+addy_textcb5e1fb197b48c1672aa8a756e26c1aa+'';
		)
DTSTAMP:20260419T224508Z
DTSTART;TZID=UTC;VALUE=DATE:20190516
DTEND;TZID=UTC;VALUE=DATE:20190518
SEQUENCE:0
TRANSP:OPAQUE
END:VEVENT
END:VCALENDAR