BEGIN:VCALENDAR
VERSION:2.0
PRODID:-//jEvents 2.0 for Joomla//EN
CALSCALE:GREGORIAN
METHOD:PUBLISH
BEGIN:VEVENT
UID:1a14146c2a4b98d32b586971298d707d
CATEGORIES:Polar Conferences, Meetings and Events
CREATED:20190227T154105
SUMMARY:Antarctic Climate Symposium
LOCATION:Brussels\, Belgium
DESCRIPTION:The establishment of the Belgian Princess Elisabeth Station ten years ago h
 as substantially advanced climate research in Queen Maud Land. With this sy
 mposium we aim at bringing together climate researchers working in this reg
 ion on Antarctica to exchange their experiences. Both observationally-based
  and modelling studies are welcome. \nRegistration Deadline: 21 April\nSee 
 here for further information: https://ees.kuleuven.be/aerocloud-event/\n
X-ALT-DESC;FMTTYPE=text/html:<p>The establishment of the Belgian Princess Elisabeth Station ten years ag
 o has substantially advanced climate research in Queen Maud Land. With this
  symposium we aim at bringing together climate researchers working in this 
 region on Antarctica to exchange their experiences. Both observationally-ba
 sed and modelling studies are welcome.&nbsp;</p><p><strong>Registration Dea
 dline:&nbsp;21 April</strong></p><p>See here for further information:&nbsp;
 <a href="https://ees.kuleuven.be/aerocloud-event/">https://ees.kuleuven.be/
 aerocloud-event/</a></p>
DTSTAMP:20260419T170134Z
DTSTART;TZID=UTC:20190510T100000
DTEND;TZID=UTC:20190510T180000
SEQUENCE:0
TRANSP:OPAQUE
END:VEVENT
END:VCALENDAR