BEGIN:VCALENDAR
VERSION:2.0
PRODID:-//jEvents 2.0 for Joomla//EN
CALSCALE:GREGORIAN
METHOD:PUBLISH
BEGIN:VEVENT
UID:65c1192cce71d8d0e2f5b91879a86041
CATEGORIES:Field and Summer Schools
CREATED:20190325T150803
SUMMARY:Austral Winter Institute “Approaches and Tools for Numerical Modeling of High Latitude Ecosystems”
LOCATION:University Austral of Chile in Valdivia\, Chile
DESCRIPTION:The Institute of Marine and Limnological Sciences and the Research Center D
 ynamics of High Latitude Marine Ecosystems - IDEAL of University Austral of
  Chile and the Research Center for the Oceanography of the Southeastern Pac
 ific - COPAS Sur Austral of the University of Concepción, Chile are organiz
 ers of the Austral Winter Institute.\nEach week is devoted to a course that
  provides training on specific topics related to the general theme: \nWeek 
 1 - End to end food web models (22 - 26 July) \nWeek 2 - Understanding conn
 ectivity, sustainability and ecology (29 July – 2 August) \nWeek 3 - Biogeo
 chemical modeling with data assimilation (5 – 9 August) \nMore information 
 for the Austral Winter Institute is available at http://www.centroideal.cl/
  \nExtended application deadline: 15 May 2019. Interested participants shou
 ld apply through the Austral Winter Institute website: <a href="http://www.
 centroideal.cl/">http://www.centroideal.cl/</a>\n
X-ALT-DESC;FMTTYPE=text/html:<p>The Institute of Marine and Limnological Sciences and the Research Cente
 r Dynamics of High Latitude Marine Ecosystems - IDEAL of University Austral
  of Chile and&nbsp;the Research Center for the Oceanography of the Southeas
 tern Pacific - COPAS Sur Austral of the University of Concepción, Chile are
  organizers of the Austral Winter Institute.</p><p>Each week is devoted to 
 a course that provides training on specific topics related to the general t
 heme:&nbsp;</p><p>Week 1 - End to end food web models (22 - 26 July)&nbsp;<
 /p><p>Week 2 - Understanding connectivity, sustainability and ecology (29 J
 uly – 2 August)&nbsp;</p><p>Week 3 - Biogeochemical modeling with data assi
 milation (5 – 9 August)&nbsp;</p><p>More information for the Austral Winter
  Institute is available at <a href="http://www.centroideal.cl/">http://www.
 centroideal.cl/</a>&nbsp;</p><p><strong>Extended application deadline: 15 M
 ay 2019.</strong> Interested participants should apply through the Austral 
 Winter Institute website:&nbsp;<a href="http://www.centroideal.cl/">http://
 www.centroideal.cl/</a></p>
DTSTAMP:20260423T151419Z
DTSTART;TZID=UTC;VALUE=DATE:20190722
DTEND;TZID=UTC;VALUE=DATE:20190810
SEQUENCE:0
TRANSP:OPAQUE
END:VEVENT
END:VCALENDAR