BEGIN:VCALENDAR
VERSION:2.0
PRODID:-//jEvents 2.0 for Joomla//EN
CALSCALE:GREGORIAN
METHOD:PUBLISH
BEGIN:VEVENT
UID:c1b65ebf5fbb05ebe4fb5c1ed0dea660
CATEGORIES:Polar Conferences, Meetings and Events
CREATED:20190325T152402
SUMMARY:14th Workshop on Antarctic Meteorology and Climate (WAMC) & YOPP-SH Meeting
LOCATION:Charleston SC\, USA
DESCRIPTION:\nWorkshop on Antarctic Meteorology and Climate (WAMC)\nThis workshop is or
 ganized annually by members of the WAMC Planning Committee across the globe
 . The WAMC brings together those with research and operational/logistical i
 nterests in Antarctic meteorology and forecasting and related disciplines. 
 As in the past, the annual activities and status of the Antarctic Meteorolo
 gical Research Center (AMRC), Automatic Weather Station (AWS), and Antarcti
 c Mesoscale Prediction System (AMPS) efforts will be addressed, and feedbac
 k and results from their user communities will be solicited. More broadly, 
 this workshop also is a forum for current results and ideas in Antarctic me
 teorology, numerical weather prediction, and weather forecasting, from cont
 ributors around the world. There will be discussions on the relationships a
 mong international efforts and Antarctic forecasting, logistical support, a
 nd science. We welcome papers on these topics.\nSCAR Operational Meteorolog
 y in the Antarctic (OpMet)\nThe SCAR Op Met Expert Group will be holding a 
 meeting during the WAMC, with the time to be determined. If you are not in 
 the OpMet Expert Group and are interested in learning more about this, plea
 se inquire at the workshop. \nYear of Polar Prediction in the Southern Hemi
 sphere (YOPP-SH)\nFor the fourth YOPP-SH meeting in Charleston, project inv
 estigators and representatives of national agencies active in Antarctica ar
 e invited to provide updates on their activities during the YOPP Special Ob
 serving Period (SOP) in the Southern Hemisphere, November 16, 2018-February
  15, 2019. To make most effective use in data denial experiments of all the
  additional radiosonde observations collected during the SOP, we want to as
 semble complete radiosonde data sets from all operators. We will likely wan
 t to assemble all surface observations as well. A key question to be decide
 d by the meeting is whether to hold a winter SOP in the April-June time per
 iod in either 2020 or 2021. \nWe invite you to explore this website, and fe
 el free to contact us (http://www.ssec.wisc.edu/contact-form/index.php?name
 =AMRC) if you have any questions.\nMore information: <a href="http://amrc.s
 sec.wisc.edu/meetings/meeting2019/">http://amrc.ssec.wisc.edu/meetings/meet
 ing2019/</a>\nAbbreviated Abstract Submission Deadline - 1 May 2019\nExtend
 ed Abstract Submission Deadline - 30 May 2019\nDeadline for registration is
  30 May 2019\n
X-ALT-DESC;FMTTYPE=text/html:<p></p><p><strong><strong>Workshop on Antarctic Meteorology and Climate</st
 rong>&nbsp;(WAMC)</strong></p><p>This workshop is organized annually by mem
 bers of the WAMC Planning Committee across the globe. The WAMC brings toget
 her those with research and operational/logistical interests in Antarctic m
 eteorology and forecasting and related disciplines. As in the past, the ann
 ual activities and status of the Antarctic Meteorological Research Center (
 AMRC), Automatic Weather Station (AWS), and Antarctic Mesoscale Prediction 
 System (AMPS) efforts will be addressed, and feedback and results from thei
 r user communities will be solicited. More broadly, this workshop also is a
  forum for current results and ideas in Antarctic meteorology, numerical we
 ather prediction, and weather forecasting, from contributors around the wor
 ld. There will be discussions on the relationships among international effo
 rts and Antarctic forecasting, logistical support, and science. We welcome 
 papers on these topics.</p><p><strong>SCAR Operational Meteorology in the A
 ntarctic (OpMet)</strong></p><p>The SCAR Op Met Expert Group will be holdin
 g a meeting during the WAMC, with the time to be determined. If you are not
  in the OpMet Expert Group and are interested in learning more about this, 
 please inquire at the workshop.&nbsp;</p><p><strong><strong>Year of Polar P
 rediction in the Southern Hemisphere (</strong>YOPP-SH)</strong></p><p>For 
 the fourth YOPP-SH meeting in Charleston, project investigators and represe
 ntatives of national agencies active in Antarctica are invited to provide u
 pdates on their activities during the YOPP Special Observing Period (SOP) i
 n the Southern Hemisphere, November 16, 2018-February 15, 2019. To make mos
 t effective use in data denial experiments of all the additional radiosonde
  observations collected during the SOP, we want to assemble complete radios
 onde data sets from all operators. We will likely want to assemble all surf
 ace observations as well. A key question to be decided by the meeting is wh
 ether to hold a winter SOP in the April-June time period in either 2020 or 
 2021.&nbsp;</p><p>We invite you to explore this website, and feel free to&n
 bsp;<a href="http://www.ssec.wisc.edu/contact-form/index.php?name=AMRC">con
 tact us</a>&nbsp;if you have any questions.</p><p>More information:&nbsp;<a
  href="http://amrc.ssec.wisc.edu/meetings/meeting2019/">http://amrc.ssec.wi
 sc.edu/meetings/meeting2019/</a></p><p><strong>Abbreviated Abstract Submiss
 ion Deadline -&nbsp;1 May 2019</strong><br /><strong>Extended Abstract Subm
 ission Deadline - 30 May 2019<br /></strong><strong>Deadline for registrati
 on is 30 May 2019</strong></p>
DTSTAMP:20260419T122326Z
DTSTART;TZID=UTC;VALUE=DATE:20190625
DTEND;TZID=UTC;VALUE=DATE:20190628
SEQUENCE:0
TRANSP:OPAQUE
END:VEVENT
END:VCALENDAR