BEGIN:VCALENDAR
VERSION:2.0
PRODID:-//jEvents 2.0 for Joomla//EN
CALSCALE:GREGORIAN
METHOD:PUBLISH
BEGIN:VEVENT
UID:2b15e22074c8c0d8268eb316c4f2a651
CATEGORIES:Polar Conferences, Meetings and Events
CREATED:20190326T074852
SUMMARY:SAS International Planning and Coordination Workshop
LOCATION:Woods Hole\, Massachusetts\, USA
DESCRIPTION:<p>The goals of the Synoptic Arctic Survey (SAS) International Planning and
  Coordination Workshop include planning coordinated field sampling; interna
 tional data sharing; education, including graduate student participation, p
 ost field-season data synthesis, public outreach, and involvement of Indige
 nous communities; and identifying additional measurements (e.g., atmospheri
 c measurements) or approaches (e.g., modeling) that would contribute to acc
 omplishing the goals of the SAS. The SAS is a ground-up effort and wide par
 ticipation, including all professional levels of scientists, graduate stude
 nts, and science managers across multiple disciplines, and Indigenous commu
 nity members, in the planning is welcome.</p><p>The participation of early 
 career scientists is particularly encouraged. Limited support is available 
 for early career scientists, both from within the U.S. and abroad. For this
  workshop, early career scientists are defined as post-doctoral investigato
 rs and untenured, tenure-track equivalent individuals within five years of 
 their initial appointment. To apply for support, individuals should send a 
 curriculum vitae and a statement of how their research interests align with
  the SAS scientific questions to&nbsp;<a href="https://www.arcus.org/sites/
 all/modules/civicrm/extern/url.php?u=14002&amp;qid=2384458"><span id="cloak
 36751d1532c94e7d41af166a629ca782">This email address is being protected fro
 m spambots. You need JavaScript enabled to view it.</span><script type='tex
 t/javascript'>
				document.getElementById('cloak36751d1532c94e7d41af166a62
 9ca782').innerHTML = '';
				var prefix = '&#109;a' + 'i&#108;' + '&#116;o'
 ;
				var path = 'hr' + 'ef' + '=';
				var addy36751d1532c94e7d41af166a629
 ca782 = 'c&#97;shj&#105;&#97;n' + '&#64;';
				addy36751d1532c94e7d41af166a
 629ca782 = addy36751d1532c94e7d41af166a629ca782 + 'wh&#111;&#105;' + '&#46;
 ' + '&#101;d&#117;';
				var addy_text36751d1532c94e7d41af166a629ca782 = 'c
 &#97;shj&#105;&#97;n' + '&#64;' + 'wh&#111;&#105;' + '&#46;' + '&#101;d&#11
 7;';document.getElementById('cloak36751d1532c94e7d41af166a629ca782').innerH
 TML += '<a ' + path + '\'' + prefix + ':' + addy36751d1532c94e7d41af166a629
 ca782 + '\'>'+addy_text36751d1532c94e7d41af166a629ca782+'<\/a>';
		</script
 ></a>&nbsp;by 15 April 2019.</p><p><strong>Registration deadline:&nbsp;</st
 rong>30 April 2019</p><p><strong>Early career travel support deadline:&nbsp
 ;</strong>15 April 2019</p><p>For more information, including the internati
 onal science plan, go to:<br /><a href="https://www.arcus.org/sites/all/mod
 ules/civicrm/extern/url.php?u=14001&amp;qid=2384458">Synoptic Arctic Survey
  homepage</a></p>
CONTACT:Carin Ashjian, Email: This email address is being protected from spambots. You need JavaScript enabled to view it.
				document.getElementById('cloak71ab54175a094cfca5c7fbe13d1ed735').innerHTML = '';
				var prefix = '&#109;a' + 'i&#108;' + '&#116;o';
				var path = 'hr' + 'ef' + '=';
				var addy71ab54175a094cfca5c7fbe13d1ed735 = 'c&#97;shj&#105;&#97;n' + '&#64;';
				addy71ab54175a094cfca5c7fbe13d1ed735 = addy71ab54175a094cfca5c7fbe13d1ed735 + 'wh&#111;&#105;' + '&#46;' + '&#101;d&#117;';
				var addy_text71ab54175a094cfca5c7fbe13d1ed735 = 'c&#97;shj&#105;&#97;n' + '&#64;' + 'wh&#111;&#105;' + '&#46;' + '&#101;d&#117;';document.getElementById('cloak71ab54175a094cfca5c7fbe13d1ed735').innerHTML += '<a ' + path + '\'' + prefix + ':' + addy71ab54175a094cfca5c7fbe13d1ed735 + '\'>'+addy_text71ab54175a094cfca5c7fbe13d1ed735+'';
		
DTSTAMP:20260419T204915Z
DTSTART;TZID=UTC;VALUE=DATE:20190515
DTEND;TZID=UTC;VALUE=DATE:20190517
SEQUENCE:0
TRANSP:OPAQUE
END:VEVENT
END:VCALENDAR