BEGIN:VCALENDAR
VERSION:2.0
PRODID:-//jEvents 2.0 for Joomla//EN
CALSCALE:GREGORIAN
METHOD:PUBLISH
BEGIN:VEVENT
UID:35ac65b2a8c9a3872449040f8efd927f
CATEGORIES:Polar Conferences, Meetings and Events
CREATED:20190405T090615
SUMMARY:Fifth Sea level and Coastal Change (SLACC) Field Conference
LOCATION:Devon and Cornwall\, UK
DESCRIPTION:<p>The Sea Level and Coastal Change (SLaCC) meeting series comes to the Sou
 th West in 2019 to bring together scientists working in sea level and coast
 al research.&nbsp;</p><p>Attendance is open across all career stages and to
  all SLaCC related disciplines (including: palaeo studies, archaeology, mod
 ern processes and geomorphology, past and future sea-level change, coastal 
 communities, adaptation and resilience).&nbsp;</p><p><strong>Abstract Submi
 ssion Deadline: 30 June</strong></p><p>More information you´ll find here:&n
 bsp;<a href="https://www.plymouth.ac.uk/whats-on/fifth-sea-level-and-coasta
 l-change-field-conference-devon-and-cornwall">https://www.plymouth.ac.uk/wh
 ats-on/fifth-sea-level-and-coastal-change-field-conference-devon-and-cornwa
 ll</a></p>
DTSTAMP:20260424T095416Z
DTSTART;TZID=UTC;VALUE=DATE:20190901
DTEND;TZID=UTC;VALUE=DATE:20190905
SEQUENCE:0
TRANSP:OPAQUE
END:VEVENT
END:VCALENDAR