BEGIN:VCALENDAR
VERSION:2.0
PRODID:-//jEvents 2.0 for Joomla//EN
CALSCALE:GREGORIAN
METHOD:PUBLISH
BEGIN:VEVENT
UID:a132183d728f0259bf2dc7ee9de953d0
CATEGORIES:Polar Conferences, Meetings and Events
CREATED:20190417T151001
SUMMARY:BGA New Advances in Geophysics 2019 Meeting
LOCATION:London\, UK
DESCRIPTION:<p>The&nbsp;<a href="https://britgeophysics.org/">British Geophysical Assoc
 iation</a>&nbsp;and the&nbsp;<a href="http://www.nsgg.org.uk/2018/">Near Su
 rface Geophysics Group</a>&nbsp;of the Geological Society of London are ple
 ased to announce that 2019’s New Advances in Geophysics meeting will focus 
 on&nbsp;<strong><em>Geophysics in the Critical Zone: Modern Approaches to C
 haracterising Near-Surface Materials&nbsp;</em>–&nbsp;</strong>the upper 10
 s of metres of the ground that dominate our interactions with geology.</p><
 p>The drive towards sustainable economic development requires, more than ev
 er, an understanding of the relationship between society and the geology on
  which it is built.&nbsp; The properties of the near-surface environment, a
 nd the processes acting in it, affect us daily – in the foundations of our 
 cities and future energy generation, the aquifers which store our water, an
 d the soils that grow our food and preserve our history.</p><p>The near-sur
 face represents a uniquely challenging environment for geophysical surveys,
  comprising diverse natural and man-made materials, extreme changes in loca
 l ground conditions, and a complex range of subsurface processes. Nonethele
 ss, geophysicists have developed methods to address these challenges.&nbsp;
  This meeting highlights modern geophysical approaches to understand the ne
 ar-surface environment, and showcases future directions for the discipline.
 </p><p>Abstract submissions will open in mid-May.</p><p>&nbsp;</p>
DTSTAMP:20260424T131757Z
DTSTART;TZID=UTC;VALUE=DATE:20191111
DTEND;TZID=UTC;VALUE=DATE:20191113
SEQUENCE:0
TRANSP:OPAQUE
END:VEVENT
END:VCALENDAR