BEGIN:VCALENDAR
VERSION:2.0
PRODID:-//jEvents 2.0 for Joomla//EN
CALSCALE:GREGORIAN
METHOD:PUBLISH
BEGIN:VEVENT
UID:7b3b54cf287ededc18a107264ec213b3
CATEGORIES:APECS Events
CREATED:20190428T160627
SUMMARY:APECS Workshop on "Socio-ecological Interactions in the Arctic for Integral Sustainability"at ASSW 2019
LOCATION:Arkhangelsk\, Russia
DESCRIPTION:APECS will be organizing a workshop on "Socio-ecological Interactions in th
 e Arctic for Integral Sustainability" at the upcoming Arctic Science Summit
  Week (ASSW) 2019. For more information please visit the workshop website h
 ttps://www.apecs.is/events/upcoming-event-highlights/assw-2019.html (events
 /upcoming-event-highlights/assw-2019.html)\n
X-ALT-DESC;FMTTYPE=text/html:<p>APECS will be organizing a workshop on&nbsp;"Socio-ecological Interactio
 ns in the Arctic for Integral Sustainability" at the upcoming Arctic Scienc
 e Summit Week (ASSW) 2019. For more information please visit the workshop w
 ebsite <a href="events/upcoming-event-highlights/assw-2019.html">https://ww
 w.apecs.is/events/upcoming-event-highlights/assw-2019.html</a></p>
CONTACT:This email address is being protected from spambots. You need JavaScript enabled to view it.
				document.getElementById('cloak451e7f68d0e6f0442722a98cf11abde7').innerHTML = '';
				var prefix = '&#109;a' + 'i&#108;' + '&#116;o';
				var path = 'hr' + 'ef' + '=';
				var addy451e7f68d0e6f0442722a98cf11abde7 = '&#105;nf&#111;' + '&#64;';
				addy451e7f68d0e6f0442722a98cf11abde7 = addy451e7f68d0e6f0442722a98cf11abde7 + '&#97;p&#101;cs' + '&#46;' + '&#105;s';
				var addy_text451e7f68d0e6f0442722a98cf11abde7 = '&#105;nf&#111;' + '&#64;' + '&#97;p&#101;cs' + '&#46;' + '&#105;s';document.getElementById('cloak451e7f68d0e6f0442722a98cf11abde7').innerHTML += '<a ' + path + '\'' + prefix + ':' + addy451e7f68d0e6f0442722a98cf11abde7 + '\'>'+addy_text451e7f68d0e6f0442722a98cf11abde7+'';
		
DTSTAMP:20260419T190934Z
DTSTART;TZID=UTC;VALUE=DATE:20190523
DTEND;TZID=UTC;VALUE=DATE:20190524
SEQUENCE:0
TRANSP:OPAQUE
END:VEVENT
END:VCALENDAR