BEGIN:VCALENDAR
VERSION:2.0
PRODID:-//jEvents 2.0 for Joomla//EN
CALSCALE:GREGORIAN
METHOD:PUBLISH
BEGIN:VEVENT
UID:47e93ad9d188214067bbf84457913ee9
CATEGORIES:APECS Events
CREATED:20190428T161142
SUMMARY:APECS Alpine / Cryosphere Webinar: Glacier changes in the European Alps between 1850 and 2100
LOCATION:online
DESCRIPTION:<p>APECS Alpine Cryosphere Webinar: Glacier changes in the European Alps be
 tween 1850 and 2100</p><p>Date: Wed, 5 June 2019</p><p>Time: 15:00 UTC (17:
 00 CEST)</p><p><a href="https://zoom.us/webinar/register/WN_aUjCQT8iTvCL9gn
 nxFLjAg">Registration Link</a></p><p>Presenter: Dr. Michael Zemp, Universit
 y of Zurich, Switzerland</p><p>Summary:</p><p>In his PhD, Michael Zemp inve
 stigated glacier change in the European Alps after 1850. Today, he is the D
 irector of the World Glacier Monitoring Service at the Department of Geogra
 phy, University of Zurich. In his talk, he will introduce glacier monitorin
 g-methods and provide an overview on the fluctuations of Alpine glaciers fr
 om the “Little Ice Age” to the end of the 21st century. Michael will also p
 ut the Alpine glacier changes into the context of global glacier changes an
 d related sea-level rise contributions.<br /><br /></p>
CONTACT:This email address is being protected from spambots. You need JavaScript enabled to view it.
				document.getElementById('cloaka7fdfa78d5951050275eeca9dbd0a76b').innerHTML = '';
				var prefix = '&#109;a' + 'i&#108;' + '&#116;o';
				var path = 'hr' + 'ef' + '=';
				var addya7fdfa78d5951050275eeca9dbd0a76b = '&#105;nf&#111;' + '&#64;';
				addya7fdfa78d5951050275eeca9dbd0a76b = addya7fdfa78d5951050275eeca9dbd0a76b + '&#97;p&#101;cs' + '&#46;' + '&#105;s';
				var addy_texta7fdfa78d5951050275eeca9dbd0a76b = '&#105;nf&#111;' + '&#64;' + '&#97;p&#101;cs' + '&#46;' + '&#105;s';document.getElementById('cloaka7fdfa78d5951050275eeca9dbd0a76b').innerHTML += '<a ' + path + '\'' + prefix + ':' + addya7fdfa78d5951050275eeca9dbd0a76b + '\'>'+addy_texta7fdfa78d5951050275eeca9dbd0a76b+'';
		
DTSTAMP:20260419T205018Z
DTSTART;TZID=UTC:20190605T150000
DTEND;TZID=UTC:20190605T160000
SEQUENCE:0
TRANSP:OPAQUE
END:VEVENT
END:VCALENDAR