BEGIN:VCALENDAR
VERSION:2.0
PRODID:-//jEvents 2.0 for Joomla//EN
CALSCALE:GREGORIAN
METHOD:PUBLISH
BEGIN:VEVENT
UID:82b5d06b1f965b4c0843df50188f3f21
CATEGORIES:Polar Conferences, Meetings and Events
CREATED:20190512T095518
SUMMARY:SCAR COMNAP 2020 - cancelled
LOCATION:Hobart\, Australia
DESCRIPTION:We are continuing to work on moving key elements of the SCAR Open Science C
 onference online (https://scar.org/events/scar-osc/#osc2020). A range of se
 ssions will be made available or streamed live during the week of the origi
 nal OSC (3rd-7th August 2020) and a dedicated website will launch soon. Eve
 ryone who originally submitted an abstract should now have received an emai
 l asking for their consent to be in the abstract book. If you have any ques
 tions about our plans, please get in touch via This email address is being 
 protected from spambots. You need JavaScript enabled to view it.
				docume
 nt.getElementById('cloakf67523672cc92eedb987904d1493fd8a').innerHTML = '';

 				var prefix = '&#109;a' + 'i&#108;' + '&#116;o';
				var path = 'hr' + '
 ef' + '=';
				var addyf67523672cc92eedb987904d1493fd8a = '&#105;nf&#111;' 
 + '&#64;';
				addyf67523672cc92eedb987904d1493fd8a = addyf67523672cc92eedb
 987904d1493fd8a + 'sc&#97;r' + '&#46;' + '&#111;rg';
				var addy_textf6752
 3672cc92eedb987904d1493fd8a = '&#105;nf&#111;' + '&#64;' + 'sc&#97;r' + '&#
 46;' + '&#111;rg';document.getElementById('cloakf67523672cc92eedb987904d149
 3fd8a').innerHTML += '<a ' + path + '\'' + prefix + ':' + addyf67523672cc92
 eedb987904d1493fd8a + '\'>'+addy_textf67523672cc92eedb987904d1493fd8a+'';
	
 	.\n
X-ALT-DESC;FMTTYPE=text/html:<p>We are continuing to work on moving key elements of the SCAR Open Scienc
 e Conference online (https://scar.org/events/scar-osc/#osc2020). A range of
  sessions will be made available or streamed live during the week of the or
 iginal OSC (3rd-7th August 2020) and a dedicated website will launch soon. 
 Everyone who originally submitted an abstract should now have received an e
 mail asking for their consent to be in the abstract book. If you have any q
 uestions about our plans, please get in touch via <span id="cloakf67523672c
 c92eedb987904d1493fd8a">This email address is being protected from spambots
 . You need JavaScript enabled to view it.</span><script type='text/javascri
 pt'>
				document.getElementById('cloakf67523672cc92eedb987904d1493fd8a').i
 nnerHTML = '';
				var prefix = '&#109;a' + 'i&#108;' + '&#116;o';
				var 
 path = 'hr' + 'ef' + '=';
				var addyf67523672cc92eedb987904d1493fd8a = '&
 #105;nf&#111;' + '&#64;';
				addyf67523672cc92eedb987904d1493fd8a = addyf6
 7523672cc92eedb987904d1493fd8a + 'sc&#97;r' + '&#46;' + '&#111;rg';
				var
  addy_textf67523672cc92eedb987904d1493fd8a = '&#105;nf&#111;' + '&#64;' + '
 sc&#97;r' + '&#46;' + '&#111;rg';document.getElementById('cloakf67523672cc9
 2eedb987904d1493fd8a').innerHTML += '<a ' + path + '\'' + prefix + ':' + ad
 dyf67523672cc92eedb987904d1493fd8a + '\'>'+addy_textf67523672cc92eedb987904
 d1493fd8a+'<\/a>';
		</script>.</p>
CONTACT:Project Manager, Rhonda Bartley at the Australian Antarctic Division – email: This email address is being protected from spambots. You need JavaScript enabled to view it.
				document.getElementById('cloakdf53e4ccff521b5c24721ad5c7d9b4bc').innerHTML = '';
				var prefix = '&#109;a' + 'i&#108;' + '&#116;o';
				var path = 'hr' + 'ef' + '=';
				var addydf53e4ccff521b5c24721ad5c7d9b4bc = 'SCARCOMNAP2020' + '&#64;';
				addydf53e4ccff521b5c24721ad5c7d9b4bc = addydf53e4ccff521b5c24721ad5c7d9b4bc + '&#97;&#97;d' + '&#46;' + 'g&#111;v' + '&#46;' + '&#97;&#117;';
				var addy_textdf53e4ccff521b5c24721ad5c7d9b4bc = 'SCARCOMNAP2020' + '&#64;' + '&#97;&#97;d' + '&#46;' + 'g&#111;v' + '&#46;' + '&#97;&#117;';document.getElementById('cloakdf53e4ccff521b5c24721ad5c7d9b4bc').innerHTML += '<a ' + path + '\'' + prefix + ':' + addydf53e4ccff521b5c24721ad5c7d9b4bc + '\'>'+addy_textdf53e4ccff521b5c24721ad5c7d9b4bc+'';
		
DTSTAMP:20260419T175341Z
DTSTART;TZID=UTC;VALUE=DATE:20200731
DTEND;TZID=UTC;VALUE=DATE:20200812
SEQUENCE:0
TRANSP:OPAQUE
END:VEVENT
END:VCALENDAR