BEGIN:VCALENDAR
VERSION:2.0
PRODID:-//jEvents 2.0 for Joomla//EN
CALSCALE:GREGORIAN
METHOD:PUBLISH
BEGIN:VEVENT
UID:2422425f83ce9c6760b236a8e696058b
CATEGORIES:Polar Conferences, Meetings and Events
CREATED:20190520T093524
SUMMARY:Seminar on the Contribution of Traditional Ecological Knowledge and Modern Technologies in a Changing Arctic 
LOCATION:Paris\, France
DESCRIPTION:<p>Building on the success of the 2016 Franco-Nordic seminar in Tromsø, the
  Institut français de Norvège and&nbsp; the&nbsp;Research Council of Norway
 &nbsp;have decided to&nbsp; further explore&nbsp;topic of "The Changing Arc
 tic".</p><p>The event is entitled<strong>&nbsp;Contribution of traditional 
 ecological knowledge and modern technologies in a Changing Arctic.&nbsp;</s
 trong>The Arctic region is especially exposed to climate change, undergoing
  fast-paced transformations. Its natural resources attract all kinds of ind
 ustries, from fisheries to oil drilling, while local communities are going 
 through important socio-economic changes. These rapid modifications have le
 d to significant degradations of the local biodiversity, which in turn affe
 ct different sectors of the economy, like reindeer herding or fishing. This
  seminar aims to tackle local population’s adaptation to these evolutions i
 n the Arctic’s industry and biodiversity, in a climate change context. How 
 can modern technology, social and biological science work collaboratively w
 ith local and indigenous ecological knowledge? We will focus on the contrib
 ution of traditional ecological knowledge and modern technologies, as well 
 as the complex interactions between them.</p><p>The seminar will last a day
  and a half, with a full day of presentations and debates, followed by half
  a day of collaborative work in groups. Please find more the programme and 
 register on&nbsp;the&nbsp;<a href="https://xrm.eudonet.com/XRM/ut?tok=EF4E7
 BFE&amp;cs=Sglspn8JDYxVNMFT8Nx340r-Zv3mKI0X&amp;p=7rXDbq4MB6VqGjvE5JvcUgoXs
 SnqrvXNWFez6OKxjAlQ8Bbb0L6IFvjtt1C2PQKsn9GG9M3XTC6a5LpH3JHAsRv9vNYzs0tIkTz7
 nYmlU18%3d">Seminar Website</a>.</p><p>Some&nbsp;<strong>funds</strong>&nbs
 p;can&nbsp;be provided to support&nbsp;mobility of participants travelling 
 from Norway. Please contact us at&nbsp;<span id="cloak9b5782d8887735e51415a
 70803b5cc83"><span id="cloakb3c8d732f3c0c146b74df43bf7a7f339">This email ad
 dress is being protected from spambots. You need JavaScript enabled to view
  it.</span><script type='text/javascript'>
				document.getElementById('clo
 akb3c8d732f3c0c146b74df43bf7a7f339').innerHTML = '';
				var prefix = '&#10
 9;a' + 'i&#108;' + '&#116;o';
				var path = 'hr' + 'ef' + '=';
				var add
 yb3c8d732f3c0c146b74df43bf7a7f339 = 'sc&#105;&#101;nc&#101;' + '&#64;';
			
 	addyb3c8d732f3c0c146b74df43bf7a7f339 = addyb3c8d732f3c0c146b74df43bf7a7f33
 9 + 'fr&#97;nc&#101;' + '&#46;' + 'n&#111;';
				var addy_textb3c8d732f3c0c
 146b74df43bf7a7f339 = 'sc&#105;&#101;nc&#101;' + '&#64;' + 'fr&#97;nc&#101;
 ' + '&#46;' + 'n&#111;';document.getElementById('cloakb3c8d732f3c0c146b74df
 43bf7a7f339').innerHTML += '<a ' + path + '\'' + prefix + ':' + addyb3c8d73
 2f3c0c146b74df43bf7a7f339 + '\'>'+addy_textb3c8d732f3c0c146b74df43bf7a7f339
 +'<\/a>';
		</script></span>.</p>
DTSTAMP:20260419T151636Z
DTSTART;TZID=UTC;VALUE=DATE:20190619
DTEND;TZID=UTC;VALUE=DATE:20190621
SEQUENCE:0
TRANSP:OPAQUE
END:VEVENT
END:VCALENDAR