BEGIN:VCALENDAR
VERSION:2.0
PRODID:-//jEvents 2.0 for Joomla//EN
CALSCALE:GREGORIAN
METHOD:PUBLISH
BEGIN:VEVENT
UID:7214e1a8c3c42a19a461dfb69cd0bd2f
CATEGORIES:Polar Conferences, Meetings and Events
CREATED:20190621T163149
SUMMARY:YOPP Webinar 1: Core Phase and the plans for the Consolidation Phase
DESCRIPTION:The International Coordination Office for Polar Prediction at the Alfred We
 gener Institute, together with ECMWF and Environment and Climate Change Can
 ada, is organizing webinars in preparation to the start of the upcoming pha
 se.\nIn the first webinar, hosted by the Alfred Wegener Institute, Helmholt
 z Centre for Polar and Marine Research (AWI), the chair of the PPP Steering
  Group, Thomas Jung, will provide an overview of the YOPP Core Phase and th
 e plans for the Consolidation Phase. Join the meeting here (no prior regist
 ration required): https://global.gotomeeting.com/join/879788157\n
X-ALT-DESC;FMTTYPE=text/html:<p>The International Coordination Office for Polar Prediction at the Alfred
  Wegener Institute, together with ECMWF and Environment and Climate Change 
 Canada, is organizing webinars in preparation to the start of the upcoming 
 phase.</p><p>In the first webinar, hosted by the Alfred Wegener Institute, 
 Helmholtz Centre for Polar and Marine Research (AWI), the chair of the PPP 
 Steering Group, Thomas Jung, will provide an overview of the YOPP Core Phas
 e and the plans for the Consolidation Phase. Join the meeting here (no prio
 r registration required): <a href="https://global.gotomeeting.com/join/8797
 88157">https://global.gotomeeting.com/join/879788157</a></p>
DTSTAMP:20260419T170138Z
DTSTART;TZID=UTC:20190624T093000
DTEND;TZID=UTC:20190624T103000
SEQUENCE:0
TRANSP:OPAQUE
END:VEVENT
END:VCALENDAR