BEGIN:VCALENDAR
VERSION:2.0
PRODID:-//jEvents 2.0 for Joomla//EN
CALSCALE:GREGORIAN
METHOD:PUBLISH
BEGIN:VEVENT
UID:0e047340ad172138e5c106ba9ad2cf73
CATEGORIES:Polar Conferences, Meetings and Events
CREATED:20190621T163357
SUMMARY:YOPP Webinar 2: Challenges in modelling, observations and data assimilation
DESCRIPTION:The International Coordination Office for Polar Prediction at the Alfred We
 gener Institute, together with ECMWF and Environment and Climate Change Can
 ada, is organizing 3 webinars in preparation to the start of the upcoming p
 hase.\n \nIn the second webinar, PPP Steering Group member Irina Sandu (ECM
 WF) will talk about how YOPP helps to address challenges in modelling, obse
 rvations and data assimilation – all key ingredients of numerical weather p
 rediction. Register for the meeting here: https://ecmwf.adobeconnect.com/ec
 mwfevents/\n
X-ALT-DESC;FMTTYPE=text/html:<p>The International Coordination Office for Polar Prediction at the Alfred
  Wegener Institute, together with ECMWF and Environment and Climate Change 
 Canada, is organizing 3 webinars in preparation to the start of the upcomin
 g phase.</p><p>&nbsp;</p><p>In the second webinar, PPP Steering Group membe
 r Irina Sandu (ECMWF) will talk about how YOPP helps to address challenges 
 in modelling, observations and data assimilation – all key ingredients of n
 umerical weather prediction. Register for the meeting here: <a href="https:
 //ecmwf.adobeconnect.com/ecmwfevents/">https://ecmwf.adobeconnect.com/ecmwf
 events/</a></p>
DTSTAMP:20260419T213137Z
DTSTART;TZID=UTC:20190624T150000
DTEND;TZID=UTC:20190624T154500
SEQUENCE:0
TRANSP:OPAQUE
END:VEVENT
END:VCALENDAR