BEGIN:VCALENDAR
VERSION:2.0
PRODID:-//jEvents 2.0 for Joomla//EN
CALSCALE:GREGORIAN
METHOD:PUBLISH
BEGIN:VEVENT
UID:5a176461a8c4d653fe4837dda69e6ea3
CATEGORIES:Polar Conferences, Meetings and Events
CREATED:20190621T163650
SUMMARY:YOPP Webinar 3: Efforts toward improved sea-ice forecasting
DESCRIPTION: \nThe International Coordination Office for Polar Prediction at the Alfred
  Wegener Institute, together with ECMWF and Environment and Climate Change 
 Canada, is organizing 3 webinars in preparation to the start of the upcomin
 g phase:\nIn the third webinar, PPP Steering Group member Greg Smith will t
 alk about YOPP activities at Environment and Climate Change Canada (ECCC) a
 nd efforts toward improved sea-ice forecasting. Join the meeting here: http
 s://pwgsc-nh.webex.com/webappng/sites/pwgsc-nh/dashboard/pmr/Gregory.Smith2
 Canada.ca?siteurl=pwgsc-nh\n
X-ALT-DESC;FMTTYPE=text/html:<p>&nbsp;</p><p>The International Coordination Office for Polar Prediction 
 at the Alfred Wegener Institute, together with ECMWF and Environment and Cl
 imate Change Canada, is organizing 3 webinars in preparation to the start o
 f the upcoming phase:</p><p>In the third webinar, PPP Steering Group member
  Greg Smith will talk about YOPP activities at Environment and Climate Chan
 ge Canada (ECCC) and efforts toward improved sea-ice forecasting. Join the 
 meeting here: <a href="https://pwgsc-nh.webex.com/webappng/sites/pwgsc-nh/d
 ashboard/pmr/Gregory.Smith2Canada.ca?siteurl=pwgsc-nh">https://pwgsc-nh.web
 ex.com/webappng/sites/pwgsc-nh/dashboard/pmr/Gregory.Smith2Canada.ca?siteur
 l=pwgsc-nh</a></p>
DTSTAMP:20260419T213144Z
DTSTART;TZID=UTC:20190625T150000
SEQUENCE:0
TRANSP:OPAQUE
END:VEVENT
END:VCALENDAR