BEGIN:VCALENDAR
VERSION:2.0
PRODID:-//jEvents 2.0 for Joomla//EN
CALSCALE:GREGORIAN
METHOD:PUBLISH
BEGIN:VEVENT
UID:435c8fbd6cecd2df4382dc58922f34bc
CATEGORIES:Polar Conferences, Meetings and Events
CREATED:20190705T073220
SUMMARY:EGU 2020 - Sharing Geoscience Online
LOCATION:Vienna\, Austria
DESCRIPTION:<p><strong>EGU2020: Sharing Geoscience Online</strong> (#shareEGU20) brings
  part of the activities of the EGU General Assembly 2020 online. <a href="h
 ttps://meetingorganizer.copernicus.org/EGU2020/meetingprogramme" target="_b
 lank" rel="noopener">From 4 to 8 May 2020 (CEST) everyone can join us</a> f
 or their favourite sessions. Please have a look on our <a href="https://egu
 2020.eu/sharing_geoscience_online/sharing_geoscience_online.html">EGU2020: 
 Sharing Geoscience Online page</a> and follow <a href="https://www.egu.eu/m
 eetings/general-assembly/hashtags/">EGU's social media accounts and hashtag
 s</a> for more information.</p><p><strong>Participation in EGU2020: Sharing
  Geoscience Online does not require payment of a registration fee</strong>.
  For uploads of presentation materials and commenting, authors and particip
 ants only need to have a <a href="https://administrator.copernicus.org/" ta
 rget="_blank" rel="noopener">Copernicus user account</a>. Viewing abstracts
  and presentation materials does not require any authentication. Participat
 ing in text-based session chat channels requires the provision of a nicknam
 e and your email address. To organize your participation, please consider p
 reparing your <a href="https://meetingorganizer.copernicus.org/egu2020/pers
 onal_programme" target="_blank" rel="noopener">personal programme</a>. To l
 earn more about the chat channels, please see our page on <a href="https://
 egu2020.eu/sharing_geoscience_online/how_to_use_the_chats.html">how to use 
 the chats</a>.</p><p>&nbsp;</p>
DTSTAMP:20260419T132342Z
DTSTART;TZID=UTC;VALUE=DATE:20200503
DTEND;TZID=UTC;VALUE=DATE:20200509
SEQUENCE:0
TRANSP:OPAQUE
END:VEVENT
END:VCALENDAR