BEGIN:VCALENDAR
VERSION:2.0
PRODID:-//jEvents 2.0 for Joomla//EN
CALSCALE:GREGORIAN
METHOD:PUBLISH
BEGIN:VEVENT
UID:67e0ea1d5d52808cc98c63c1d640e009
CATEGORIES:Polar Conferences, Meetings and Events
CREATED:20190930T135105
SUMMARY:Calotte Academy
LOCATION:Inari and Hetta\, Finland; Kautokeino\, Norway; Apatity\, Russia (tbc.).
DESCRIPTION:The Calotte Academy 2019 (https://calotte-academy.com/) has been postponed 
 to 12-19 November, 2019 and is planned to be organized in the European Arct
 ic — Inari and Hetta, Finland; Kautokeino, Norway; Apatity, Russia (tbc.).\
 nThe theme of the 2019 Academy is “Future Arctic Societies: Scenarios, Inno
 vations, Best Practices, Drivers &amp; Actors.”\nThe 2019 Academy will disc
 uss Arctic issues and discourses in the context of the regional and globali
 zed Arctic theoretically and holistically from many scientific and knowledg
 e angles and multi/inter-disciplinary approaches, from academic and policy-
 oriented ones, including exploitation, transportation, tourism, infrastruct
 ure and technologies, film-making, as well as telecommunications and digita
 lization. This will be done from the perspectives of past(s), present(s) an
 d in particular future(s), and from global, international, Arctic and local
  contexts in the European Arctic, as well as from points of view of differe
 nt stakeholders from indigenous peoples to business.\nApplications, incl. f
 reely formulated funding applications, should be submitted <a href="https:/
 /calotte-academy.com/" target="_blank" rel="noopener">Online</a>. The deadl
 ine for applications — which should include an abstract (ca. 250-350 words)
  and a short letter of intent — for PhD candidates and post-docs is Septemb
 er 20, 2019.\nRead the full call here (https://www.uarctic.org/media/159996
 0/calotte-academy-2019_july-call-for-papers_0.pdf).\n
X-ALT-DESC;FMTTYPE=text/html:<div class="article-intro"><p><a href="https://calotte-academy.com/" target
 ="_blank" rel="noopener">The Calotte Academy 2019</a>&nbsp;has been postpon
 ed to 12-19 November, 2019 and is planned to be organized in the European A
 rctic — Inari and Hetta, Finland; Kautokeino, Norway; Apatity, Russia (tbc.
 ).</p></div><div class="article-body"><p>The theme of the 2019 Academy is “
 Future Arctic Societies: Scenarios, Innovations, Best Practices, Drivers &a
 mp; Actors.”</p><p>The 2019 Academy will discuss Arctic issues and discours
 es in the context of the regional and globalized Arctic theoretically and h
 olistically from many scientific and knowledge angles and multi/inter-disci
 plinary approaches, from academic and policy-oriented ones, including explo
 itation, transportation, tourism, infrastructure and technologies, film-mak
 ing, as well as telecommunications and digitalization. This will be done fr
 om the perspectives of past(s), present(s) and in particular future(s), and
  from global, international, Arctic and local contexts in the European Arct
 ic, as well as from points of view of different stakeholders from indigenou
 s peoples to business.</p><p>Applications, incl. freely formulated funding 
 applications, should be submitted&nbsp;<a href="https://calotte-academy.com
 /" target="_blank" rel="noopener">Online</a>. The deadline for applications
  — which should include an abstract (ca. 250-350 words) and a short letter 
 of intent — for PhD candidates and post-docs is&nbsp;<strong>September 20, 
 2019</strong>.</p><p>Read the full call&nbsp;<a title="Calotte Academy 2019
  Call for Papers" href="https://www.uarctic.org/media/1599960/calotte-acade
 my-2019_july-call-for-papers_0.pdf" target="_blank" rel="noopener" data-udi
 ="umb://media/d895024752224a189936f75634018f3b">here</a>.</p></div>
DTSTAMP:20260420T182612Z
DTSTART;TZID=UTC;VALUE=DATE:20191112
DTEND;TZID=UTC;VALUE=DATE:20191120
SEQUENCE:0
TRANSP:OPAQUE
END:VEVENT
END:VCALENDAR