BEGIN:VCALENDAR
VERSION:2.0
PRODID:-//jEvents 2.0 for Joomla//EN
CALSCALE:GREGORIAN
METHOD:PUBLISH
BEGIN:VEVENT
UID:c60561002877ed2db2f4199a610d69bc
CATEGORIES:Field and Summer Schools
CREATED:20191107T093219
SUMMARY:Sixth International Summer School in Glaciology - cancelled
LOCATION:Fairbanks\, Alaska\, USA
DESCRIPTION:The summer school has been cancelled due to the COVID-19 pandemic. The orga
 nisers plan to run it in summer 2021 instead.\nThe Sixth International Summ
 er School in Glaciology organized by the University of Alaska, Fairbanks (U
 AF), will be held in McCarthy, central Alaska, from 6 to 16 June 2020. The 
 course will provide a comprehensive overview of the physics of glaciers and
  current research frontiers in glaciology with focus on quantitative glacio
 logy and remote sensing. The course is open to 28 graduate students from ar
 ound the world targeting primarily early stage PhD students who perform gla
 cier-related research. It will be taught by faculty of UAF’s glaciology gro
 up and several invited guest instructors from outside Alaska.Application de
 adline: 25 January 2020See for further informationhttps://glaciers.gi.alask
 a.edu/courses/summerschool\n
X-ALT-DESC;FMTTYPE=text/html:<p><em><strong><span style="color: red; font-size: medium;">The summer scho
 ol has been cancelled due to the COVID-19 pandemic. The organisers plan to 
 run it in summer 2021 instead.</span></strong></em></p><p>The&nbsp;<strong 
 class="">Sixth International Summer School in Glaciology</strong>&nbsp;orga
 nized by the University of&nbsp;Alaska, Fairbanks (UAF), will be held in Mc
 Carthy, central Alaska, from 6 to 16 June&nbsp;2020.&nbsp;<br class="" /><b
 r class="" />The course will provide a comprehensive overview of the physic
 s of glaciers and current&nbsp;research frontiers in glaciology with focus 
 on quantitative glaciology and remote sensing.&nbsp;The course is open to 2
 8 graduate students from around the world targeting primarily&nbsp;early st
 age PhD students who perform glacier-related research. It will be taught by
  faculty&nbsp;of UAF’s glaciology group and several invited guest instructo
 rs from outside Alaska.<br class="" /><br class="" /><strong class="">Appli
 cation deadline: 25 January 2020</strong><br class="" /><br class="" />See 
 for further information<br class="" /><a class="" href="https://glaciers.gi
 .alaska.edu/courses/summerschool">https://glaciers.gi.alaska.edu/courses/su
 mmerschool</a></p>
DTSTAMP:20260422T134206Z
DTSTART;TZID=UTC;VALUE=DATE:20200606
DTEND;TZID=UTC;VALUE=DATE:20200617
SEQUENCE:0
TRANSP:OPAQUE
END:VEVENT
END:VCALENDAR