BEGIN:VCALENDAR
VERSION:2.0
PRODID:-//jEvents 2.0 for Joomla//EN
CALSCALE:GREGORIAN
METHOD:PUBLISH
BEGIN:VEVENT
UID:b9f3051b7b8d29f199a3265db23b1874
CATEGORIES:Polar Conferences, Meetings and Events
CREATED:20191218T103539
SUMMARY:Online Spring 2020 course "Northern Tourism: Performances and Experiences"
LOCATION:Online
DESCRIPTION:The course addresses tourism in the Arctic and Subarctic with an emphasis o
 n tourist's experience and the connections between tourism, host communitie
 s and landscapes. The course is part of a joint Master's focus offered by t
 he . \nIssues to be dealt with include tourist and host encounters, and cul
 tural and environmental change and the role of northern landscapes in touri
 st experiences. Instruction is based on research grounded in different theo
 retical approaches and presenting diverse cases.\nAt the end of the course 
 the students will be able to\n\n - Describe the main characteristics of tou
 rism in the Circumpolar North\n - Compare tourism in the Circumpolar North 
 and in other regions\n - Apply theoretical concepts to describe tourist's e
 xperiences and analyze their performances\n - Apply relevant theoretical co
 ncepts to analyze tourist's performances\n - Assess and critically discuss 
 tourism development in different regions in the Circumpolar North in relati
 on to different groups of tourists and modes of travelTime and location: Sp
 ring 2020 (March 3 – May 5). This online course is provided via the Moodle 
 learning environment of University of Iceland.\nAdmission requirements: App
 licants must have a Bachelor's degree in tourism, social science, humanitie
 s, or business administration. Admission to the course by students from uni
 versities which do not participate in this course may be restricted. For mo
 re information, please contact the course coordinator (<a href="mailto:hwel
 ling@hi.is"></a>This email address is being protected from spambots. You ne
 ed JavaScript enabled to view it.
				document.getElementById('cloak4e4037d
 0eb1a5e098fe72b1574518d63').innerHTML = '';
				var prefix = '&#109;a' + 'i
 &#108;' + '&#116;o';
				var path = 'hr' + 'ef' + '=';
				var addy4e4037d0
 eb1a5e098fe72b1574518d63 = 'hw&#101;ll&#105;ng' + '&#64;';
				addy4e4037d0
 eb1a5e098fe72b1574518d63 = addy4e4037d0eb1a5e098fe72b1574518d63 + 'h&#105;'
  + '&#46;' + '&#105;s';
				var addy_text4e4037d0eb1a5e098fe72b1574518d63 =
  'hw&#101;ll&#105;ng' + '&#64;' + 'h&#105;' + '&#46;' + '&#105;s';document.
 getElementById('cloak4e4037d0eb1a5e098fe72b1574518d63').innerHTML += '<a ' 
 + path + '\'' + prefix + ':' + addy4e4037d0eb1a5e098fe72b1574518d63 + '\'>'
 +addy_text4e4037d0eb1a5e098fe72b1574518d63+'';
		).\nApplying for the cours
 e: The coordinators of the participating universities should nominate their
  students for this course by email to Sigríður Sif Magnúsdóttir ( (mailto:s
 iggasif@hi.is)This email address is being protected from spambots. You need
  JavaScript enabled to view it.
				document.getElementById('cloakccdfe7732
 dfcd096e3efde93d97a62e5').innerHTML = '';
				var prefix = '&#109;a' + 'i&#
 108;' + '&#116;o';
				var path = 'hr' + 'ef' + '=';
				var addyccdfe7732d
 fcd096e3efde93d97a62e5 = 's&#105;gg&#97;s&#105;f' + '&#64;';
				addyccdfe7
 732dfcd096e3efde93d97a62e5 = addyccdfe7732dfcd096e3efde93d97a62e5 + 'h&#105
 ;' + '&#46;' + '&#105;s';
				var addy_textccdfe7732dfcd096e3efde93d97a62e5
  = 's&#105;gg&#97;s&#105;f' + '&#64;' + 'h&#105;' + '&#46;' + '&#105;s';doc
 ument.getElementById('cloakccdfe7732dfcd096e3efde93d97a62e5').innerHTML += 
 '<a ' + path + '\'' + prefix + ':' + addyccdfe7732dfcd096e3efde93d97a62e5 +
  '\'>'+addy_textccdfe7732dfcd096e3efde93d97a62e5+'';
		). Last nomination d
 ay is February 3, 2020.\nTogether with nominations the following informatio
 n needs to be provided by the home department/student:\n1. Confirmation fro
 m home department of registration in MS studies\n2. Confirmation from home 
 department that the credits will be evaluated \n3. Scanned copy of passport
  of student\n4. Scanned certificate of a completed undergraduate degree\nCo
 urse coordinators of participating universities:\n<a title="Nipissing Unive
 rsity" href="https://www.uarctic.org/member-profiles/canada/35981/nipissing
 -university" data-udi="umb://document/67aa5e71eb1741e0a9bf7dd624842682">Nip
 issing University</a> - Patrick Maher ( (mailto:patmaher@nipissingu.ca)This
  email address is being protected from spambots. You need JavaScript enable
 d to view it.
				document.getElementById('cloakcdd7d0e54ef8ea011461f57ff0d
 464d1').innerHTML = '';
				var prefix = '&#109;a' + 'i&#108;' + '&#116;o';
 
				var path = 'hr' + 'ef' + '=';
				var addycdd7d0e54ef8ea011461f57ff0d4
 64d1 = 'p&#97;tm&#97;h&#101;r' + '&#64;';
				addycdd7d0e54ef8ea011461f57ff
 0d464d1 = addycdd7d0e54ef8ea011461f57ff0d464d1 + 'n&#105;p&#105;ss&#105;ng&
 #117;' + '&#46;' + 'c&#97;';
				var addy_textcdd7d0e54ef8ea011461f57ff0d46
 4d1 = 'p&#97;tm&#97;h&#101;r' + '&#64;' + 'n&#105;p&#105;ss&#105;ng&#117;' 
 + '&#46;' + 'c&#97;';document.getElementById('cloakcdd7d0e54ef8ea011461f57f
 f0d464d1').innerHTML += '<a ' + path + '\'' + prefix + ':' + addycdd7d0e54e
 f8ea011461f57ff0d464d1 + '\'>'+addy_textcdd7d0e54ef8ea011461f57ff0d464d1+''
 ;
		)\n<a title="UiT The Arctic University of Norway" href="https://www.uar
 ctic.org/member-profiles/norway/8922/uit-the-arctic-university-of-norway" d
 ata-udi="umb://document/867f059d2582452fbe0ad205f61d19b9">UiT the Arctic Un
 iversity of Norway</a> - Bente Heimtun ( (mailto:bente.heimtun@uit.no)This 
 email address is being protected from spambots. You need JavaScript enabled
  to view it.
				document.getElementById('cloak13f798dc8c4c8d653b8340ef21fd
 a2e1').innerHTML = '';
				var prefix = '&#109;a' + 'i&#108;' + '&#116;o';

 				var path = 'hr' + 'ef' + '=';
				var addy13f798dc8c4c8d653b8340ef21fda
 2e1 = 'b&#101;nt&#101;.h&#101;&#105;mt&#117;n' + '&#64;';
				addy13f798dc8
 c4c8d653b8340ef21fda2e1 = addy13f798dc8c4c8d653b8340ef21fda2e1 + '&#117;&#1
 05;t' + '&#46;' + 'n&#111;';
				var addy_text13f798dc8c4c8d653b8340ef21fda
 2e1 = 'b&#101;nt&#101;.h&#101;&#105;mt&#117;n' + '&#64;' + '&#117;&#105;t' 
 + '&#46;' + 'n&#111;';document.getElementById('cloak13f798dc8c4c8d653b8340e
 f21fda2e1').innerHTML += '<a ' + path + '\'' + prefix + ':' + addy13f798dc8
 c4c8d653b8340ef21fda2e1 + '\'>'+addy_text13f798dc8c4c8d653b8340ef21fda2e1+'
 ';
		) \n<a title="Umeå University" href="https://www.uarctic.org/member-pr
 ofiles/sweden/8807/umea-university" data-udi="umb://document/e3b35330bb1241
 4a8e6ad3051d1bfabe">Umeå University</a> - Doris Carson ( (mailto:doris.cars
 on@umu.se)This email address is being protected from spambots. You need Jav
 aScript enabled to view it.
				document.getElementById('cloaka65377a838071
 5c0c11e2aba686ec370').innerHTML = '';
				var prefix = '&#109;a' + 'i&#108;
 ' + '&#116;o';
				var path = 'hr' + 'ef' + '=';
				var addya65377a8380715
 c0c11e2aba686ec370 = 'd&#111;r&#105;s.c&#97;rs&#111;n' + '&#64;';
				addya
 65377a8380715c0c11e2aba686ec370 = addya65377a8380715c0c11e2aba686ec370 + '&
 #117;m&#117;' + '&#46;' + 's&#101;';
				var addy_texta65377a8380715c0c11e2
 aba686ec370 = 'd&#111;r&#105;s.c&#97;rs&#111;n' + '&#64;' + '&#117;m&#117;'
  + '&#46;' + 's&#101;';document.getElementById('cloaka65377a8380715c0c11e2a
 ba686ec370').innerHTML += '<a ' + path + '\'' + prefix + ':' + addya65377a8
 380715c0c11e2aba686ec370 + '\'>'+addy_texta65377a8380715c0c11e2aba686ec370+
 '';
		)\n<a title="University of Oulu" href="https://www.uarctic.org/member
 -profiles/finland/8878/university-of-oulu" data-udi="umb://document/7a3ce29
 81fe849dd9e9e7aa72b5a6468">University of Oulu</a> – Kaarina Tervo-Kankare (
  (mailto:kaarina.tervo-kankare@oulu.fi)This email address is being protecte
 d from spambots. You need JavaScript enabled to view it.
				document.getEl
 ementById('cloak329a4fb0815da49de2c488b5e78ec2a0').innerHTML = '';
				var 
 prefix = '&#109;a' + 'i&#108;' + '&#116;o';
				var path = 'hr' + 'ef' + '=
 ';
				var addy329a4fb0815da49de2c488b5e78ec2a0 = 'k&#97;&#97;r&#105;n&#97;
 .t&#101;rv&#111;-k&#97;nk&#97;r&#101;' + '&#64;';
				addy329a4fb0815da49de
 2c488b5e78ec2a0 = addy329a4fb0815da49de2c488b5e78ec2a0 + '&#111;&#117;l&#11
 7;' + '&#46;' + 'f&#105;';
				var addy_text329a4fb0815da49de2c488b5e78ec2a
 0 = 'k&#97;&#97;r&#105;n&#97;.t&#101;rv&#111;-k&#97;nk&#97;r&#101;' + '&#64
 ;' + '&#111;&#117;l&#117;' + '&#46;' + 'f&#105;';document.getElementById('c
 loak329a4fb0815da49de2c488b5e78ec2a0').innerHTML += '<a ' + path + '\'' + p
 refix + ':' + addy329a4fb0815da49de2c488b5e78ec2a0 + '\'>'+addy_text329a4fb
 0815da49de2c488b5e78ec2a0+'';
		)\n<a title="University of Lapland" href="h
 ttps://www.uarctic.org/member-profiles/finland/8868/university-of-lapland" 
 data-udi="umb://document/c811726c369b4fa2864bc03847df92c1">University of La
 pland</a> - Outi Rantala ( (mailto:outi.rantala@ulapland.fi)This email addr
 ess is being protected from spambots. You need JavaScript enabled to view i
 t.
				document.getElementById('cloak859c594ed9aa356608a9f49682f46deb').inn
 erHTML = '';
				var prefix = '&#109;a' + 'i&#108;' + '&#116;o';
				var pa
 th = 'hr' + 'ef' + '=';
				var addy859c594ed9aa356608a9f49682f46deb = '&#1
 11;&#117;t&#105;.r&#97;nt&#97;l&#97;' + '&#64;';
				addy859c594ed9aa356608
 a9f49682f46deb = addy859c594ed9aa356608a9f49682f46deb + '&#117;l&#97;pl&#97
 ;nd' + '&#46;' + 'f&#105;';
				var addy_text859c594ed9aa356608a9f49682f46d
 eb = '&#111;&#117;t&#105;.r&#97;nt&#97;l&#97;' + '&#64;' + '&#117;l&#97;pl&
 #97;nd' + '&#46;' + 'f&#105;';document.getElementById('cloak859c594ed9aa356
 608a9f49682f46deb').innerHTML += '<a ' + path + '\'' + prefix + ':' + addy8
 59c594ed9aa356608a9f49682f46deb + '\'>'+addy_text859c594ed9aa356608a9f49682
 f46deb+'';
		)\n<a title="University of Iceland" href="https://www.uarctic.
 org/member-profiles/iceland/8856/university-of-iceland" data-udi="umb://doc
 ument/0b8a2d77b8c74205affcf6e2eacd0c37">University of Iceland</a> – Hans We
 lling ( (mailto:hwelling@hi.is)This email address is being protected from s
 pambots. You need JavaScript enabled to view it.
				document.getElementByI
 d('cloak31c2134704eea491e4c969b530492d21').innerHTML = '';
				var prefix =
  '&#109;a' + 'i&#108;' + '&#116;o';
				var path = 'hr' + 'ef' + '=';
				v
 ar addy31c2134704eea491e4c969b530492d21 = 'hw&#101;ll&#105;ng' + '&#64;';
	
 			addy31c2134704eea491e4c969b530492d21 = addy31c2134704eea491e4c969b530492
 d21 + 'h&#105;' + '&#46;' + '&#105;s';
				var addy_text31c2134704eea491e4c
 969b530492d21 = 'hw&#101;ll&#105;ng' + '&#64;' + 'h&#105;' + '&#46;' + '&#1
 05;s';document.getElementById('cloak31c2134704eea491e4c969b530492d21').inne
 rHTML += '<a ' + path + '\'' + prefix + ':' + addy31c2134704eea491e4c969b53
 0492d21 + '\'>'+addy_text31c2134704eea491e4c969b530492d21+'';
		) \n<a titl
 e="Vancouver Island University" href="https://www.uarctic.org/member-profil
 es/canada/8926/vancouver-island-university" data-udi="umb://document/9c4c56
 b3cb024aa690d2646cf912480e">Vancouver Island University</a> – Suzanne de la
  Barre ( (mailto:suzanne.delabarre@viu.ca)This email address is being prote
 cted from spambots. You need JavaScript enabled to view it.
				document.ge
 tElementById('cloakde4ff019eac2251843c8dc5ded428101').innerHTML = '';
				v
 ar prefix = '&#109;a' + 'i&#108;' + '&#116;o';
				var path = 'hr' + 'ef' +
  '=';
				var addyde4ff019eac2251843c8dc5ded428101 = 's&#117;z&#97;nn&#101;
 .d&#101;l&#97;b&#97;rr&#101;' + '&#64;';
				addyde4ff019eac2251843c8dc5ded
 428101 = addyde4ff019eac2251843c8dc5ded428101 + 'v&#105;&#117;' + '&#46;' +
  'c&#97;';
				var addy_textde4ff019eac2251843c8dc5ded428101 = 's&#117;z&#9
 7;nn&#101;.d&#101;l&#97;b&#97;rr&#101;' + '&#64;' + 'v&#105;&#117;' + '&#46
 ;' + 'c&#97;';document.getElementById('cloakde4ff019eac2251843c8dc5ded42810
 1').innerHTML += '<a ' + path + '\'' + prefix + ':' + addyde4ff019eac225184
 3c8dc5ded428101 + '\'>'+addy_textde4ff019eac2251843c8dc5ded428101+'';
		)\n
 Further information about this course is available <a href="https://ugla.hi
 .is/kennsluskra/index.php?tab=nam&amp;chapter=namskeid&amp;id=70651520210&a
 mp;kennsluar=2020" target="_blank" rel="noopener" data-anchor="?tab=nam&amp
 ;chapter=namskeid&amp;id=70651520210&amp;kennsluar=2020">here</a>.\nThe cou
 rse is part of the UArctic Master's focus on Northern Tourism (https://www.
 uarctic.org/organization/thematic-networks/northern-tourism/northern-touris
 m-courses/), a sequence of three interdisciplinary courses related to the A
 rctic undertaken in an existing Master's degree.\n
X-ALT-DESC;FMTTYPE=text/html:<p>The course addresses tourism in the Arctic and Subarctic with an emphasi
 s on tourist's experience and the connections between tourism, host communi
 ties and landscapes. The course is part of a joint Master's focus offered b
 y the&nbsp;<a title="Northern Tourism" href="https://uarctic.us4.list-manag
 e.com/track/click?u=a5c8086829350b39209896233&amp;id=a2fbf0e4d5&amp;e=3a39d
 d39f5" data-udi="umb://document/930823c48cb6444e88cda23154a5338f">UArctic T
 hematic Network on Northern Tourism</a>.&nbsp;</p><div class="article-body"
 ><p>Issues to be dealt with include tourist and host encounters, and cultur
 al and environmental change and the role of northern landscapes in tourist 
 experiences. Instruction is based on research grounded in different theoret
 ical approaches and presenting diverse cases.</p><p>At the end of the cours
 e the students will be able to</p><ul><li>Describe the main characteristics
  of tourism in the Circumpolar North</li><li>Compare tourism in the Circump
 olar North and in other regions</li><li>Apply theoretical concepts to descr
 ibe tourist's experiences and analyze their performances</li><li>Apply rele
 vant theoretical concepts to analyze tourist's performances</li><li>Assess 
 and critically discuss tourism development in different regions in the Circ
 umpolar North in relation to different groups of tourists and modes of trav
 el</li></ul><p><strong>Time and location</strong>: Spring 2020 <strong>(Mar
 ch 3 – May 5)</strong>. This online course is provided via the Moodle learn
 ing environment of University of Iceland.</p><p><strong>Admission requireme
 nts</strong>: Applicants must have a Bachelor's degree in tourism, social s
 cience, humanities, or business administration. Admission to the course by 
 students from universities which do not participate in this course may be r
 estricted. For more information, please contact the course coordinator (<sp
 an id="cloak254c29c9c259a4cd38d8aa4020dc91a0"><a href="mailto:hwelling@hi.i
 s"></a><span id="cloak4e4037d0eb1a5e098fe72b1574518d63">This email address 
 is being protected from spambots. You need JavaScript enabled to view it.</
 span><script type='text/javascript'>
				document.getElementById('cloak4e40
 37d0eb1a5e098fe72b1574518d63').innerHTML = '';
				var prefix = '&#109;a' +
  'i&#108;' + '&#116;o';
				var path = 'hr' + 'ef' + '=';
				var addy4e403
 7d0eb1a5e098fe72b1574518d63 = 'hw&#101;ll&#105;ng' + '&#64;';
				addy4e403
 7d0eb1a5e098fe72b1574518d63 = addy4e4037d0eb1a5e098fe72b1574518d63 + 'h&#10
 5;' + '&#46;' + '&#105;s';
				var addy_text4e4037d0eb1a5e098fe72b1574518d6
 3 = 'hw&#101;ll&#105;ng' + '&#64;' + 'h&#105;' + '&#46;' + '&#105;s';docume
 nt.getElementById('cloak4e4037d0eb1a5e098fe72b1574518d63').innerHTML += '<a
  ' + path + '\'' + prefix + ':' + addy4e4037d0eb1a5e098fe72b1574518d63 + '\
 '>'+addy_text4e4037d0eb1a5e098fe72b1574518d63+'<\/a>';
		</script></span>).
 </p><p><strong>Applying for the course</strong>: The coordinators of the pa
 rticipating universities should nominate their students for this course by 
 email to Sigríður Sif Magnúsdóttir (<span id="cloak52b504c541aa6ae32b36c9cc
 2d717885"><a href="mailto:siggasif@hi.is"></a><span id="cloakccdfe7732dfcd0
 96e3efde93d97a62e5">This email address is being protected from spambots. Yo
 u need JavaScript enabled to view it.</span><script type='text/javascript'>
 
				document.getElementById('cloakccdfe7732dfcd096e3efde93d97a62e5').inner
 HTML = '';
				var prefix = '&#109;a' + 'i&#108;' + '&#116;o';
				var path
  = 'hr' + 'ef' + '=';
				var addyccdfe7732dfcd096e3efde93d97a62e5 = 's&#10
 5;gg&#97;s&#105;f' + '&#64;';
				addyccdfe7732dfcd096e3efde93d97a62e5 = ad
 dyccdfe7732dfcd096e3efde93d97a62e5 + 'h&#105;' + '&#46;' + '&#105;s';
				v
 ar addy_textccdfe7732dfcd096e3efde93d97a62e5 = 's&#105;gg&#97;s&#105;f' + '
 &#64;' + 'h&#105;' + '&#46;' + '&#105;s';document.getElementById('cloakccdf
 e7732dfcd096e3efde93d97a62e5').innerHTML += '<a ' + path + '\'' + prefix + 
 ':' + addyccdfe7732dfcd096e3efde93d97a62e5 + '\'>'+addy_textccdfe7732dfcd09
 6e3efde93d97a62e5+'<\/a>';
		</script></span>). Last nomination day is <str
 ong>February 3, 2020</strong>.</p><p>Together with nominations the followin
 g information needs to be provided by the home department/student:</p><p>1.
  Confirmation from home department of registration in MS studies<br />2. Co
 nfirmation from home department that the credits will be evaluated <br />3.
  Scanned copy of passport of student<br />4. Scanned certificate of a compl
 eted undergraduate degree</p><p><strong>Course coordinators of participatin
 g universities</strong>:</p><p><a title="Nipissing University" href="https:
 //www.uarctic.org/member-profiles/canada/35981/nipissing-university" data-u
 di="umb://document/67aa5e71eb1741e0a9bf7dd624842682">Nipissing University</
 a> - Patrick Maher (<span id="cloak71f534103c180326733f1e1ca5b56dd2"><a hre
 f="mailto:patmaher@nipissingu.ca"></a><span id="cloakcdd7d0e54ef8ea011461f5
 7ff0d464d1">This email address is being protected from spambots. You need J
 avaScript enabled to view it.</span><script type='text/javascript'>
				doc
 ument.getElementById('cloakcdd7d0e54ef8ea011461f57ff0d464d1').innerHTML = '
 ';
				var prefix = '&#109;a' + 'i&#108;' + '&#116;o';
				var path = 'hr' 
 + 'ef' + '=';
				var addycdd7d0e54ef8ea011461f57ff0d464d1 = 'p&#97;tm&#97;
 h&#101;r' + '&#64;';
				addycdd7d0e54ef8ea011461f57ff0d464d1 = addycdd7d0e
 54ef8ea011461f57ff0d464d1 + 'n&#105;p&#105;ss&#105;ng&#117;' + '&#46;' + 'c
 &#97;';
				var addy_textcdd7d0e54ef8ea011461f57ff0d464d1 = 'p&#97;tm&#97;h
 &#101;r' + '&#64;' + 'n&#105;p&#105;ss&#105;ng&#117;' + '&#46;' + 'c&#97;';
 document.getElementById('cloakcdd7d0e54ef8ea011461f57ff0d464d1').innerHTML 
 += '<a ' + path + '\'' + prefix + ':' + addycdd7d0e54ef8ea011461f57ff0d464d
 1 + '\'>'+addy_textcdd7d0e54ef8ea011461f57ff0d464d1+'<\/a>';
		</script></s
 pan>)<br /><a title="UiT The Arctic University of Norway" href="https://www
 .uarctic.org/member-profiles/norway/8922/uit-the-arctic-university-of-norwa
 y" data-udi="umb://document/867f059d2582452fbe0ad205f61d19b9">UiT the Arcti
 c University of Norway</a> - Bente Heimtun (<span id="cloak79e52d5932a4b25c
 1efeeb19b2defd19"><a href="mailto:bente.heimtun@uit.no"></a><span id="cloak
 13f798dc8c4c8d653b8340ef21fda2e1">This email address is being protected fro
 m spambots. You need JavaScript enabled to view it.</span><script type='tex
 t/javascript'>
				document.getElementById('cloak13f798dc8c4c8d653b8340ef21
 fda2e1').innerHTML = '';
				var prefix = '&#109;a' + 'i&#108;' + '&#116;o'
 ;
				var path = 'hr' + 'ef' + '=';
				var addy13f798dc8c4c8d653b8340ef21f
 da2e1 = 'b&#101;nt&#101;.h&#101;&#105;mt&#117;n' + '&#64;';
				addy13f798d
 c8c4c8d653b8340ef21fda2e1 = addy13f798dc8c4c8d653b8340ef21fda2e1 + '&#117;&
 #105;t' + '&#46;' + 'n&#111;';
				var addy_text13f798dc8c4c8d653b8340ef21f
 da2e1 = 'b&#101;nt&#101;.h&#101;&#105;mt&#117;n' + '&#64;' + '&#117;&#105;t
 ' + '&#46;' + 'n&#111;';document.getElementById('cloak13f798dc8c4c8d653b834
 0ef21fda2e1').innerHTML += '<a ' + path + '\'' + prefix + ':' + addy13f798d
 c8c4c8d653b8340ef21fda2e1 + '\'>'+addy_text13f798dc8c4c8d653b8340ef21fda2e1
 +'<\/a>';
		</script></span>) <br /><a title="Umeå University" href="https:
 //www.uarctic.org/member-profiles/sweden/8807/umea-university" data-udi="um
 b://document/e3b35330bb12414a8e6ad3051d1bfabe">Umeå University</a> - Doris 
 Carson (<span id="cloakb3962678e8d4144750a5dd430c3e7154"><a href="mailto:do
 ris.carson@umu.se"></a><span id="cloaka65377a8380715c0c11e2aba686ec370">Thi
 s email address is being protected from spambots. You need JavaScript enabl
 ed to view it.</span><script type='text/javascript'>
				document.getElemen
 tById('cloaka65377a8380715c0c11e2aba686ec370').innerHTML = '';
				var pref
 ix = '&#109;a' + 'i&#108;' + '&#116;o';
				var path = 'hr' + 'ef' + '=';
	
 			var addya65377a8380715c0c11e2aba686ec370 = 'd&#111;r&#105;s.c&#97;rs&#11
 1;n' + '&#64;';
				addya65377a8380715c0c11e2aba686ec370 = addya65377a83807
 15c0c11e2aba686ec370 + '&#117;m&#117;' + '&#46;' + 's&#101;';
				var addy_
 texta65377a8380715c0c11e2aba686ec370 = 'd&#111;r&#105;s.c&#97;rs&#111;n' + 
 '&#64;' + '&#117;m&#117;' + '&#46;' + 's&#101;';document.getElementById('cl
 oaka65377a8380715c0c11e2aba686ec370').innerHTML += '<a ' + path + '\'' + pr
 efix + ':' + addya65377a8380715c0c11e2aba686ec370 + '\'>'+addy_texta65377a8
 380715c0c11e2aba686ec370+'<\/a>';
		</script></span>)<br /><a title="Univer
 sity of Oulu" href="https://www.uarctic.org/member-profiles/finland/8878/un
 iversity-of-oulu" data-udi="umb://document/7a3ce2981fe849dd9e9e7aa72b5a6468
 ">University of Oulu</a> – Kaarina Tervo-Kankare (<span id="cloak594fbe54ad
 e56dff570068500d8e1160"><a href="mailto:kaarina.tervo-kankare@oulu.fi"></a>
 <span id="cloak329a4fb0815da49de2c488b5e78ec2a0">This email address is bein
 g protected from spambots. You need JavaScript enabled to view it.</span><s
 cript type='text/javascript'>
				document.getElementById('cloak329a4fb0815
 da49de2c488b5e78ec2a0').innerHTML = '';
				var prefix = '&#109;a' + 'i&#10
 8;' + '&#116;o';
				var path = 'hr' + 'ef' + '=';
				var addy329a4fb0815d
 a49de2c488b5e78ec2a0 = 'k&#97;&#97;r&#105;n&#97;.t&#101;rv&#111;-k&#97;nk&#
 97;r&#101;' + '&#64;';
				addy329a4fb0815da49de2c488b5e78ec2a0 = addy329a4
 fb0815da49de2c488b5e78ec2a0 + '&#111;&#117;l&#117;' + '&#46;' + 'f&#105;';

 				var addy_text329a4fb0815da49de2c488b5e78ec2a0 = 'k&#97;&#97;r&#105;n&#9
 7;.t&#101;rv&#111;-k&#97;nk&#97;r&#101;' + '&#64;' + '&#111;&#117;l&#117;' 
 + '&#46;' + 'f&#105;';document.getElementById('cloak329a4fb0815da49de2c488b
 5e78ec2a0').innerHTML += '<a ' + path + '\'' + prefix + ':' + addy329a4fb08
 15da49de2c488b5e78ec2a0 + '\'>'+addy_text329a4fb0815da49de2c488b5e78ec2a0+'
 <\/a>';
		</script></span>)<br /><a title="University of Lapland" href="htt
 ps://www.uarctic.org/member-profiles/finland/8868/university-of-lapland" da
 ta-udi="umb://document/c811726c369b4fa2864bc03847df92c1">University of Lapl
 and</a> - Outi Rantala (<span id="cloak8248f0112bf85fd70006a9c170bd4f06"><a
  href="mailto:outi.rantala@ulapland.fi"></a><span id="cloak859c594ed9aa3566
 08a9f49682f46deb">This email address is being protected from spambots. You 
 need JavaScript enabled to view it.</span><script type='text/javascript'>
	
 			document.getElementById('cloak859c594ed9aa356608a9f49682f46deb').innerHT
 ML = '';
				var prefix = '&#109;a' + 'i&#108;' + '&#116;o';
				var path =
  'hr' + 'ef' + '=';
				var addy859c594ed9aa356608a9f49682f46deb = '&#111;&
 #117;t&#105;.r&#97;nt&#97;l&#97;' + '&#64;';
				addy859c594ed9aa356608a9f4
 9682f46deb = addy859c594ed9aa356608a9f49682f46deb + '&#117;l&#97;pl&#97;nd'
  + '&#46;' + 'f&#105;';
				var addy_text859c594ed9aa356608a9f49682f46deb =
  '&#111;&#117;t&#105;.r&#97;nt&#97;l&#97;' + '&#64;' + '&#117;l&#97;pl&#97;
 nd' + '&#46;' + 'f&#105;';document.getElementById('cloak859c594ed9aa356608a
 9f49682f46deb').innerHTML += '<a ' + path + '\'' + prefix + ':' + addy859c5
 94ed9aa356608a9f49682f46deb + '\'>'+addy_text859c594ed9aa356608a9f49682f46d
 eb+'<\/a>';
		</script></span>)<br /><a title="University of Iceland" href=
 "https://www.uarctic.org/member-profiles/iceland/8856/university-of-iceland
 " data-udi="umb://document/0b8a2d77b8c74205affcf6e2eacd0c37">University of 
 Iceland</a> – Hans Welling (<span id="cloake668e3292b69210218461f55896043fd
 "><a href="mailto:hwelling@hi.is"></a><span id="cloak31c2134704eea491e4c969
 b530492d21">This email address is being protected from spambots. You need J
 avaScript enabled to view it.</span><script type='text/javascript'>
				doc
 ument.getElementById('cloak31c2134704eea491e4c969b530492d21').innerHTML = '
 ';
				var prefix = '&#109;a' + 'i&#108;' + '&#116;o';
				var path = 'hr' 
 + 'ef' + '=';
				var addy31c2134704eea491e4c969b530492d21 = 'hw&#101;ll&#1
 05;ng' + '&#64;';
				addy31c2134704eea491e4c969b530492d21 = addy31c2134704
 eea491e4c969b530492d21 + 'h&#105;' + '&#46;' + '&#105;s';
				var addy_text
 31c2134704eea491e4c969b530492d21 = 'hw&#101;ll&#105;ng' + '&#64;' + 'h&#105
 ;' + '&#46;' + '&#105;s';document.getElementById('cloak31c2134704eea491e4c9
 69b530492d21').innerHTML += '<a ' + path + '\'' + prefix + ':' + addy31c213
 4704eea491e4c969b530492d21 + '\'>'+addy_text31c2134704eea491e4c969b530492d2
 1+'<\/a>';
		</script></span>) <br /><a title="Vancouver Island University"
  href="https://www.uarctic.org/member-profiles/canada/8926/vancouver-island
 -university" data-udi="umb://document/9c4c56b3cb024aa690d2646cf912480e">Van
 couver Island University</a> – Suzanne de la Barre (<span id="cloakcb318b87
 935fccb8c7d8fa1cbcda79cd"><a href="mailto:suzanne.delabarre@viu.ca"></a><sp
 an id="cloakde4ff019eac2251843c8dc5ded428101">This email address is being p
 rotected from spambots. You need JavaScript enabled to view it.</span><scri
 pt type='text/javascript'>
				document.getElementById('cloakde4ff019eac225
 1843c8dc5ded428101').innerHTML = '';
				var prefix = '&#109;a' + 'i&#108;'
  + '&#116;o';
				var path = 'hr' + 'ef' + '=';
				var addyde4ff019eac2251
 843c8dc5ded428101 = 's&#117;z&#97;nn&#101;.d&#101;l&#97;b&#97;rr&#101;' + '
 &#64;';
				addyde4ff019eac2251843c8dc5ded428101 = addyde4ff019eac2251843c8
 dc5ded428101 + 'v&#105;&#117;' + '&#46;' + 'c&#97;';
				var addy_textde4ff
 019eac2251843c8dc5ded428101 = 's&#117;z&#97;nn&#101;.d&#101;l&#97;b&#97;rr&
 #101;' + '&#64;' + 'v&#105;&#117;' + '&#46;' + 'c&#97;';document.getElement
 ById('cloakde4ff019eac2251843c8dc5ded428101').innerHTML += '<a ' + path + '
 \'' + prefix + ':' + addyde4ff019eac2251843c8dc5ded428101 + '\'>'+addy_text
 de4ff019eac2251843c8dc5ded428101+'<\/a>';
		</script></span>)</p><p>Further
  information about this course is available <a href="https://ugla.hi.is/ken
 nsluskra/index.php?tab=nam&amp;chapter=namskeid&amp;id=70651520210&amp;kenn
 sluar=2020" target="_blank" rel="noopener" data-anchor="?tab=nam&amp;chapte
 r=namskeid&amp;id=70651520210&amp;kennsluar=2020">here</a>.</p><p>The cours
 e is part of the <a title="Northern Tourism Courses" href="https://www.uarc
 tic.org/organization/thematic-networks/northern-tourism/northern-tourism-co
 urses/" data-udi="umb://document/f48697f008a74518af04db9be426a5a2">UArctic 
 Master's focus on Northern Tourism</a>, a sequence of three interdisciplina
 ry courses related to the Arctic undertaken in an existing Master's degree.
 </p></div>
CONTACT:Sigríður Sif Magnúsdóttir (This email address is being protected from spambots. You need JavaScript enabled to view it.
				document.getElementById('cloak58f4c615435b1db2d5c737edaf1526e5').innerHTML = '';
				var prefix = '&#109;a' + 'i&#108;' + '&#116;o';
				var path = 'hr' + 'ef' + '=';
				var addy58f4c615435b1db2d5c737edaf1526e5 = 's&#105;gg&#97;s&#105;f' + '&#64;';
				addy58f4c615435b1db2d5c737edaf1526e5 = addy58f4c615435b1db2d5c737edaf1526e5 + 'h&#105;' + '&#46;' + '&#105;s';
				var addy_text58f4c615435b1db2d5c737edaf1526e5 = 's&#105;gg&#97;s&#105;f' + '&#64;' + 'h&#105;' + '&#46;' + '&#105;s';document.getElementById('cloak58f4c615435b1db2d5c737edaf1526e5').innerHTML += '<a ' + path + '\'' + prefix + ':' + addy58f4c615435b1db2d5c737edaf1526e5 + '\'>'+addy_text58f4c615435b1db2d5c737edaf1526e5+'';
		)
DTSTAMP:20260423T164936Z
DTSTART;TZID=UTC;VALUE=DATE:20200303
DTEND;TZID=UTC;VALUE=DATE:20200506
SEQUENCE:0
TRANSP:OPAQUE
END:VEVENT
END:VCALENDAR