BEGIN:VCALENDAR
VERSION:2.0
PRODID:-//jEvents 2.0 for Joomla//EN
CALSCALE:GREGORIAN
METHOD:PUBLISH
BEGIN:VEVENT
UID:b3752c03ba7e1034324680db3f69a6dd
CATEGORIES:Polar Conferences, Meetings and Events
CREATED:20200206T082834
SUMMARY:5th edition of the MSPforum - postponed
LOCATION:Athens\, Greece
DESCRIPTION:<p><strong>The MSP Forum will be postponed, please visit the event website 
 for additional information.</strong></p><p>&nbsp;</p><p>The MSPforum’s over
 arching objective is to empower a new generation of planners, sectors, busi
 nesses and civil society to identify solutions and commit to cross-sectoral
  actions to conserve our ocean and use its resources in a sustainable way.<
 /p><p>One of the actions of the joint MSP Roadmap adopted by&nbsp;UNESCO’s 
 Intergovernmental Oceanographic Commission and the Directorate-General for 
 Maritime Affairs and Fisheries of the European Commission (DG MARE) is to e
 stablish an international forum for discussion and exchange, offering concr
 ete examples and guidelines on how to apply Maritime/Marine Spatial Plannin
 g: the MSPforum.</p><p>This edition will provide a space to discuss and exc
 hange experiences, analyses and best practices on the management of marine 
 space through a sectoral approach focused on&nbsp;<strong>energy, aquacultu
 re, transportation and tourism</strong>.<br /><br />In addition to thematic
  plenaries and technical workshops, a full day will be dedicated to visitin
 g local stakeholders from the four sectors mentioned above,&nbsp;empowering
  participants to identify solutions and actions to conserve our ocean and u
 se its resources in a sustainable way.<br /><br />It is jointly organised b
 y UNESCO’s Intergovernmental Oceanographic Commission and European Commissi
 on’s&nbsp;Directorate-General for Maritime Affairs and Fisheries.</p><p>Mor
 e information on the <a href="http://www.mspglobal2030.org/msp-forum/">conf
 erence website</a>.</p><p>Application deadline: <strong>29 February</strong
 >.&nbsp;<a href="https://docs.google.com/forms/d/e/1FAIpQLSfU4txWAcZOMZRHTv
 2fyJVhEWwPI_913uT86xK-lzGRhK6boA/viewform">Apply here</a>!</p>
DTSTAMP:20260419T205014Z
DTSTART;TZID=UTC;VALUE=DATE:20200427
DTEND;TZID=UTC;VALUE=DATE:20200501
SEQUENCE:0
TRANSP:OPAQUE
END:VEVENT
END:VCALENDAR