BEGIN:VCALENDAR
VERSION:2.0
PRODID:-//jEvents 2.0 for Joomla//EN
CALSCALE:GREGORIAN
METHOD:PUBLISH
BEGIN:VEVENT
UID:09bf0733b45acd594cccd7ee24c36fcf
CATEGORIES:Polar Conferences, Meetings and Events
CREATED:20200310T145826
SUMMARY:GREENLAND-DENMARK 1721 + 300 = 2021 - postponed to 9-11 June 2021
LOCATION:Aalborg\, Denmark
DESCRIPTION:Due to the current covid-19 situation the conference has been postponed fro
 m January 2021 to 9-11 June 2021.\nAs we approach the year 2021, Greenland 
 and Denmark can look back at 300 years of colonization and resistance, cont
 inuous cultural encounters and relationship-building, cooperation and confl
 ict.Without doubt, media and public debate will intensify. We hope to contr
 ibute to making debates informed by research. Hence, we offer this conferen
 ce as a platform for panels presenting and discussing thematic and discipli
 nary evaluations, as well as on-going projects within the overall theme. Re
 ad more about the conference: https://www.en.cgs.aau.dk/research/conference
 s/greenland-denmark\n
X-ALT-DESC;FMTTYPE=text/html:<p><strong>Due to the current covid-19 situation the conference has been po
 stponed from January 2021 to 9-11 June 2021.</strong></p><p><span class="">
 As we approach the year 2021, Greenland and Denmark can look back at 300 ye
 ars of colonization and resistance, continuous cultural encounters and rela
 tionship-building, cooperation and conflict.<br class="" /><br class="" />W
 ithout doubt, media and public debate will intensify. We hope to contribute
  to making debates informed by research. Hence, we offer this conference as
  a platform for panels presenting and discussing thematic and disciplinary 
 evaluations, as well as on-going projects within the overall theme.<br clas
 s="" />&nbsp;<br class="" />Read more about the conference: <a href="https:
 //www.en.cgs.aau.dk/research/conferences/greenland-denmark">https://www.en.
 cgs.aau.dk/research/conferences/greenland-denmark</a></span><span class="">
 </span></p>
DTSTAMP:20260420T145333Z
DTSTART;TZID=UTC;VALUE=DATE:20210107
DTEND;TZID=UTC;VALUE=DATE:20210109
SEQUENCE:0
TRANSP:OPAQUE
END:VEVENT
END:VCALENDAR