BEGIN:VCALENDAR
VERSION:2.0
PRODID:-//jEvents 2.0 for Joomla//EN
CALSCALE:GREGORIAN
METHOD:PUBLISH
BEGIN:VEVENT
UID:1b9b0517fd1554299cb009ef8cc65298
CATEGORIES:Polar Conferences, Meetings and Events
CREATED:20200331T083955
SUMMARY:Conference for Young Marine Research (YOUMARES  2020)
LOCATION:Kiel\, Germany
DESCRIPTION:JOINING FORCES – Science, Tech, and PeopleYOUMARES 11 and Covid-19\nYOUMARE
 S embraces technology with a hybrid conference this year.\nA small physical
  event will be complemented by an online interactive streaming of sessions.
 \nDue to COVID-19, we ensure all participants of YOUMARES that the physical
  conference will take place with compliance to healthy and safety regulatio
 n.\n \nIn a world facing numerous environmental emergencies, the challenges
  for scientists and engineers to define problems and find solutions are bec
 oming increasingly urgent. We believe in the power of shared knowledge and 
 want to JOIN FORCES from the marine realm at this year’s YOUMARES 11 confer
 ence. No matter if you are a marine scientist, marine engineer, innovator i
 n the marine field, belonging to an NGO, a social scientist or an expert in
  marine governance and policy WE INVITE YOU to create an interdisciplinary 
 hotspot with us.\nThe conference for YOUng MArine RESearchers is an interna
 tional marine conference for early career scientists initiated by the Germa
 n Society for Marine Research (Deutsche Gesellschaft für Meeresforschung, D
 GM) in 2009.\nFurther information on: https://www.youmares.org\n\n (https:/
 /www.youmares.org)\n \n
X-ALT-DESC;FMTTYPE=text/html:<h3><strong>JOINING FORCES – Science, Tech, and People</strong></h3><p><str
 ong>YOUMARES 11 and Covid-19</strong></p><p class="gutentor-single-item-des
 c">YOUMARES embraces technology with a hybrid conference this year.</p><p>A
  small physical event will be complemented by an online interactive streami
 ng of sessions.</p><p>Due to COVID-19, we ensure all participants of YOUMAR
 ES that the physical conference will take place with compliance to healthy 
 and safety regulation.</p><p>&nbsp;</p><p>In a world facing numerous enviro
 nmental emergencies, the challenges for scientists and engineers to define 
 problems and find solutions are becoming increasingly urgent. We believe in
  the power of shared knowledge and want to JOIN FORCES from the marine real
 m at this year’s YOUMARES 11 conference. No matter if you are a marine scie
 ntist, marine engineer, innovator in the marine field, belonging to an NGO,
  a social scientist or an expert in marine governance and policy&nbsp;<stro
 ng>WE INVITE YOU&nbsp;</strong>to create an interdisciplinary hotspot with 
 us.</p><p>The conference for&nbsp;<strong>YOU</strong>ng&nbsp;<strong>MA</s
 trong>rine&nbsp;<strong>RES</strong>earchers is an international marine con
 ference for early career scientists initiated by the German Society for Mar
 ine Research (Deutsche Gesellschaft für Meeresforschung,&nbsp;<strong>DGM</
 strong>) in 2009.</p><p>Further information on:&nbsp;<a href="https://www.y
 oumares.org">https://www.youmares.org<br /><br /></a></p><p>&nbsp;</p>
DTSTAMP:20260419T185232Z
DTSTART;TZID=UTC;VALUE=DATE:20200915
DTEND;TZID=UTC;VALUE=DATE:20200919
SEQUENCE:0
TRANSP:OPAQUE
END:VEVENT
END:VCALENDAR