BEGIN:VCALENDAR
VERSION:2.0
PRODID:-//jEvents 2.0 for Joomla//EN
CALSCALE:GREGORIAN
METHOD:PUBLISH
BEGIN:VEVENT
UID:283847d8d14cd1d0c2cf2a36a6b3dde2
CATEGORIES:Polar Conferences, Meetings and Events
CREATED:20200331T084647
SUMMARY:Northeast Glaciology Meeting
LOCATION:University of Maine\, Orono\, ME\, USA
DESCRIPTION:As always, all are welcome to this informal meeting- the format will likely
  follow that of prior years with a focus on student research, building coll
 aborations and ideas, and discussing the future location(s) of the meeting.
  If you would like to continue receiving information on this event, please 
 sign up at this link:  (https://forms.gle/VqQXw45voD4wGgwW7)<a href="https:
 //forms.gle/VqQXw45voD4wGgwW7">https://forms.gle/VqQXw45voD4wGgwW7</a>\n
X-ALT-DESC;FMTTYPE=text/html:<p>As always, all are welcome to this informal meeting- the format will lik
 ely follow that of prior years with a focus on student research, building c
 ollaborations and ideas, and discussing the future location(s) of the meeti
 ng. If you would like to continue receiving information on this event, plea
 se sign up at this link:&nbsp;<a href="https://forms.gle/VqQXw45voD4wGgwW7"
  target="_blank" rel="noopener"></a><a href="https://forms.gle/VqQXw45voD4w
 GgwW7">https://forms.gle/VqQXw45voD4wGgwW7</a></p>
DTSTAMP:20260420T000427Z
DTSTART;TZID=UTC;VALUE=DATE:20200903
DTEND;TZID=UTC;VALUE=DATE:20200905
SEQUENCE:0
TRANSP:OPAQUE
END:VEVENT
END:VCALENDAR