BEGIN:VCALENDAR
VERSION:2.0
PRODID:-//jEvents 2.0 for Joomla//EN
CALSCALE:GREGORIAN
METHOD:PUBLISH
BEGIN:VEVENT
UID:7f70090d6f678b2e762a7edf2273e9db
CATEGORIES:Polar Conferences, Meetings and Events
CREATED:20200504T100836
SUMMARY:Virtual Conference: Covid-19 Impacts in the Arctic
DESCRIPTION:The U.S. Naval War College, the Wilson Center's Polar Institute, and the U.
 S. Arctic Research Commission invite registration for a virtual conference 
 about the impacts of COVID-19 in the Arctic. This conference will convene o
 nline 19-20 May 2020 via Zoom. For more information and to register, please
  visit the \nCOVID-19 threatens the Arctic region with new challenges to hu
 man life, economic prosperity, and the fabric of communities. Ongoing clima
 te and environmental change further compound the challenges facing Arctic c
 ommunities.\nIn light of these unprecedented, intersecting challenges, the 
 U.S. Naval War College, the Wilson Center's Polar Institute, and the U.S. A
 rctic Research Commission will co-host a virtual conference on the impacts 
 of COVID-19 in the Arctic. Over two days, the conference will feature a ser
 ies of panels focusing on Arctic community health, economic activities, U.S
 . Coast Guard Operations, scientific research, international impacts, and m
 ore. Speakers will include leading voices from Arctic communities, federal 
 and state agencies, academia, international entities, and the private secto
 r.\nFor questions, contact:\n Rebecca Pincus\n Email: <a href="https://www.
 arcus.org/sites/all/modules/civicrm/extern/url.php?u=22342&amp;qid=3848279"
  target="_blank" rel="noopener" data-saferedirecturl="https://www.google.co
 m/url?q=https://www.arcus.org/sites/all/modules/civicrm/extern/url.php?u%3D
 22342%26qid%3D3848279&amp;source=gmail&amp;ust=1588672236155000&amp;usg=AFQ
 jCNEcLjVfzUjWcuv_v4Dv-GADUysIPA"></a>This email address is being protected 
 from spambots. You need JavaScript enabled to view it.
				document.getElem
 entById('cloakec01ec2a4c8a2a5b2418fe24c5701eb3').innerHTML = '';
				var pr
 efix = '&#109;a' + 'i&#108;' + '&#116;o';
				var path = 'hr' + 'ef' + '=';
 
				var addyec01ec2a4c8a2a5b2418fe24c5701eb3 = 'R&#101;b&#101;cc&#97;.P&#1
 05;nc&#117;s' + '&#64;';
				addyec01ec2a4c8a2a5b2418fe24c5701eb3 = addyec0
 1ec2a4c8a2a5b2418fe24c5701eb3 + '&#117;snwc' + '&#46;' + '&#101;d&#117;';
	
 			var addy_textec01ec2a4c8a2a5b2418fe24c5701eb3 = 'R&#101;b&#101;cc&#97;.P
 &#105;nc&#117;s' + '&#64;' + '&#117;snwc' + '&#46;' + '&#101;d&#117;';docum
 ent.getElementById('cloakec01ec2a4c8a2a5b2418fe24c5701eb3').innerHTML += '<
 a ' + path + '\'' + prefix + ':' + addyec01ec2a4c8a2a5b2418fe24c5701eb3 + '
 \'>'+addy_textec01ec2a4c8a2a5b2418fe24c5701eb3+'';
		\n
X-ALT-DESC;FMTTYPE=text/html:<p>The U.S. Naval War College, the Wilson Center's Polar Institute, and the
  U.S. Arctic Research Commission <strong>invite registration for a virtual 
 conference about the impacts of COVID-19 in the Arctic</strong>. This confe
 rence will convene<strong> online 19-20 May 2020 via Zoom</strong>. For mor
 e information and to register, please visit the <a href="https://www.arcus.
 org/sites/all/modules/civicrm/extern/url.php?u=22341&amp;qid=3848279" targe
 t="_blank" rel="noopener" data-saferedirecturl="https://www.google.com/url?
 q=https://www.arcus.org/sites/all/modules/civicrm/extern/url.php?u%3D22341%
 26qid%3D3848279&amp;source=gmail&amp;ust=1588672236155000&amp;usg=AFQjCNGy0
 ndE8PPFVIGUCBn4ipJiM8uYfA">conference webpage.</a></p><p>COVID-19 threatens
  the Arctic region with new challenges to human life, economic prosperity, 
 and the fabric of communities. Ongoing climate and environmental change fur
 ther compound the challenges facing Arctic communities.</p><p>In light of t
 hese unprecedented, intersecting challenges, the U.S. Naval War College, th
 e Wilson Center's Polar Institute, and the U.S. Arctic Research Commission 
 will co-host a virtual conference on the impacts of COVID-19 in the Arctic.
  Over two days, the conference will feature a series of panels focusing on 
 Arctic community health, economic activities, U.S. Coast Guard Operations, 
 scientific research, international impacts, and more. Speakers will include
  leading voices from Arctic communities, federal and state agencies, academ
 ia, international entities, and the private sector.</p><p>For questions, co
 ntact:<br /> Rebecca Pincus<br /> Email: <a href="https://www.arcus.org/sit
 es/all/modules/civicrm/extern/url.php?u=22342&amp;qid=3848279" target="_bla
 nk" rel="noopener" data-saferedirecturl="https://www.google.com/url?q=https
 ://www.arcus.org/sites/all/modules/civicrm/extern/url.php?u%3D22342%26qid%3
 D3848279&amp;source=gmail&amp;ust=1588672236155000&amp;usg=AFQjCNEcLjVfzUjW
 cuv_v4Dv-GADUysIPA"></a><span id="cloakec01ec2a4c8a2a5b2418fe24c5701eb3">Th
 is email address is being protected from spambots. You need JavaScript enab
 led to view it.</span><script type='text/javascript'>
				document.getEleme
 ntById('cloakec01ec2a4c8a2a5b2418fe24c5701eb3').innerHTML = '';
				var pre
 fix = '&#109;a' + 'i&#108;' + '&#116;o';
				var path = 'hr' + 'ef' + '=';

 				var addyec01ec2a4c8a2a5b2418fe24c5701eb3 = 'R&#101;b&#101;cc&#97;.P&#10
 5;nc&#117;s' + '&#64;';
				addyec01ec2a4c8a2a5b2418fe24c5701eb3 = addyec01
 ec2a4c8a2a5b2418fe24c5701eb3 + '&#117;snwc' + '&#46;' + '&#101;d&#117;';
		
 		var addy_textec01ec2a4c8a2a5b2418fe24c5701eb3 = 'R&#101;b&#101;cc&#97;.P&
 #105;nc&#117;s' + '&#64;' + '&#117;snwc' + '&#46;' + '&#101;d&#117;';docume
 nt.getElementById('cloakec01ec2a4c8a2a5b2418fe24c5701eb3').innerHTML += '<a
  ' + path + '\'' + prefix + ':' + addyec01ec2a4c8a2a5b2418fe24c5701eb3 + '\
 '>'+addy_textec01ec2a4c8a2a5b2418fe24c5701eb3+'<\/a>';
		</script></p>
DTSTAMP:20260419T224730Z
DTSTART;TZID=UTC:20200519T080000
DTEND;TZID=UTC:20200520T170000
SEQUENCE:0
TRANSP:OPAQUE
END:VEVENT
END:VCALENDAR