BEGIN:VCALENDAR
VERSION:2.0
PRODID:-//jEvents 2.0 for Joomla//EN
CALSCALE:GREGORIAN
METHOD:PUBLISH
BEGIN:VEVENT
UID:f4cb197125cee315432f5271caa2b008
CATEGORIES:Polar Conferences, Meetings and Events
CREATED:20200602T083453
SUMMARY:IGS Global Seminar Series #8: "Recent glaciation on Mars: stubbornly cold-based or reluctantly wet-based?"
DESCRIPTION:IGS Global Seminar Series #8:\n\n THURSDAY June 11th, Dr Frances Butcher, S
 heffield University UK\n \n "Recent glaciation on Mars: stubbornly cold-bas
 ed or reluctantly wet-based?"\n \n Please register in advance for the semin
 ars - it seems that you can't register during the seminar itself, but if yo
 u have already registered you should be able to use the same link as last w
 eek (check and if it doesn't work just re-register). Once you have register
 ed please check the link (you should see the waiting room I think). Any iss
 ues drop me an email and I'll try and help. There's a short question to ans
 wer - please tell me enough to accept you! I'll be doing that manually, so 
 just be kind and make it obvious... (I'm a PhD student with X... or whateve
 r). Using your work email would make my life really easy. Any issues drop m
 e an email and I'll help if I can!\n \n  (https://swanseauniversity.zoom.us
 /meeting/register/tJUqfuirrzouG9C5Dj7FfLjpsy3cINaVRWK6)<a href="https://swa
 nseauniversity.zoom.us/meeting/register/tJUqfuirrzouG9C5Dj7FfLjpsy3cINaVRWK
 6">https://swanseauniversity.zoom.us/meeting/register/tJUqfuirrzouG9C5Dj7Ff
 Ljpsy3cINaVRWK6</a>\n \n After registering, you will receive a confirmation
  email containing information about joining the seminar.\n \n Seminar times
 :\n --------------------\n London - 9pm\n Europe - 10pm\n East Coast US - 4
 pm\n West Coast US - 1pm\n Delhi (+1) - 1.30am (sorry!)\n Tokyo (+1) - 5am\
 n Australia (+1) - 6am\n New Zealand (+1) - 8am\n \n The seminar will also 
 be available afterwards on the Friends of the International Glaciological S
 ociety Facebook page so that you can watch it there if technology fails or 
 you can't make it!\n \n \n The seminar will run right after the ICY-Quiz ho
 sted by the IGS EGG and EGU cryo team. Everyone is welcome, to join this vi
 rtual pub quiz. Teams of up to 5 people will be built to participate in the
  game, anyone who would like to sign up with friends or working group shoul
 d send a message to This email address is being protected from spambots. Yo
 u need JavaScript enabled to view it.
				document.getElementById('cloak105
 54d429f88ddef3d4d14df723ac1e9').innerHTML = '';
				var prefix = '&#109;a' 
 + 'i&#108;' + '&#116;o';
				var path = 'hr' + 'ef' + '=';
				var addy1055
 4d429f88ddef3d4d14df723ac1e9 = '&#101;gg' + '&#64;';
				addy10554d429f88dd
 ef3d4d14df723ac1e9 = addy10554d429f88ddef3d4d14df723ac1e9 + '&#105;gs&#111;
 c' + '&#46;' + '&#111;rg';
				var addy_text10554d429f88ddef3d4d14df723ac1e
 9 = '&#101;gg' + '&#64;' + '&#105;gs&#111;c' + '&#46;' + '&#111;rg';documen
 t.getElementById('cloak10554d429f88ddef3d4d14df723ac1e9').innerHTML += '<a 
 ' + path + '\'' + prefix + ':' + addy10554d429f88ddef3d4d14df723ac1e9 + '\'
 >'+addy_text10554d429f88ddef3d4d14df723ac1e9+'';
		.\n
X-ALT-DESC;FMTTYPE=text/html:<p>IGS Global Seminar Series #8:</p><p><br /> THURSDAY June 11th, Dr France
 s Butcher, Sheffield University UK<br /> <br /> "Recent glaciation on Mars:
  stubbornly cold-based or reluctantly wet-based?"<br /> <br /> Please regis
 ter in advance for the seminars - it seems that you can't register during t
 he seminar itself, but if you have already registered you should be able to
  use the same link as last week (check and if it doesn't work just re-regis
 ter). Once you have registered please check the link (you should see the wa
 iting room I think). Any issues drop me an email and I'll try and help. The
 re's a short question to answer - please tell me enough to accept you! I'll
  be doing that manually, so just be kind and make it obvious... (I'm a PhD 
 student with X... or whatever). Using your work email would make my life re
 ally easy. Any issues drop me an email and I'll help if I can!<br /> <br />
  <a href="https://swanseauniversity.zoom.us/meeting/register/tJUqfuirrzouG9
 C5Dj7FfLjpsy3cINaVRWK6" target="_blank" rel="noopener noreferrer" data-safe
 redirecturl="https://www.google.com/url?q=https://swanseauniversity.zoom.us
 /meeting/register/tJUqfuirrzouG9C5Dj7FfLjpsy3cINaVRWK6&amp;source=gmail&amp
 ;ust=1591773976429000&amp;usg=AFQjCNEntTyx-vRA4p8St-uSBQHPvTLRbw"></a><a hr
 ef="https://swanseauniversity.zoom.us/meeting/register/tJUqfuirrzouG9C5Dj7F
 fLjpsy3cINaVRWK6">https://swanseauniversity.zoom.us/meeting/register/tJUqfu
 irrzouG9C5Dj7FfLjpsy3cINaVRWK6</a><br /> <br /> After registering, you will
  receive a confirmation email containing information about joining the semi
 nar.<br /> <br /> Seminar times:<br /> --------------------<br /> London - 
 9pm<br /> Europe - 10pm<br /> East Coast US - 4pm<br /> West Coast US - 1pm
 <br /> Delhi (+1) - 1.30am (sorry!)<br /> Tokyo (+1) - 5am<br /> Australia 
 (+1) - 6am<br /> New Zealand (+1) - 8am<br /> <br /> The seminar will also 
 be available afterwards on the Friends of the International Glaciological S
 ociety Facebook page so that you can watch it there if technology fails or 
 you can't make it!<br /> <br /> <br /> The seminar will run right after the
  ICY-Quiz hosted by the IGS EGG and EGU cryo team. Everyone is welcome, to 
 join this virtual pub quiz. Teams of up to 5 people will be built to partic
 ipate in the game, anyone who would like to sign up with friends or working
  group should send a message to <span id="cloak10554d429f88ddef3d4d14df723a
 c1e9">This email address is being protected from spambots. You need JavaScr
 ipt enabled to view it.</span><script type='text/javascript'>
				document.
 getElementById('cloak10554d429f88ddef3d4d14df723ac1e9').innerHTML = '';
			
 	var prefix = '&#109;a' + 'i&#108;' + '&#116;o';
				var path = 'hr' + 'ef'
  + '=';
				var addy10554d429f88ddef3d4d14df723ac1e9 = '&#101;gg' + '&#64;'
 ;
				addy10554d429f88ddef3d4d14df723ac1e9 = addy10554d429f88ddef3d4d14df72
 3ac1e9 + '&#105;gs&#111;c' + '&#46;' + '&#111;rg';
				var addy_text10554d4
 29f88ddef3d4d14df723ac1e9 = '&#101;gg' + '&#64;' + '&#105;gs&#111;c' + '&#4
 6;' + '&#111;rg';document.getElementById('cloak10554d429f88ddef3d4d14df723a
 c1e9').innerHTML += '<a ' + path + '\'' + prefix + ':' + addy10554d429f88dd
 ef3d4d14df723ac1e9 + '\'>'+addy_text10554d429f88ddef3d4d14df723ac1e9+'<\/a>
 ';
		</script>.</p>
DTSTAMP:20260419T185218Z
DTSTART;TZID=UTC:20200610T080000
DTEND;TZID=UTC:20200610T170000
SEQUENCE:0
TRANSP:OPAQUE
END:VEVENT
END:VCALENDAR