BEGIN:VCALENDAR
VERSION:2.0
PRODID:-//jEvents 2.0 for Joomla//EN
CALSCALE:GREGORIAN
METHOD:PUBLISH
BEGIN:VEVENT
UID:7ae7c9035b0fe1300393d8054dd924f4
CATEGORIES:Polar Conferences, Meetings and Events
CREATED:20200604T070558
SUMMARY:3rd International Conference on Polar Climate and Environmental Change in the Last Millennium - postponed to 30  August - 1 September 2021
LOCATION:Toruń\, Poland
DESCRIPTION:We are sorry to announce that the 3rd International Conference on 'Polar Cl
 imate and Environmental Change in the Last Millennium' https://polarclimate
 2020.umk.pl/pages/main_page/ that was planned for 24-26 September 2020 has 
 been rescheduled to 30th August - 1st September 2021\n\n Furthermore, Impor
 tant dates https://polarclimate2020.umk.pl/pages/Important_dates/ were also
  postponed. \n\n Our decision was made in response to concerns about intern
 ational and domestic travel expressed by many of you, as well as the need t
 o protect attendees in high-risk categories. Our decision was also guided b
 y Nicolaus Copernicus University COVID-19 policies.\n\n Stay safe and healt
 hy.\n Cheers,\n polarclimate2020 Committee\n Rajmund Przybylak, Andrzej Ara
 źny, and Przemek Wyszyński\n
X-ALT-DESC;FMTTYPE=text/html:<p>We are sorry to announce that the 3rd International Conference on 'Polar
  Climate and Environmental Change in the Last Millennium' https://polarclim
 ate2020.umk.pl/pages/main_page/ that was planned for 24-26 September 2020 h
 as been rescheduled to <strong>3</strong><strong>0th August - 1st September
  2021</strong><br /><br /> Furthermore, Important dates <a href="https://po
 larclimate2020.umk.pl/pages/Important_dates/">https://polarclimate2020.umk.
 pl/pages/Important_dates/</a> were also postponed. <br /><br /> Our decisio
 n was made in response to concerns about international and domestic travel 
 expressed by many of you, as well as the need to protect attendees in high-
 risk categories. Our decision was also guided by Nicolaus Copernicus Univer
 sity COVID-19 policies.<br /><br /> Stay safe and healthy.<br /> Cheers,<br
  /> polarclimate2020 Committee<br /> Rajmund Przybylak, Andrzej Araźny, and
  Przemek Wyszyński</p>
CONTACT:Przemysław Wyszyński, Email: This email address is being protected from spambots. You need JavaScript enabled to view it.
				document.getElementById('cloakb78ef9a95ea1f855b6c0b109a59d7007').innerHTML = '';
				var prefix = '&#109;a' + 'i&#108;' + '&#116;o';
				var path = 'hr' + 'ef' + '=';
				var addyb78ef9a95ea1f855b6c0b109a59d7007 = 'p&#111;l&#97;rcl&#105;m&#97;t&#101;2020' + '&#64;';
				addyb78ef9a95ea1f855b6c0b109a59d7007 = addyb78ef9a95ea1f855b6c0b109a59d7007 + '&#117;mk' + '&#46;' + 'pl';
				var addy_textb78ef9a95ea1f855b6c0b109a59d7007 = 'p&#111;l&#97;rcl&#105;m&#97;t&#101;2020' + '&#64;' + '&#117;mk' + '&#46;' + 'pl';document.getElementById('cloakb78ef9a95ea1f855b6c0b109a59d7007').innerHTML += '<a ' + path + '\'' + prefix + ':' + addyb78ef9a95ea1f855b6c0b109a59d7007 + '\'>'+addy_textb78ef9a95ea1f855b6c0b109a59d7007+'';
		
DTSTAMP:20260420T000429Z
DTSTART;TZID=UTC;VALUE=DATE:20201123
DTEND;TZID=UTC;VALUE=DATE:20201126
SEQUENCE:0
TRANSP:OPAQUE
END:VEVENT
END:VCALENDAR