BEGIN:VCALENDAR
VERSION:2.0
PRODID:-//jEvents 2.0 for Joomla//EN
CALSCALE:GREGORIAN
METHOD:PUBLISH
BEGIN:VEVENT
UID:3ee54605a9eec26a7962b326b398826d
CATEGORIES:Polar Conferences, Meetings and Events
CREATED:20200615T070502
SUMMARY:Future Earth Summit 2020: Session on ''Engaging with Early Career Researchers''
DESCRIPTION:I am happy to invite you to participate at the Early Career Session which w
 e are organizing at the Future Earth Summit on Wednesday 17 June at 13.25 C
 EST. The aim of the session is to develop a shared understanding on how to 
 better involve ECRs in the Future Earth community. Please feel free to join
  us via the following link :  Wednesday 17 June 2020, 13.25 CESTFuture Eart
 h Summit: Engaging with Early Career Researchers (https://zoom.us/j/8488166
 004?pwd=STM2aldudUJ6czgxMVhneDlNcGUzdz09)<a href="https://zoom.us/j/8488166
 004?pwd=STM2aldudUJ6czgxMVhneDlNcGUzdz09">https://zoom.us/j/8488166004?pwd=
 STM2aldudUJ6czgxMVhneDlNcGUzdz09</a>
X-ALT-DESC;FMTTYPE=text/html:<div>I am happy to invite you to participate at the Early Career Session wh
 ich we are organizing at the Future Earth Summit on Wednesday 17 June at 13
 .25 CEST. The aim of the session is to develop a shared understanding on ho
 w to better involve ECRs in the Future Earth community. Please feel free to
  join us via the following link :&nbsp;</div><div>&nbsp;</div><div><em><str
 ong>Wednesday 17 June 2020, 13.25 CEST</strong></em></div><div><em><strong>
 Future Earth Summit: Engaging with Early Career Researchers</strong></em></
 div><div><a href="https://zoom.us/j/8488166004?pwd=STM2aldudUJ6czgxMVhneDlN
 cGUzdz09" target="_blank" rel="noopener" data-saferedirecturl="https://www.
 google.com/url?q=https://zoom.us/j/8488166004?pwd%3DSTM2aldudUJ6czgxMVhneDl
 NcGUzdz09&amp;source=gmail&amp;ust=1592291031650000&amp;usg=AFQjCNHNUwra6Sq
 kNSYP74GityNbVaHk_Q"></a><a href="https://zoom.us/j/8488166004?pwd=STM2aldu
 dUJ6czgxMVhneDlNcGUzdz09">https://zoom.us/j/8488166004?pwd=STM2aldudUJ6czgx
 MVhneDlNcGUzdz09</a></div>
DTSTAMP:20260420T123218Z
DTSTART;TZID=UTC:20200617T080000
DTEND;TZID=UTC:20200617T170000
SEQUENCE:0
TRANSP:OPAQUE
END:VEVENT
END:VCALENDAR