BEGIN:VCALENDAR
VERSION:2.0
PRODID:-//jEvents 2.0 for Joomla//EN
CALSCALE:GREGORIAN
METHOD:PUBLISH
BEGIN:VEVENT
UID:f2ceeb2546657b658df32704a3aae821
CATEGORIES:Polar Online Events
CREATED:20200625T121142
SUMMARY:50th Annual International Arctic Workshop
LOCATION:Online
DESCRIPTION:The workshop was postponed due to COVID-19 concerns. The new date for the w
 orkshop is 15 -17 April, 2021. Please visit the event website for additiona
 l information.\n\nNow, the 50th International Arctic Workshop will be held 
 virtually from the University of Colorado Boulder.\nThe Arctic Workshop is 
 open to all interested in high latitude environments, including those of th
 e past, present, and future. Talks and posters on all aspects of high latit
 ude science, social science, and engineering are invited, including climate
 , anthropology, atmospheric chemistry, engineering and infrastructure, envi
 ronmental geochemistry, paleoenvironment, sociology, archeology, geomorphol
 ogy, hydrology, glaciology, soils, ecology, oceanography, Quaternary histor
 y and more.  If you are studying high latitudes, this is the conference for
  you.\nMore information: https://instaar.colorado.edu/news-events/conferenc
 es/50th-international-arctic-workshop/\n
X-ALT-DESC;FMTTYPE=text/html:<p><strong>The workshop was postponed due to COVID-19 concerns.</strong> <s
 trong>The new date for the workshop is 15 -17 April, 2021. Please visit the
  event website for additional information.<br /></strong><br />Now, the&nbs
 p;50<sup>th</sup>&nbsp;International Arctic Workshop will be held virtually
  from the University of Colorado Boulder.</p><p>The Arctic Workshop is open
  to all interested in high latitude environments, including those of the pa
 st, present, and future. Talks and posters on all aspects of high latitude 
 science, social science, and engineering are invited, including climate, an
 thropology, atmospheric chemistry, engineering and infrastructure, environm
 ental geochemistry, paleoenvironment, sociology, archeology, geomorphology,
  hydrology, glaciology, soils, ecology, oceanography, Quaternary history an
 d more. &nbsp;If you are studying high latitudes, this is the conference fo
 r you.</p><p>More information:&nbsp;<a href="https://instaar.colorado.edu/n
 ews-events/conferences/50th-international-arctic-workshop/" title="https://
 instaar.colorado.edu/news-events/conferences/50th-international-arctic-work
 shop/">https://instaar.colorado.edu/news-events/conferences/50th-internatio
 nal-arctic-workshop/</a></p>
CONTACT:This email address is being protected from spambots. You need JavaScript enabled to view it.
				document.getElementById('cloak0d377a2be1b486b115b204a6af4a0cd8').innerHTML = '';
				var prefix = '&#109;a' + 'i&#108;' + '&#116;o';
				var path = 'hr' + 'ef' + '=';
				var addy0d377a2be1b486b115b204a6af4a0cd8 = 'Arct&#105;cWS' + '&#64;';
				addy0d377a2be1b486b115b204a6af4a0cd8 = addy0d377a2be1b486b115b204a6af4a0cd8 + 'c&#111;l&#111;r&#97;d&#111;' + '&#46;' + '&#101;d&#117;';
				var addy_text0d377a2be1b486b115b204a6af4a0cd8 = 'Arct&#105;cWS' + '&#64;' + 'c&#111;l&#111;r&#97;d&#111;' + '&#46;' + '&#101;d&#117;';document.getElementById('cloak0d377a2be1b486b115b204a6af4a0cd8').innerHTML += '<a ' + path + '\'' + prefix + ':' + addy0d377a2be1b486b115b204a6af4a0cd8 + '\'>'+addy_text0d377a2be1b486b115b204a6af4a0cd8+'';
		
DTSTAMP:20260420T112546Z
DTSTART;TZID=UTC;VALUE=DATE:20210415
DTEND;TZID=UTC;VALUE=DATE:20210418
SEQUENCE:0
TRANSP:OPAQUE
END:VEVENT
END:VCALENDAR